{"text_format":"1","workbook":"xlsx","n_sheets":10,"sheets":["Poročilo o izvedenem tekmovanju","ePrijava in Navodila","U11","U13","U15","U11-PI","U13-PI","Pravilnik","sodniki","clanice"],"not_rendered":{"charts":0,"images":0,"macros":1,"external_links":0,"defined_names":1,"comments":0,"pivot_tables":0},"unopened":[],"bounds":{"document_bytes":16777216,"sheet_cells":100000,"rows_first":2000,"rows_last":500,"rows_between":2000,"halvings":0,"cell_chars":16384,"cell_head_chars":4096},"cells_cut":0,"cells_raw":0,"read":"whole","date_system":"1900"}

{"sheet":"Poročilo o izvedenem tekmovanju","index":0,"n_rows":100,"n_cols":10,"rows_kept":100,"cut":false,"hidden":false,"merged":[[0,1,0,10],[2,1,2,10],[7,2,7,3],[7,7,7,8],[29,2,29,8],[7,5,7,6],[9,7,9,9],[17,2,17,9],[21,2,21,9],[5,2,5,9],[12,2,12,9],[13,2,13,9],[14,2,14,9],[15,2,15,9],[16,2,16,9],[18,2,18,9],[20,2,20,9],[19,2,19,9],[44,2,44,3],[35,2,35,8],[42,2,42,4],[39,2,39,9],[36,2,36,8]]}
[null,"ZAPISNIK"]
[]
[null,"o izvedenem tekmovanju v streljanju s serijsko zračno puško in zračno pištolo v Pokalu prijateljstva SZS"]
[]
[]
[null,"Izvajalec (društvo): ","Izberite iz seznama"]
[]
[null,"Datum:",null,null,null,"Pričetek ob:"]
[]
[null,"Streljalo se je na (število) : ",null,null,null,"elektronskih tarč",null,"stez z nosilci papirnatih tarč"]
[]
[]
[null,"Sodelujoča društva: ","Izberite iz seznama"]
[null,null,"Izberite iz seznama"]
[null,null,"Izberite iz seznama"]
[null,null,"Izberite iz seznama"]
[null,null,"Izberite iz seznama"]
[null,null,"Izberite iz seznama"]
[null,null,"Izberite iz seznama"]
[null,null,"Izberite iz seznama"]
[null,null,"Izberite iz seznama"]
[null,null,"Izberite iz seznama"]
[]
[null,"Posebnosti:"]
[]
[]
[]
[]
[]
[null,"Glavni sodnik : ","Izberite iz seznama"]
[]
[null,"potrjujem, da je tekmovanje izvedeno v skladu s Pravilnikom o tekmovanju za Pokal prijateljstva SZS. "]
[null,"Doseženi rezultati so resnični in pravilni."]
[]
[]
[null,"Sodnik:","Izberite iz seznama"]
[null,"Sodnik:","Izberite iz seznama"]
[]
[]
[null,"Vodja tekmovanja: "]
[]
[]
[null,"V (kraj):"]
[]
[null,"Datum:"]
[]
[]
[null,null,null,null,null,null,null,null,null,"Obr.: 01.10.2024"]
[]
[]
[]
[null,"OPOMNIK ZA IZVEDBO TEKMOVANJA"]
[]
[null,"Tekmovanje s serijsko zračno puško za Pokal prijateljstva SZS v kategorijah U11, U13 in U15 in z "]
[null,"zračno pištolo z naslonom za kategorije U11 in U13 se izvaja po regijah."]
[null,"Lahko se izvede na več streliščih, pogoj je, da sta prisotni vsaj dve društvi."]
[null,"Datume in izvajalce za posamezna društva  določi regijska komisija."]
[null,"Vsak izvajalec pošlje rezultate v excelu sam in se ne združujejo po regijah. Najkasneje  do 11.ure v soboto"]
[null,"v tednu tekme po koledarju tekmovanj se pošljejo po e-mailu na: rezultatiszs@gmail.com"]
[null,"Dokument se shrani pod imenom kratice izvajalca, datuma tekme in krog (SVE20241018-1.krog)"]
[]
[null,"Tekmovanje sodi sodnik z veljavno licenco. Organizator zagotovi pravila ISSF, Pravilnik o tekmovanju za"]
[null,"pokal prijateljstva SZS, štartno listo in morebiti pripravi seznam za elektronske tarče."]
[]
[null,"Prijava tekmovalcev"]
[null,"Odprta bo ePrijava.  Članice zveze svoje registrirane tekmovalce prijavijo do ustreznega datuma"]
[null,"preko ePrijave v ustrezno starostno kategorijo. Opozarjamo na pravilno prijavo, saj kasneje prehod "]
[null,"med starostnimi kategorijami ni dovoljen. Prav tako opozarjamo na najnižjo dovoljeno starost."]
[null,"Zelo pomembna je pravilna identifikacija z BIB, saj se ob morebiti ročno izpisani napačni številki rezultat"]
[null,"pripiše drugemu tekmovalcu. "]
[]
[null,"Tekmovalca, ki še ni registriran zabeležite v seznam \"ePrijava in Navodila\" ter mu določite začasno BIB z"]
[null,"vpisom tudi rojstnega podatka. Nastop takšnega tekmovalca je potrebno prijaviti organizatorju preko maila "]
[null,"zaradi izdelave časovnice. Neregistriran tekmovalec ima lahko samo dva nastopa, pred tretjim zaporednim "]
[null,"turnirjem  mora biti registriran sicer se briše iz skupnih rezultatov."]
[]
[null,"Izdelava štartne liste"]
[null,"Ob zaključku ePrijave vsak organizator iz spletne strani kopira vse prijavljene tekmovalce in jih prilepi v seznam "]
[null,"ePrijava in Navodila. Nato na seznamu, mogoče v stolpcu K v seznamu označi z \"1\" tekmovalce, ki bodo tekmovali "]
[null,"pri njemu, jih razvrsti in tako dobi vse na vrh liste. Nato določi skupino in strelsko mesto. "]
[]
[null,"Izpolnitev obrazca za rezultate"]
[null,"Po starostnih kategorijah se iz seznama kopira ali pripiše v seznam za rezultate samo BIB pri moških oz. ženskih "]
[null,"tekmovalcih (paziti, da je vpisan pod pravilni spol). Ostale podatke prenese samodejno, vpišemo samo še rezultate. Enako je"]
[null,"za ekipna tekmovanja. Vpiše se samo BIB tekmovalca, ki je v ekipi, ostalo samodejno."]
[null,"Pri ocenjevanju na elektronskih tarčah se vpišejo tudi nc*. Nc* se vpiše tudi pri papirnatih tarčah zračna pištola."]
[null,"Pri skupnem razvrščanju serijska zračna puška se bo pri izenačenju najprej upoštevala zadnja serija, saj jih veliko strelja še na papir."]
[null,"V kolikor tekmovalca nimate v seznamu ePrijava in Navodila ga ne morete vpisat v seznam za rezultate."]
[]
[]
[null,"Obstaja možnost, da se bo obrazec nadgrajeval, zato to spremljajte posodobitve  na spletu SZS v Obvestilih SZS"]
[null,"https://strelska-zveza.si/sl/informacije/55-obvestila-szs/323-drzavne-lige-z-zracnim-orozjem-2023-2024.html"]
[]
[null,"Z izpolnjenim seznamom rokujte v skladu z zakonom, saj vsebuje osebne podatke. Letnice rojstva se v "]
[null,"biltenih tekmovanj ne prikažejo, za izvajalca pa so pomembni zaradi razvrstitve v ustrezno kategorijo."]
[]
[null,"Rezultati (listki tiskalnika SIUS; pdf izpis rezultata elektronske tarče; papirnate tarče, časovnica...) se pri izvajalcu "]
[null,"arhivirajo zaradi potrebe po naknadni kontroli ali nadzoru."]
[]
[null,"Vodje ekip so dolžni pri organizatorju preveriti končne rezultate in pravilen vpis v ustrezno starostno  kategorijo ."]

{"sheet":"ePrijava in Navodila","index":1,"n_rows":34,"n_cols":26,"rows_kept":34,"cut":false,"hidden":false,"merged":[[0,3,0,9],[19,25,21,28],[4,25,17,28],[6,0,6,9],[6,11,6,12],[8,1,8,9],[8,11,8,12]]}
[null,null,null,"TEKMOVANJE:  POKAL PRIJATELJSTVA SZS"]
[null,null,null,null,null,"DATUM:"]
[null,null,null,null,null,"1. skupina"]
[null,null,null,null,null,"2.skupija"]
[null,null,null,null,null,"3.skupina",null,null,null,null,null,null,null,null,null,null,null,null,null,null,null,null,null,null,null,"OPOMNIK ZA VODENJE REZULTATOV V POKALU PRIJATELJSTVA. Vsi tekmovalci, ki bodo nastopili na tekmovanju morajo biti zabeleženi v tem seznamu, drugače jih ne morete prenesti v seznam za rezultate. Torej lahko se bo kopiralo iz ePrijave  ali pa se bodo ročno vpisali, kar pa odsvetujemo zaradi možnih napak in v tem primeru v skupnih rezultatih ne bo imel rezultata. Neregistriranega tekmovalca pa morate zabeležiti v seznam na koncu ter mu določiti začasno BIB številko, ki se prične s številko regije, kategorijo in zaporedno številko v seznamu (npr.2U1501, kjer pomeni 2-regija; U15-kategorija, 01-zaporedna številka v seznamu.  Kopiranje iz ePrijave (predhodno si pripravite seznam iz spleta, katerega lahko uporabite tudi za elektronske tarče in vodenje rezultatov). V ePrijavi na spletu označite vse celice in jih kopirajte v ta seznam v celico B13. Odznačite osenčeno funkcijo \"Prelomi besedilo\", da se vrstice poravnajo. Za tekmovalce, katere boste imeli na tekmovanju samo prenesete oz. vpišete BIB številke v zavihek ustrezne starostne kategorije v stolpec E. Za moške od vrstice 5, za ženska od vrstice 110. Tekmovalce društva, kateri nastopajo za ekipo društva pa evidentirate z vpisom BIB številke v stolpec R . Seznam prijavljenih lahko uporabite za SIUS vodenje, vendar se rezultati obvezno prepišejo na ta OBRAZEC EXCEL in SE POŠLJE NA MAIL :rezultatiszs@gmail.com"]
[null,null,null,null,null,"4.skupina"]
["ŠTARTNA LISTA",null,null,null,null,null,null,null,null,null,null,"TEKMA - STRELIŠČE"]
[]
[null,"podatki o prijavljenem tekmovalcu",null,null,null,null,null,null,null,null,null,"časovnica"]
[null,"štartna št. Bib","Priimek","ime","spol  M/Ž","letnica rojstva","kratica članice","ime članice","disciplina in kategorija","Ekipni nastop",null,"skupina","strelsko mesto"]
[]
[]
[]
[]
[]
[]
[]
[]
[]
[null,null,null,null,null,null,null,null,null,null,null,null,null,null,null,null,null,null,null,null,null,null,null,null,null,"Obrazec bo objavljen na spletu SZS ( https://www.strelska-zveza.si/sl/informacije/55-obvestila-szs/366-drzavne-lige-z-zracnim-orozjem-2024-2025.html ) ter bo po potrebi ažuriran, zato pred vsakim krogom preverite datum izdaje. Obstaja možnost, da v seznam zabeležimo vse registrirane določenega letnika ali pa po izoblikovanju nastopajočih seznam le teh."]
[]
[]
[]
[]
[]
[null,null,null,null,null,null,null,null,null,null,null,null,null,null,null,null,null,null,null,null,null,null,null,null,null,"STAROSTNE KATEGORIJE:"]
[]
[null,null,null,null,null,null,null,null,null,null,null,null,null,null,null,null,null,null,null,null,null,null,null,null,null,"U11   letnik rojstva 2014 in 2015   (naslon)"]
[]
[null,null,null,null,null,null,null,null,null,null,null,null,null,null,null,null,null,null,null,null,null,null,null,null,null,"U13 letnik rojstva 2012 do 2015 (naslon)"]
[]
[null,null,null,null,null,null,null,null,null,null,null,null,null,null,null,null,null,null,null,null,null,null,null,null,null,"U15 letnik rojstva 2010 do 2012"]
[]
[null,null,null,null,null,null,null,null,null,null,null,null,null,null,null,null,null,null,null,null,null,null,null,null,null,"OPOMBA: letniki rojstva 2015 lahko pričnejo s tekmovanju 1.1.2025. V U15 ne smejo tekmovati mlajši od letnika 2012."]

{"sheet":"U11","index":2,"n_rows":149,"n_cols":27,"rows_kept":149,"cut":false,"hidden":false,"merged":[[0,18,2,37],[104,0,108,0],[104,1,108,1],[104,2,105,12],[0,2,0,12],[1,0,3,0],[1,1,3,1],[1,2,1,12],[103,4,103,5]]}
[null,null,"POKAL PRIJATELJSTVA SERIJSKA ZRAČNA PUŠKA - NASLON",null,null,null,null,null,null,null,null,null,null,null,null,null,null,null,"Iz evidence in zavihka ePrijava in Navodila se za tekmovalca v seznam za rezultate v stolpec E vpiše BIB številka pri \"moških\" od vrstice 5 dalje, za \"ženske\"pa od vrstice 110 dalje. Po vpisu BIB bo preneslo vse podatke v ta seznam, kjer se nato vpisujejo rezultati. Vpiše se rezultat serije v K in L  ter nc*. Prav tako se za upoštevanje rezultata ekipno vpišejo samo BIB številke v stolpcu R za vse tri člane ekipe, ki je lahko mešana. Prenos ostalih podatkov je samodejen.  Posamezno se lahko razvrsti, ekipno ostane nerazvrščeno. Dokument mora imeti omogočen makro."]
["mesto",null,"U11 (mlajši dečki)"]
[]
[null,null,"Priimek in ime","Roj.skrita","BIB","Društvo, klub","1. ser","2. ser","3. ser","4. ser","1. ser","2. ser","skupno","nc*"]
[1,null,{"$f":"IF(E5=\"\",\"\",VLOOKUP(E5,'ePrijava in Navodila'!$B$13:$H$164,2,FALSE) & \" \" & VLOOKUP(E5,'ePrijava in Navodila'!$B$13:$H$164,3,FALSE))","v":""},{"$f":"IF(E5=\"\",\"\",VLOOKUP(E5,'ePrijava in Navodila'!$B$13:$H$164,5,FALSE))","v":""},null,{"$f":"IF(E5=\"\",\"\",VLOOKUP(E5,'ePrijava in Navodila'!$B$13:$H$164,7,FALSE))","v":""},null,null,null,null,null,null,{"$f":"SUM(G5:L5)","v":0},null,null,null,null,null,"EKIPNO: "]
[2,null,{"$f":"IF(E6=\"\",\"\",VLOOKUP(E6,'ePrijava in Navodila'!$B$13:$H$164,2,FALSE) & \" \" & VLOOKUP(E6,'ePrijava in Navodila'!$B$13:$H$164,3,FALSE))","v":""},{"$f":"IF(E6=\"\",\"\",VLOOKUP(E6,'ePrijava in Navodila'!$B$13:$H$164,5,FALSE))","v":""},null,{"$f":"IF(E6=\"\",\"\",VLOOKUP(E6,'ePrijava in Navodila'!$B$13:$H$164,7,FALSE))","v":""},null,null,null,null,null,null,0]
[3,null,{"$f":"IF(E7=\"\",\"\",VLOOKUP(E7,'ePrijava in Navodila'!$B$13:$H$164,2,FALSE) & \" \" & VLOOKUP(E7,'ePrijava in Navodila'!$B$13:$H$164,3,FALSE))","v":""},{"$f":"IF(E7=\"\",\"\",VLOOKUP(E7,'ePrijava in Navodila'!$B$13:$H$164,5,FALSE))","v":""},null,{"$f":"IF(E7=\"\",\"\",VLOOKUP(E7,'ePrijava in Navodila'!$B$13:$H$164,7,FALSE))","v":""},null,null,null,null,null,null,0,null,null,null,null,null,{"$f":"IF(R9=\"\",\"\",VLOOKUP(R9,'ePrijava in Navodila'!$B$13:$H$164,7,FALSE))","v":""}]
[4,null,{"$f":"IF(E8=\"\",\"\",VLOOKUP(E8,'ePrijava in Navodila'!$B$13:$H$164,2,FALSE) & \" \" & VLOOKUP(E8,'ePrijava in Navodila'!$B$13:$H$164,3,FALSE))","v":""},{"$f":"IF(E8=\"\",\"\",VLOOKUP(E8,'ePrijava in Navodila'!$B$13:$H$164,5,FALSE))","v":""},null,{"$f":"IF(E8=\"\",\"\",VLOOKUP(E8,'ePrijava in Navodila'!$B$13:$H$164,7,FALSE))","v":""},null,null,null,null,null,null,0,null,null,null,null,"BIB","Priimek in ime","1. ser","2. ser","3. ser","4. ser","1. ser","2. ser","skupno","nc*"]
[5,null,{"$f":"IF(E9=\"\",\"\",VLOOKUP(E9,'ePrijava in Navodila'!$B$13:$H$164,2,FALSE) & \" \" & VLOOKUP(E9,'ePrijava in Navodila'!$B$13:$H$164,3,FALSE))","v":""},{"$f":"IF(E9=\"\",\"\",VLOOKUP(E9,'ePrijava in Navodila'!$B$13:$H$164,5,FALSE))","v":""},null,{"$f":"IF(E9=\"\",\"\",VLOOKUP(E9,'ePrijava in Navodila'!$B$13:$H$164,7,FALSE))","v":""},null,null,null,null,null,null,0,null,null,null,null,null,{"$f":"IF(R9=\"\",\"\",VLOOKUP(R9,'ePrijava in Navodila'!$B$13:$H$164,2,FALSE) & \" \" & VLOOKUP(R9,'ePrijava in Navodila'!$B$13:$H$164,3,FALSE))","v":""},{"$f":"IF(S9=\"\",\"\",VLOOKUP(S9,$C$5:$L$149,5,FALSE))","v":""},{"$f":"IF(S9=\"\",\"\",VLOOKUP(S9,$C$5:$L$149,6,FALSE))","v":""},{"$f":"IF(S9=\"\",\"\",VLOOKUP(S9,$C$5:$L$149,7,FALSE))","v":""},{"$f":"IF(S9=\"\",\"\",VLOOKUP(S9,$C$5:$L$149,8,FALSE))","v":""},{"$f":"IF(S9=\"\",\"\",VLOOKUP(S9,$C$5:$L$149,9,FALSE))","v":""},{"$f":"IF(S9=\"\",\"\",VLOOKUP(S9,$C$5:$L$149,10,FALSE))","v":""},{"$f":"SUM(T9:Y9)","v":0},{"$f":"IF(S9=\"\",\"\",VLOOKUP(S9,$C$5:$N$149,12,FALSE))","v":""}]
[6,null,{"$f":"IF(E10=\"\",\"\",VLOOKUP(E10,'ePrijava in Navodila'!$B$13:$H$164,2,FALSE) & \" \" & VLOOKUP(E10,'ePrijava in Navodila'!$B$13:$H$164,3,FALSE))","v":""},{"$f":"IF(E10=\"\",\"\",VLOOKUP(E10,'ePrijava in Navodila'!$B$13:$H$164,5,FALSE))","v":""},null,{"$f":"IF(E10=\"\",\"\",VLOOKUP(E10,'ePrijava in Navodila'!$B$13:$H$164,7,FALSE))","v":""},null,null,null,null,null,null,0,null,null,null,null,null,{"$f":"IF(R10=\"\",\"\",VLOOKUP(R10,'ePrijava in Navodila'!$B$13:$H$164,2,FALSE) & \" \" & VLOOKUP(R10,'ePrijava in Navodila'!$B$13:$H$164,3,FALSE))","v":""},{"$f":"IF(S10=\"\",\"\",VLOOKUP(S10,$C$5:$L$149,5,FALSE))","v":""},{"$f":"IF(S10=\"\",\"\",VLOOKUP(S10,$C$5:$L$149,6,FALSE))","v":""},{"$f":"IF(S10=\"\",\"\",VLOOKUP(S10,$C$5:$L$149,7,FALSE))","v":""},{"$f":"IF(S10=\"\",\"\",VLOOKUP(S10,$C$5:$L$149,8,FALSE))","v":""},{"$f":"IF(S10=\"\",\"\",VLOOKUP(S10,$C$5:$L$149,9,FALSE))","v":""},{"$f":"IF(S10=\"\",\"\",VLOOKUP(S10,$C$5:$L$149,10,FALSE))","v":""},{"$f":"SUM(T10:Y10)","v":0},{"$f":"IF(S10=\"\",\"\",VLOOKUP(S10,$C$5:$N$149,12,FALSE))","v":""}]
[7,null,{"$f":"IF(E11=\"\",\"\",VLOOKUP(E11,'ePrijava in Navodila'!$B$13:$H$164,2,FALSE) & \" \" & VLOOKUP(E11,'ePrijava in Navodila'!$B$13:$H$164,3,FALSE))","v":""},{"$f":"IF(E11=\"\",\"\",VLOOKUP(E11,'ePrijava in Navodila'!$B$13:$H$164,5,FALSE))","v":""},null,{"$f":"IF(E11=\"\",\"\",VLOOKUP(E11,'ePrijava in Navodila'!$B$13:$H$164,7,FALSE))","v":""},null,null,null,null,null,null,0,null,null,null,null,null,{"$f":"IF(R11=\"\",\"\",VLOOKUP(R11,'ePrijava in Navodila'!$B$13:$H$164,2,FALSE) & \" \" & VLOOKUP(R11,'ePrijava in Navodila'!$B$13:$H$164,3,FALSE))","v":""},{"$f":"IF(S11=\"\",\"\",VLOOKUP(S11,$C$5:$L$149,5,FALSE))","v":""},{"$f":"IF(S11=\"\",\"\",VLOOKUP(S11,$C$5:$L$149,6,FALSE))","v":""},{"$f":"IF(S11=\"\",\"\",VLOOKUP(S11,$C$5:$L$149,7,FALSE))","v":""},{"$f":"IF(S11=\"\",\"\",VLOOKUP(S11,$C$5:$L$149,8,FALSE))","v":""},{"$f":"IF(S11=\"\",\"\",VLOOKUP(S11,$C$5:$L$149,9,FALSE))","v":""},{"$f":"IF(S11=\"\",\"\",VLOOKUP(S11,$C$5:$L$149,10,FALSE))","v":""},{"$f":"SUM(T11:Y11)","v":0},{"$f":"IF(S11=\"\",\"\",VLOOKUP(S11,$C$5:$N$149,12,FALSE))","v":""}]
[8,null,{"$f":"IF(E12=\"\",\"\",VLOOKUP(E12,'ePrijava in Navodila'!$B$13:$H$164,2,FALSE) & \" \" & VLOOKUP(E12,'ePrijava in Navodila'!$B$13:$H$164,3,FALSE))","v":""},{"$f":"IF(E12=\"\",\"\",VLOOKUP(E12,'ePrijava in Navodila'!$B$13:$H$164,5,FALSE))","v":""},null,{"$f":"IF(E12=\"\",\"\",VLOOKUP(E12,'ePrijava in Navodila'!$B$13:$H$164,7,FALSE))","v":""},null,null,null,null,null,null,0,null,null,null,null,null,null,null,null,null,null,null,{"$f":"SUM(Y9:Y11)","v":0},{"$f":"SUM(Z9:Z11)","v":0},{"$f":"SUM(AA9:AA11)","v":0}]
[9,null,{"$f":"IF(E13=\"\",\"\",VLOOKUP(E13,'ePrijava in Navodila'!$B$13:$H$164,2,FALSE) & \" \" & VLOOKUP(E13,'ePrijava in Navodila'!$B$13:$H$164,3,FALSE))","v":""},{"$f":"IF(E13=\"\",\"\",VLOOKUP(E13,'ePrijava in Navodila'!$B$13:$H$164,5,FALSE))","v":""},null,{"$f":"IF(E13=\"\",\"\",VLOOKUP(E13,'ePrijava in Navodila'!$B$13:$H$164,7,FALSE))","v":""},null,null,null,null,null,null,0]
[10,null,{"$f":"IF(E14=\"\",\"\",VLOOKUP(E14,'ePrijava in Navodila'!$B$13:$H$164,2,FALSE) & \" \" & VLOOKUP(E14,'ePrijava in Navodila'!$B$13:$H$164,3,FALSE))","v":""},{"$f":"IF(E14=\"\",\"\",VLOOKUP(E14,'ePrijava in Navodila'!$B$13:$H$164,5,FALSE))","v":""},null,{"$f":"IF(E14=\"\",\"\",VLOOKUP(E14,'ePrijava in Navodila'!$B$13:$H$164,7,FALSE))","v":""},null,null,null,null,null,null,0]
[11,null,{"$f":"IF(E15=\"\",\"\",VLOOKUP(E15,'ePrijava in Navodila'!$B$13:$H$164,2,FALSE) & \" \" & VLOOKUP(E15,'ePrijava in Navodila'!$B$13:$H$164,3,FALSE))","v":""},{"$f":"IF(E15=\"\",\"\",VLOOKUP(E15,'ePrijava in Navodila'!$B$13:$H$164,5,FALSE))","v":""},null,{"$f":"IF(E15=\"\",\"\",VLOOKUP(E15,'ePrijava in Navodila'!$B$13:$H$164,7,FALSE))","v":""},null,null,null,null,null,null,0,null,null,null,null,null,{"$f":"IF(R17=\"\",\"\",VLOOKUP(R17,'ePrijava in Navodila'!$B$13:$H$164,7,FALSE))","v":""}]
[12,null,{"$f":"IF(E16=\"\",\"\",VLOOKUP(E16,'ePrijava in Navodila'!$B$13:$H$164,2,FALSE) & \" \" & VLOOKUP(E16,'ePrijava in Navodila'!$B$13:$H$164,3,FALSE))","v":""},{"$f":"IF(E16=\"\",\"\",VLOOKUP(E16,'ePrijava in Navodila'!$B$13:$H$164,5,FALSE))","v":""},null,{"$f":"IF(E16=\"\",\"\",VLOOKUP(E16,'ePrijava in Navodila'!$B$13:$H$164,7,FALSE))","v":""},null,null,null,null,null,null,0,null,null,null,null,"BIB","Priimek in ime","1. ser","2. ser","3. ser","4. ser","1. ser","2. ser","skupno","nc*"]
[13,null,{"$f":"IF(E17=\"\",\"\",VLOOKUP(E17,'ePrijava in Navodila'!$B$13:$H$164,2,FALSE) & \" \" & VLOOKUP(E17,'ePrijava in Navodila'!$B$13:$H$164,3,FALSE))","v":""},{"$f":"IF(E17=\"\",\"\",VLOOKUP(E17,'ePrijava in Navodila'!$B$13:$H$164,5,FALSE))","v":""},null,{"$f":"IF(E17=\"\",\"\",VLOOKUP(E17,'ePrijava in Navodila'!$B$13:$H$164,7,FALSE))","v":""},null,null,null,null,null,null,0,null,null,null,null,null,{"$f":"IF(R17=\"\",\"\",VLOOKUP(R17,'ePrijava in Navodila'!$B$13:$H$164,2,FALSE) & \" \" & VLOOKUP(R17,'ePrijava in Navodila'!$B$13:$H$164,3,FALSE))","v":""},{"$f":"IF(S17=\"\",\"\",VLOOKUP(S17,$C$5:$L$149,5,FALSE))","v":""},{"$f":"IF(S17=\"\",\"\",VLOOKUP(S17,$C$5:$L$149,6,FALSE))","v":""},{"$f":"IF(S17=\"\",\"\",VLOOKUP(S17,$C$5:$L$149,7,FALSE))","v":""},{"$f":"IF(S17=\"\",\"\",VLOOKUP(S17,$C$5:$L$149,8,FALSE))","v":""},{"$f":"IF(S17=\"\",\"\",VLOOKUP(S17,$C$5:$L$149,9,FALSE))","v":""},{"$f":"IF(S17=\"\",\"\",VLOOKUP(S17,$C$5:$L$149,10,FALSE))","v":""},{"$f":"SUM(T17:Y17)","v":0},{"$f":"IF(S17=\"\",\"\",VLOOKUP(S17,$C$5:$N$149,12,FALSE))","v":""}]
[14,null,{"$f":"IF(E18=\"\",\"\",VLOOKUP(E18,'ePrijava in Navodila'!$B$13:$H$164,2,FALSE) & \" \" & VLOOKUP(E18,'ePrijava in Navodila'!$B$13:$H$164,3,FALSE))","v":""},{"$f":"IF(E18=\"\",\"\",VLOOKUP(E18,'ePrijava in Navodila'!$B$13:$H$164,5,FALSE))","v":""},null,{"$f":"IF(E18=\"\",\"\",VLOOKUP(E18,'ePrijava in Navodila'!$B$13:$H$164,7,FALSE))","v":""},null,null,null,null,null,null,0,null,null,null,null,null,{"$f":"IF(R18=\"\",\"\",VLOOKUP(R18,'ePrijava in Navodila'!$B$13:$H$164,2,FALSE) & \" \" & VLOOKUP(R18,'ePrijava in Navodila'!$B$13:$H$164,3,FALSE))","v":""},{"$f":"IF(S18=\"\",\"\",VLOOKUP(S18,$C$5:$L$149,5,FALSE))","v":""},{"$f":"IF(S18=\"\",\"\",VLOOKUP(S18,$C$5:$L$149,6,FALSE))","v":""},{"$f":"IF(S18=\"\",\"\",VLOOKUP(S18,$C$5:$L$149,7,FALSE))","v":""},{"$f":"IF(S18=\"\",\"\",VLOOKUP(S18,$C$5:$L$149,8,FALSE))","v":""},{"$f":"IF(S18=\"\",\"\",VLOOKUP(S18,$C$5:$L$149,9,FALSE))","v":""},{"$f":"IF(S18=\"\",\"\",VLOOKUP(S18,$C$5:$L$149,10,FALSE))","v":""},{"$f":"SUM(T18:Y18)","v":0},{"$f":"IF(S18=\"\",\"\",VLOOKUP(S18,$C$5:$N$149,12,FALSE))","v":""}]
[15,null,{"$f":"IF(E19=\"\",\"\",VLOOKUP(E19,'ePrijava in Navodila'!$B$13:$H$164,2,FALSE) & \" \" & VLOOKUP(E19,'ePrijava in Navodila'!$B$13:$H$164,3,FALSE))","v":""},{"$f":"IF(E19=\"\",\"\",VLOOKUP(E19,'ePrijava in Navodila'!$B$13:$H$164,5,FALSE))","v":""},null,{"$f":"IF(E19=\"\",\"\",VLOOKUP(E19,'ePrijava in Navodila'!$B$13:$H$164,7,FALSE))","v":""},null,null,null,null,null,null,0,null,null,null,null,null,{"$f":"IF(R19=\"\",\"\",VLOOKUP(R19,'ePrijava in Navodila'!$B$13:$H$164,2,FALSE) & \" \" & VLOOKUP(R19,'ePrijava in Navodila'!$B$13:$H$164,3,FALSE))","v":""},{"$f":"IF(S19=\"\",\"\",VLOOKUP(S19,$C$5:$L$149,5,FALSE))","v":""},{"$f":"IF(S19=\"\",\"\",VLOOKUP(S19,$C$5:$L$149,6,FALSE))","v":""},{"$f":"IF(S19=\"\",\"\",VLOOKUP(S19,$C$5:$L$149,7,FALSE))","v":""},{"$f":"IF(S19=\"\",\"\",VLOOKUP(S19,$C$5:$L$149,8,FALSE))","v":""},{"$f":"IF(S19=\"\",\"\",VLOOKUP(S19,$C$5:$L$149,9,FALSE))","v":""},{"$f":"IF(S19=\"\",\"\",VLOOKUP(S19,$C$5:$L$149,10,FALSE))","v":""},{"$f":"SUM(T19:Y19)","v":0},{"$f":"IF(S19=\"\",\"\",VLOOKUP(S19,$C$5:$N$149,12,FALSE))","v":""}]
[16,null,{"$f":"IF(E20=\"\",\"\",VLOOKUP(E20,'ePrijava in Navodila'!$B$13:$H$164,2,FALSE) & \" \" & VLOOKUP(E20,'ePrijava in Navodila'!$B$13:$H$164,3,FALSE))","v":""},{"$f":"IF(E20=\"\",\"\",VLOOKUP(E20,'ePrijava in Navodila'!$B$13:$H$164,5,FALSE))","v":""},null,{"$f":"IF(E20=\"\",\"\",VLOOKUP(E20,'ePrijava in Navodila'!$B$13:$H$164,7,FALSE))","v":""},null,null,null,null,null,null,0,null,null,null,null,null,null,null,null,null,null,null,{"$f":"SUM(Y17:Y19)","v":0},{"$f":"SUM(Z17:Z19)","v":0},{"$f":"SUM(AA17:AA19)","v":0}]
[17,null,{"$f":"IF(E21=\"\",\"\",VLOOKUP(E21,'ePrijava in Navodila'!$B$13:$H$164,2,FALSE) & \" \" & VLOOKUP(E21,'ePrijava in Navodila'!$B$13:$H$164,3,FALSE))","v":""},{"$f":"IF(E21=\"\",\"\",VLOOKUP(E21,'ePrijava in Navodila'!$B$13:$H$164,5,FALSE))","v":""},null,{"$f":"IF(E21=\"\",\"\",VLOOKUP(E21,'ePrijava in Navodila'!$B$13:$H$164,7,FALSE))","v":""},null,null,null,null,null,null,0]
[18,null,{"$f":"IF(E22=\"\",\"\",VLOOKUP(E22,'ePrijava in Navodila'!$B$13:$H$164,2,FALSE) & \" \" & VLOOKUP(E22,'ePrijava in Navodila'!$B$13:$H$164,3,FALSE))","v":""},{"$f":"IF(E22=\"\",\"\",VLOOKUP(E22,'ePrijava in Navodila'!$B$13:$H$164,5,FALSE))","v":""},null,{"$f":"IF(E22=\"\",\"\",VLOOKUP(E22,'ePrijava in Navodila'!$B$13:$H$164,7,FALSE))","v":""},null,null,null,null,null,null,0]
[19,null,{"$f":"IF(E23=\"\",\"\",VLOOKUP(E23,'ePrijava in Navodila'!$B$13:$H$164,2,FALSE) & \" \" & VLOOKUP(E23,'ePrijava in Navodila'!$B$13:$H$164,3,FALSE))","v":""},{"$f":"IF(E23=\"\",\"\",VLOOKUP(E23,'ePrijava in Navodila'!$B$13:$H$164,5,FALSE))","v":""},null,{"$f":"IF(E23=\"\",\"\",VLOOKUP(E23,'ePrijava in Navodila'!$B$13:$H$164,7,FALSE))","v":""},null,null,null,null,null,null,0,null,null,null,null,null,{"$f":"IF(R25=\"\",\"\",VLOOKUP(R25,'ePrijava in Navodila'!$B$13:$H$164,7,FALSE))","v":""}]
[20,null,{"$f":"IF(E24=\"\",\"\",VLOOKUP(E24,'ePrijava in Navodila'!$B$13:$H$164,2,FALSE) & \" \" & VLOOKUP(E24,'ePrijava in Navodila'!$B$13:$H$164,3,FALSE))","v":""},{"$f":"IF(E24=\"\",\"\",VLOOKUP(E24,'ePrijava in Navodila'!$B$13:$H$164,5,FALSE))","v":""},null,{"$f":"IF(E24=\"\",\"\",VLOOKUP(E24,'ePrijava in Navodila'!$B$13:$H$164,7,FALSE))","v":""},null,null,null,null,null,null,0,null,null,null,null,"BIB","Priimek in ime","1. ser","2. ser","3. ser","4. ser","1. ser","2. ser","skupno","nc*"]
[21,null,{"$f":"IF(E25=\"\",\"\",VLOOKUP(E25,'ePrijava in Navodila'!$B$13:$H$164,2,FALSE) & \" \" & VLOOKUP(E25,'ePrijava in Navodila'!$B$13:$H$164,3,FALSE))","v":""},{"$f":"IF(E25=\"\",\"\",VLOOKUP(E25,'ePrijava in Navodila'!$B$13:$H$164,5,FALSE))","v":""},null,{"$f":"IF(E25=\"\",\"\",VLOOKUP(E25,'ePrijava in Navodila'!$B$13:$H$164,7,FALSE))","v":""},null,null,null,null,null,null,0,null,null,null,null,null,{"$f":"IF(R25=\"\",\"\",VLOOKUP(R25,'ePrijava in Navodila'!$B$13:$H$164,2,FALSE) & \" \" & VLOOKUP(R25,'ePrijava in Navodila'!$B$13:$H$164,3,FALSE))","v":""},{"$f":"IF(S25=\"\",\"\",VLOOKUP(S25,$C$5:$L$149,5,FALSE))","v":""},{"$f":"IF(S25=\"\",\"\",VLOOKUP(S25,$C$5:$L$149,6,FALSE))","v":""},{"$f":"IF(S25=\"\",\"\",VLOOKUP(S25,$C$5:$L$149,7,FALSE))","v":""},{"$f":"IF(S25=\"\",\"\",VLOOKUP(S25,$C$5:$L$149,8,FALSE))","v":""},{"$f":"IF(S25=\"\",\"\",VLOOKUP(S25,$C$5:$L$149,9,FALSE))","v":""},{"$f":"IF(S25=\"\",\"\",VLOOKUP(S25,$C$5:$L$149,10,FALSE))","v":""},{"$f":"SUM(T25:Y25)","v":0},{"$f":"IF(S25=\"\",\"\",VLOOKUP(S25,$C$5:$N$149,12,FALSE))","v":""}]
[22,null,{"$f":"IF(E26=\"\",\"\",VLOOKUP(E26,'ePrijava in Navodila'!$B$13:$H$164,2,FALSE) & \" \" & VLOOKUP(E26,'ePrijava in Navodila'!$B$13:$H$164,3,FALSE))","v":""},{"$f":"IF(E26=\"\",\"\",VLOOKUP(E26,'ePrijava in Navodila'!$B$13:$H$164,5,FALSE))","v":""},null,{"$f":"IF(E26=\"\",\"\",VLOOKUP(E26,'ePrijava in Navodila'!$B$13:$H$164,7,FALSE))","v":""},null,null,null,null,null,null,0,null,null,null,null,null,{"$f":"IF(R26=\"\",\"\",VLOOKUP(R26,'ePrijava in Navodila'!$B$13:$H$164,2,FALSE) & \" \" & VLOOKUP(R26,'ePrijava in Navodila'!$B$13:$H$164,3,FALSE))","v":""},{"$f":"IF(S26=\"\",\"\",VLOOKUP(S26,$C$5:$L$149,5,FALSE))","v":""},{"$f":"IF(S26=\"\",\"\",VLOOKUP(S26,$C$5:$L$149,6,FALSE))","v":""},{"$f":"IF(S26=\"\",\"\",VLOOKUP(S26,$C$5:$L$149,7,FALSE))","v":""},{"$f":"IF(S26=\"\",\"\",VLOOKUP(S26,$C$5:$L$149,8,FALSE))","v":""},{"$f":"IF(S26=\"\",\"\",VLOOKUP(S26,$C$5:$L$149,9,FALSE))","v":""},{"$f":"IF(S26=\"\",\"\",VLOOKUP(S26,$C$5:$L$149,10,FALSE))","v":""},{"$f":"SUM(T26:Y26)","v":0},{"$f":"IF(S26=\"\",\"\",VLOOKUP(S26,$C$5:$N$149,12,FALSE))","v":""}]
[23,null,{"$f":"IF(E27=\"\",\"\",VLOOKUP(E27,'ePrijava in Navodila'!$B$13:$H$164,2,FALSE) & \" \" & VLOOKUP(E27,'ePrijava in Navodila'!$B$13:$H$164,3,FALSE))","v":""},{"$f":"IF(E27=\"\",\"\",VLOOKUP(E27,'ePrijava in Navodila'!$B$13:$H$164,5,FALSE))","v":""},null,{"$f":"IF(E27=\"\",\"\",VLOOKUP(E27,'ePrijava in Navodila'!$B$13:$H$164,7,FALSE))","v":""},null,null,null,null,null,null,0,null,null,null,null,null,{"$f":"IF(R27=\"\",\"\",VLOOKUP(R27,'ePrijava in Navodila'!$B$13:$H$164,2,FALSE) & \" \" & VLOOKUP(R27,'ePrijava in Navodila'!$B$13:$H$164,3,FALSE))","v":""},{"$f":"IF(S27=\"\",\"\",VLOOKUP(S27,$C$5:$L$149,5,FALSE))","v":""},{"$f":"IF(S27=\"\",\"\",VLOOKUP(S27,$C$5:$L$149,6,FALSE))","v":""},{"$f":"IF(S27=\"\",\"\",VLOOKUP(S27,$C$5:$L$149,7,FALSE))","v":""},{"$f":"IF(S27=\"\",\"\",VLOOKUP(S27,$C$5:$L$149,8,FALSE))","v":""},{"$f":"IF(S27=\"\",\"\",VLOOKUP(S27,$C$5:$L$149,9,FALSE))","v":""},{"$f":"IF(S27=\"\",\"\",VLOOKUP(S27,$C$5:$L$149,10,FALSE))","v":""},{"$f":"SUM(T27:Y27)","v":0},{"$f":"IF(S27=\"\",\"\",VLOOKUP(S27,$C$5:$N$149,12,FALSE))","v":""}]
[24,null,{"$f":"IF(E28=\"\",\"\",VLOOKUP(E28,'ePrijava in Navodila'!$B$13:$H$164,2,FALSE) & \" \" & VLOOKUP(E28,'ePrijava in Navodila'!$B$13:$H$164,3,FALSE))","v":""},{"$f":"IF(E28=\"\",\"\",VLOOKUP(E28,'ePrijava in Navodila'!$B$13:$H$164,5,FALSE))","v":""},null,{"$f":"IF(E28=\"\",\"\",VLOOKUP(E28,'ePrijava in Navodila'!$B$13:$H$164,7,FALSE))","v":""},null,null,null,null,null,null,0,null,null,null,null,null,null,null,null,null,null,null,{"$f":"SUM(Y25:Y27)","v":0},{"$f":"SUM(Z25:Z27)","v":0},{"$f":"SUM(AA25:AA27)","v":0}]
[25,null,{"$f":"IF(E29=\"\",\"\",VLOOKUP(E29,'ePrijava in Navodila'!$B$13:$H$164,2,FALSE) & \" \" & VLOOKUP(E29,'ePrijava in Navodila'!$B$13:$H$164,3,FALSE))","v":""},{"$f":"IF(E29=\"\",\"\",VLOOKUP(E29,'ePrijava in Navodila'!$B$13:$H$164,5,FALSE))","v":""},null,{"$f":"IF(E29=\"\",\"\",VLOOKUP(E29,'ePrijava in Navodila'!$B$13:$H$164,7,FALSE))","v":""},null,null,null,null,null,null,0]
[26,null,{"$f":"IF(E30=\"\",\"\",VLOOKUP(E30,'ePrijava in Navodila'!$B$13:$H$164,2,FALSE) & \" \" & VLOOKUP(E30,'ePrijava in Navodila'!$B$13:$H$164,3,FALSE))","v":""},{"$f":"IF(E30=\"\",\"\",VLOOKUP(E30,'ePrijava in Navodila'!$B$13:$H$164,5,FALSE))","v":""},null,{"$f":"IF(E30=\"\",\"\",VLOOKUP(E30,'ePrijava in Navodila'!$B$13:$H$164,7,FALSE))","v":""},null,null,null,null,null,null,0]
[27,null,{"$f":"IF(E31=\"\",\"\",VLOOKUP(E31,'ePrijava in Navodila'!$B$13:$H$164,2,FALSE) & \" \" & VLOOKUP(E31,'ePrijava in Navodila'!$B$13:$H$164,3,FALSE))","v":""},{"$f":"IF(E31=\"\",\"\",VLOOKUP(E31,'ePrijava in Navodila'!$B$13:$H$164,5,FALSE))","v":""},null,{"$f":"IF(E31=\"\",\"\",VLOOKUP(E31,'ePrijava in Navodila'!$B$13:$H$164,7,FALSE))","v":""},null,null,null,null,null,null,0,null,null,null,null,null,{"$f":"IF(R33=\"\",\"\",VLOOKUP(R33,'ePrijava in Navodila'!$B$13:$H$164,7,FALSE))","v":""}]
[28,null,{"$f":"IF(E32=\"\",\"\",VLOOKUP(E32,'ePrijava in Navodila'!$B$13:$H$164,2,FALSE) & \" \" & VLOOKUP(E32,'ePrijava in Navodila'!$B$13:$H$164,3,FALSE))","v":""},{"$f":"IF(E32=\"\",\"\",VLOOKUP(E32,'ePrijava in Navodila'!$B$13:$H$164,5,FALSE))","v":""},null,{"$f":"IF(E32=\"\",\"\",VLOOKUP(E32,'ePrijava in Navodila'!$B$13:$H$164,7,FALSE))","v":""},null,null,null,null,null,null,0,null,null,null,null,"BIB","Priimek in ime","1. ser","2. ser","3. ser","4. ser","1. ser","2. ser","skupno","nc*"]
[29,null,{"$f":"IF(E33=\"\",\"\",VLOOKUP(E33,'ePrijava in Navodila'!$B$13:$H$164,2,FALSE) & \" \" & VLOOKUP(E33,'ePrijava in Navodila'!$B$13:$H$164,3,FALSE))","v":""},{"$f":"IF(E33=\"\",\"\",VLOOKUP(E33,'ePrijava in Navodila'!$B$13:$H$164,5,FALSE))","v":""},null,{"$f":"IF(E33=\"\",\"\",VLOOKUP(E33,'ePrijava in Navodila'!$B$13:$H$164,7,FALSE))","v":""},null,null,null,null,null,null,0,null,null,null,null,null,{"$f":"IF(R33=\"\",\"\",VLOOKUP(R33,'ePrijava in Navodila'!$B$13:$H$164,2,FALSE) & \" \" & VLOOKUP(R33,'ePrijava in Navodila'!$B$13:$H$164,3,FALSE))","v":""},{"$f":"IF(S33=\"\",\"\",VLOOKUP(S33,$C$5:$L$149,5,FALSE))","v":""},{"$f":"IF(S33=\"\",\"\",VLOOKUP(S33,$C$5:$L$149,6,FALSE))","v":""},{"$f":"IF(S33=\"\",\"\",VLOOKUP(S33,$C$5:$L$149,7,FALSE))","v":""},{"$f":"IF(S33=\"\",\"\",VLOOKUP(S33,$C$5:$L$149,8,FALSE))","v":""},{"$f":"IF(S33=\"\",\"\",VLOOKUP(S33,$C$5:$L$149,9,FALSE))","v":""},{"$f":"IF(S33=\"\",\"\",VLOOKUP(S33,$C$5:$L$149,10,FALSE))","v":""},{"$f":"SUM(T33:Y33)","v":0},{"$f":"IF(S33=\"\",\"\",VLOOKUP(S33,$C$5:$N$149,12,FALSE))","v":""}]
[30,null,{"$f":"IF(E34=\"\",\"\",VLOOKUP(E34,'ePrijava in Navodila'!$B$13:$H$164,2,FALSE) & \" \" & VLOOKUP(E34,'ePrijava in Navodila'!$B$13:$H$164,3,FALSE))","v":""},{"$f":"IF(E34=\"\",\"\",VLOOKUP(E34,'ePrijava in Navodila'!$B$13:$H$164,5,FALSE))","v":""},null,{"$f":"IF(E34=\"\",\"\",VLOOKUP(E34,'ePrijava in Navodila'!$B$13:$H$164,7,FALSE))","v":""},null,null,null,null,null,null,0,null,null,null,null,null,{"$f":"IF(R34=\"\",\"\",VLOOKUP(R34,'ePrijava in Navodila'!$B$13:$H$164,2,FALSE) & \" \" & VLOOKUP(R34,'ePrijava in Navodila'!$B$13:$H$164,3,FALSE))","v":""},{"$f":"IF(S34=\"\",\"\",VLOOKUP(S34,$C$5:$L$149,5,FALSE))","v":""},{"$f":"IF(S34=\"\",\"\",VLOOKUP(S34,$C$5:$L$149,6,FALSE))","v":""},{"$f":"IF(S34=\"\",\"\",VLOOKUP(S34,$C$5:$L$149,7,FALSE))","v":""},{"$f":"IF(S34=\"\",\"\",VLOOKUP(S34,$C$5:$L$149,8,FALSE))","v":""},{"$f":"IF(S34=\"\",\"\",VLOOKUP(S34,$C$5:$L$149,9,FALSE))","v":""},{"$f":"IF(S34=\"\",\"\",VLOOKUP(S34,$C$5:$L$149,10,FALSE))","v":""},{"$f":"SUM(T34:Y34)","v":0},{"$f":"IF(S34=\"\",\"\",VLOOKUP(S34,$C$5:$N$149,12,FALSE))","v":""}]
[31,null,{"$f":"IF(E35=\"\",\"\",VLOOKUP(E35,'ePrijava in Navodila'!$B$13:$H$164,2,FALSE) & \" \" & VLOOKUP(E35,'ePrijava in Navodila'!$B$13:$H$164,3,FALSE))","v":""},{"$f":"IF(E35=\"\",\"\",VLOOKUP(E35,'ePrijava in Navodila'!$B$13:$H$164,5,FALSE))","v":""},null,{"$f":"IF(E35=\"\",\"\",VLOOKUP(E35,'ePrijava in Navodila'!$B$13:$H$164,7,FALSE))","v":""},null,null,null,null,null,null,0,null,null,null,null,null,{"$f":"IF(R35=\"\",\"\",VLOOKUP(R35,'ePrijava in Navodila'!$B$13:$H$164,2,FALSE) & \" \" & VLOOKUP(R35,'ePrijava in Navodila'!$B$13:$H$164,3,FALSE))","v":""},{"$f":"IF(S35=\"\",\"\",VLOOKUP(S35,$C$5:$L$149,5,FALSE))","v":""},{"$f":"IF(S35=\"\",\"\",VLOOKUP(S35,$C$5:$L$149,6,FALSE))","v":""},{"$f":"IF(S35=\"\",\"\",VLOOKUP(S35,$C$5:$L$149,7,FALSE))","v":""},{"$f":"IF(S35=\"\",\"\",VLOOKUP(S35,$C$5:$L$149,8,FALSE))","v":""},{"$f":"IF(S35=\"\",\"\",VLOOKUP(S35,$C$5:$L$149,9,FALSE))","v":""},{"$f":"IF(S35=\"\",\"\",VLOOKUP(S35,$C$5:$L$149,10,FALSE))","v":""},{"$f":"SUM(T35:Y35)","v":0},{"$f":"IF(S35=\"\",\"\",VLOOKUP(S35,$C$5:$N$149,12,FALSE))","v":""}]
[32,null,{"$f":"IF(E36=\"\",\"\",VLOOKUP(E36,'ePrijava in Navodila'!$B$13:$H$164,2,FALSE) & \" \" & VLOOKUP(E36,'ePrijava in Navodila'!$B$13:$H$164,3,FALSE))","v":""},{"$f":"IF(E36=\"\",\"\",VLOOKUP(E36,'ePrijava in Navodila'!$B$13:$H$164,5,FALSE))","v":""},null,{"$f":"IF(E36=\"\",\"\",VLOOKUP(E36,'ePrijava in Navodila'!$B$13:$H$164,7,FALSE))","v":""},null,null,null,null,null,null,0,null,null,null,null,null,null,null,null,null,null,null,{"$f":"SUM(Y33:Y35)","v":0},{"$f":"SUM(Z33:Z35)","v":0},{"$f":"SUM(AA33:AA35)","v":0}]
[33,null,{"$f":"IF(E37=\"\",\"\",VLOOKUP(E37,'ePrijava in Navodila'!$B$13:$H$164,2,FALSE) & \" \" & VLOOKUP(E37,'ePrijava in Navodila'!$B$13:$H$164,3,FALSE))","v":""},{"$f":"IF(E37=\"\",\"\",VLOOKUP(E37,'ePrijava in Navodila'!$B$13:$H$164,5,FALSE))","v":""},null,{"$f":"IF(E37=\"\",\"\",VLOOKUP(E37,'ePrijava in Navodila'!$B$13:$H$164,7,FALSE))","v":""},null,null,null,null,null,null,{"$f":"SUM(G37:L37)","v":0}]
[34,null,{"$f":"IF(E38=\"\",\"\",VLOOKUP(E38,'ePrijava in Navodila'!$B$13:$H$164,2,FALSE) & \" \" & VLOOKUP(E38,'ePrijava in Navodila'!$B$13:$H$164,3,FALSE))","v":""},{"$f":"IF(E38=\"\",\"\",VLOOKUP(E38,'ePrijava in Navodila'!$B$13:$H$164,5,FALSE))","v":""},null,{"$f":"IF(E38=\"\",\"\",VLOOKUP(E38,'ePrijava in Navodila'!$B$13:$H$164,7,FALSE))","v":""},null,null,null,null,null,null,0]
[35,null,{"$f":"IF(E39=\"\",\"\",VLOOKUP(E39,'ePrijava in Navodila'!$B$13:$H$164,2,FALSE) & \" \" & VLOOKUP(E39,'ePrijava in Navodila'!$B$13:$H$164,3,FALSE))","v":""},{"$f":"IF(E39=\"\",\"\",VLOOKUP(E39,'ePrijava in Navodila'!$B$13:$H$164,5,FALSE))","v":""},null,{"$f":"IF(E39=\"\",\"\",VLOOKUP(E39,'ePrijava in Navodila'!$B$13:$H$164,7,FALSE))","v":""},null,null,null,null,null,null,0,null,null,null,null,null,{"$f":"IF(R41=\"\",\"\",VLOOKUP(R41,'ePrijava in Navodila'!$B$13:$H$164,7,FALSE))","v":""}]
[36,null,{"$f":"IF(E40=\"\",\"\",VLOOKUP(E40,'ePrijava in Navodila'!$B$13:$H$164,2,FALSE) & \" \" & VLOOKUP(E40,'ePrijava in Navodila'!$B$13:$H$164,3,FALSE))","v":""},{"$f":"IF(E40=\"\",\"\",VLOOKUP(E40,'ePrijava in Navodila'!$B$13:$H$164,5,FALSE))","v":""},null,{"$f":"IF(E40=\"\",\"\",VLOOKUP(E40,'ePrijava in Navodila'!$B$13:$H$164,7,FALSE))","v":""},null,null,null,null,null,null,0,null,null,null,null,"BIB","Priimek in ime","1. ser","2. ser","3. ser","4. ser","1. ser","2. ser","skupno","nc*"]
[37,null,{"$f":"IF(E41=\"\",\"\",VLOOKUP(E41,'ePrijava in Navodila'!$B$13:$H$164,2,FALSE) & \" \" & VLOOKUP(E41,'ePrijava in Navodila'!$B$13:$H$164,3,FALSE))","v":""},{"$f":"IF(E41=\"\",\"\",VLOOKUP(E41,'ePrijava in Navodila'!$B$13:$H$164,5,FALSE))","v":""},null,{"$f":"IF(E41=\"\",\"\",VLOOKUP(E41,'ePrijava in Navodila'!$B$13:$H$164,7,FALSE))","v":""},null,null,null,null,null,null,0,null,null,null,null,null,{"$f":"IF(R41=\"\",\"\",VLOOKUP(R41,'ePrijava in Navodila'!$B$13:$H$164,2,FALSE) & \" \" & VLOOKUP(R41,'ePrijava in Navodila'!$B$13:$H$164,3,FALSE))","v":""},{"$f":"IF(S41=\"\",\"\",VLOOKUP(S41,$C$5:$L$149,5,FALSE))","v":""},{"$f":"IF(S41=\"\",\"\",VLOOKUP(S41,$C$5:$L$149,6,FALSE))","v":""},{"$f":"IF(S41=\"\",\"\",VLOOKUP(S41,$C$5:$L$149,7,FALSE))","v":""},{"$f":"IF(S41=\"\",\"\",VLOOKUP(S41,$C$5:$L$149,8,FALSE))","v":""},{"$f":"IF(S41=\"\",\"\",VLOOKUP(S41,$C$5:$L$149,9,FALSE))","v":""},{"$f":"IF(S41=\"\",\"\",VLOOKUP(S41,$C$5:$L$149,10,FALSE))","v":""},{"$f":"SUM(T41:Y41)","v":0},{"$f":"IF(S41=\"\",\"\",VLOOKUP(S41,$C$5:$N$149,12,FALSE))","v":""}]
[38,null,{"$f":"IF(E42=\"\",\"\",VLOOKUP(E42,'ePrijava in Navodila'!$B$13:$H$164,2,FALSE) & \" \" & VLOOKUP(E42,'ePrijava in Navodila'!$B$13:$H$164,3,FALSE))","v":""},{"$f":"IF(E42=\"\",\"\",VLOOKUP(E42,'ePrijava in Navodila'!$B$13:$H$164,5,FALSE))","v":""},null,{"$f":"IF(E42=\"\",\"\",VLOOKUP(E42,'ePrijava in Navodila'!$B$13:$H$164,7,FALSE))","v":""},null,null,null,null,null,null,0,null,null,null,null,null,{"$f":"IF(R42=\"\",\"\",VLOOKUP(R42,'ePrijava in Navodila'!$B$13:$H$164,2,FALSE) & \" \" & VLOOKUP(R42,'ePrijava in Navodila'!$B$13:$H$164,3,FALSE))","v":""},{"$f":"IF(S42=\"\",\"\",VLOOKUP(S42,$C$5:$L$149,5,FALSE))","v":""},{"$f":"IF(S42=\"\",\"\",VLOOKUP(S42,$C$5:$L$149,6,FALSE))","v":""},{"$f":"IF(S42=\"\",\"\",VLOOKUP(S42,$C$5:$L$149,7,FALSE))","v":""},{"$f":"IF(S42=\"\",\"\",VLOOKUP(S42,$C$5:$L$149,8,FALSE))","v":""},{"$f":"IF(S42=\"\",\"\",VLOOKUP(S42,$C$5:$L$149,9,FALSE))","v":""},{"$f":"IF(S42=\"\",\"\",VLOOKUP(S42,$C$5:$L$149,10,FALSE))","v":""},{"$f":"SUM(T42:Y42)","v":0},{"$f":"IF(S42=\"\",\"\",VLOOKUP(S42,$C$5:$N$149,12,FALSE))","v":""}]
[39,null,{"$f":"IF(E43=\"\",\"\",VLOOKUP(E43,'ePrijava in Navodila'!$B$13:$H$164,2,FALSE) & \" \" & VLOOKUP(E43,'ePrijava in Navodila'!$B$13:$H$164,3,FALSE))","v":""},{"$f":"IF(E43=\"\",\"\",VLOOKUP(E43,'ePrijava in Navodila'!$B$13:$H$164,5,FALSE))","v":""},null,{"$f":"IF(E43=\"\",\"\",VLOOKUP(E43,'ePrijava in Navodila'!$B$13:$H$164,7,FALSE))","v":""},null,null,null,null,null,null,0,null,null,null,null,null,{"$f":"IF(R43=\"\",\"\",VLOOKUP(R43,'ePrijava in Navodila'!$B$13:$H$164,2,FALSE) & \" \" & VLOOKUP(R43,'ePrijava in Navodila'!$B$13:$H$164,3,FALSE))","v":""},{"$f":"IF(S43=\"\",\"\",VLOOKUP(S43,$C$5:$L$149,5,FALSE))","v":""},{"$f":"IF(S43=\"\",\"\",VLOOKUP(S43,$C$5:$L$149,6,FALSE))","v":""},{"$f":"IF(S43=\"\",\"\",VLOOKUP(S43,$C$5:$L$149,7,FALSE))","v":""},{"$f":"IF(S43=\"\",\"\",VLOOKUP(S43,$C$5:$L$149,8,FALSE))","v":""},{"$f":"IF(S43=\"\",\"\",VLOOKUP(S43,$C$5:$L$149,9,FALSE))","v":""},{"$f":"IF(S43=\"\",\"\",VLOOKUP(S43,$C$5:$L$149,10,FALSE))","v":""},{"$f":"SUM(T43:Y43)","v":0},{"$f":"IF(S43=\"\",\"\",VLOOKUP(S43,$C$5:$N$149,12,FALSE))","v":""}]
[40,null,{"$f":"IF(E44=\"\",\"\",VLOOKUP(E44,'ePrijava in Navodila'!$B$13:$H$164,2,FALSE) & \" \" & VLOOKUP(E44,'ePrijava in Navodila'!$B$13:$H$164,3,FALSE))","v":""},{"$f":"IF(E44=\"\",\"\",VLOOKUP(E44,'ePrijava in Navodila'!$B$13:$H$164,5,FALSE))","v":""},null,{"$f":"IF(E44=\"\",\"\",VLOOKUP(E44,'ePrijava in Navodila'!$B$13:$H$164,7,FALSE))","v":""},null,null,null,null,null,null,0,null,null,null,null,null,null,null,null,null,null,null,{"$f":"SUM(Y41:Y43)","v":0},{"$f":"SUM(Z41:Z43)","v":0},{"$f":"SUM(AA41:AA43)","v":0}]
[41,null,{"$f":"IF(E45=\"\",\"\",VLOOKUP(E45,'ePrijava in Navodila'!$B$13:$H$164,2,FALSE) & \" \" & VLOOKUP(E45,'ePrijava in Navodila'!$B$13:$H$164,3,FALSE))","v":""},{"$f":"IF(E45=\"\",\"\",VLOOKUP(E45,'ePrijava in Navodila'!$B$13:$H$164,5,FALSE))","v":""},null,{"$f":"IF(E45=\"\",\"\",VLOOKUP(E45,'ePrijava in Navodila'!$B$13:$H$164,7,FALSE))","v":""},null,null,null,null,null,null,0]
[42,null,{"$f":"IF(E46=\"\",\"\",VLOOKUP(E46,'ePrijava in Navodila'!$B$13:$H$164,2,FALSE) & \" \" & VLOOKUP(E46,'ePrijava in Navodila'!$B$13:$H$164,3,FALSE))","v":""},{"$f":"IF(E46=\"\",\"\",VLOOKUP(E46,'ePrijava in Navodila'!$B$13:$H$164,5,FALSE))","v":""},null,{"$f":"IF(E46=\"\",\"\",VLOOKUP(E46,'ePrijava in Navodila'!$B$13:$H$164,7,FALSE))","v":""},null,null,null,null,null,null,0]
[43,null,{"$f":"IF(E47=\"\",\"\",VLOOKUP(E47,'ePrijava in Navodila'!$B$13:$H$164,2,FALSE) & \" \" & VLOOKUP(E47,'ePrijava in Navodila'!$B$13:$H$164,3,FALSE))","v":""},{"$f":"IF(E47=\"\",\"\",VLOOKUP(E47,'ePrijava in Navodila'!$B$13:$H$164,5,FALSE))","v":""},null,{"$f":"IF(E47=\"\",\"\",VLOOKUP(E47,'ePrijava in Navodila'!$B$13:$H$164,7,FALSE))","v":""},null,null,null,null,null,null,0,null,null,null,null,null,{"$f":"IF(R49=\"\",\"\",VLOOKUP(R49,'ePrijava in Navodila'!$B$13:$H$164,7,FALSE))","v":""}]
[44,null,{"$f":"IF(E48=\"\",\"\",VLOOKUP(E48,'ePrijava in Navodila'!$B$13:$H$164,2,FALSE) & \" \" & VLOOKUP(E48,'ePrijava in Navodila'!$B$13:$H$164,3,FALSE))","v":""},{"$f":"IF(E48=\"\",\"\",VLOOKUP(E48,'ePrijava in Navodila'!$B$13:$H$164,5,FALSE))","v":""},null,{"$f":"IF(E48=\"\",\"\",VLOOKUP(E48,'ePrijava in Navodila'!$B$13:$H$164,7,FALSE))","v":""},null,null,null,null,null,null,0,null,null,null,null,"BIB","Priimek in ime","1. ser","2. ser","3. ser","4. ser","1. ser","2. ser","skupno","nc*"]
[45,null,{"$f":"IF(E49=\"\",\"\",VLOOKUP(E49,'ePrijava in Navodila'!$B$13:$H$164,2,FALSE) & \" \" & VLOOKUP(E49,'ePrijava in Navodila'!$B$13:$H$164,3,FALSE))","v":""},{"$f":"IF(E49=\"\",\"\",VLOOKUP(E49,'ePrijava in Navodila'!$B$13:$H$164,5,FALSE))","v":""},null,{"$f":"IF(E49=\"\",\"\",VLOOKUP(E49,'ePrijava in Navodila'!$B$13:$H$164,7,FALSE))","v":""},null,null,null,null,null,null,0,null,null,null,null,null,{"$f":"IF(R49=\"\",\"\",VLOOKUP(R49,'ePrijava in Navodila'!$B$13:$H$164,2,FALSE) & \" \" & VLOOKUP(R49,'ePrijava in Navodila'!$B$13:$H$164,3,FALSE))","v":""},{"$f":"IF(S49=\"\",\"\",VLOOKUP(S49,$C$5:$L$149,5,FALSE))","v":""},{"$f":"IF(S49=\"\",\"\",VLOOKUP(S49,$C$5:$L$149,6,FALSE))","v":""},{"$f":"IF(S49=\"\",\"\",VLOOKUP(S49,$C$5:$L$149,7,FALSE))","v":""},{"$f":"IF(S49=\"\",\"\",VLOOKUP(S49,$C$5:$L$149,8,FALSE))","v":""},{"$f":"IF(S49=\"\",\"\",VLOOKUP(S49,$C$5:$L$149,9,FALSE))","v":""},{"$f":"IF(S49=\"\",\"\",VLOOKUP(S49,$C$5:$L$149,10,FALSE))","v":""},{"$f":"SUM(T49:Y49)","v":0},{"$f":"IF(S49=\"\",\"\",VLOOKUP(S49,$C$5:$N$149,12,FALSE))","v":""}]
[46,null,{"$f":"IF(E50=\"\",\"\",VLOOKUP(E50,'ePrijava in Navodila'!$B$13:$H$164,2,FALSE) & \" \" & VLOOKUP(E50,'ePrijava in Navodila'!$B$13:$H$164,3,FALSE))","v":""},{"$f":"IF(E50=\"\",\"\",VLOOKUP(E50,'ePrijava in Navodila'!$B$13:$H$164,5,FALSE))","v":""},null,{"$f":"IF(E50=\"\",\"\",VLOOKUP(E50,'ePrijava in Navodila'!$B$13:$H$164,7,FALSE))","v":""},null,null,null,null,null,null,0,null,null,null,null,null,{"$f":"IF(R50=\"\",\"\",VLOOKUP(R50,'ePrijava in Navodila'!$B$13:$H$164,2,FALSE) & \" \" & VLOOKUP(R50,'ePrijava in Navodila'!$B$13:$H$164,3,FALSE))","v":""},{"$f":"IF(S50=\"\",\"\",VLOOKUP(S50,$C$5:$L$149,5,FALSE))","v":""},{"$f":"IF(S50=\"\",\"\",VLOOKUP(S50,$C$5:$L$149,6,FALSE))","v":""},{"$f":"IF(S50=\"\",\"\",VLOOKUP(S50,$C$5:$L$149,7,FALSE))","v":""},{"$f":"IF(S50=\"\",\"\",VLOOKUP(S50,$C$5:$L$149,8,FALSE))","v":""},{"$f":"IF(S50=\"\",\"\",VLOOKUP(S50,$C$5:$L$149,9,FALSE))","v":""},{"$f":"IF(S50=\"\",\"\",VLOOKUP(S50,$C$5:$L$149,10,FALSE))","v":""},{"$f":"SUM(T50:Y50)","v":0},{"$f":"IF(S50=\"\",\"\",VLOOKUP(S50,$C$5:$N$149,12,FALSE))","v":""}]
[47,null,{"$f":"IF(E51=\"\",\"\",VLOOKUP(E51,'ePrijava in Navodila'!$B$13:$H$164,2,FALSE) & \" \" & VLOOKUP(E51,'ePrijava in Navodila'!$B$13:$H$164,3,FALSE))","v":""},{"$f":"IF(E51=\"\",\"\",VLOOKUP(E51,'ePrijava in Navodila'!$B$13:$H$164,5,FALSE))","v":""},null,{"$f":"IF(E51=\"\",\"\",VLOOKUP(E51,'ePrijava in Navodila'!$B$13:$H$164,7,FALSE))","v":""},null,null,null,null,null,null,0,null,null,null,null,null,{"$f":"IF(R51=\"\",\"\",VLOOKUP(R51,'ePrijava in Navodila'!$B$13:$H$164,2,FALSE) & \" \" & VLOOKUP(R51,'ePrijava in Navodila'!$B$13:$H$164,3,FALSE))","v":""},{"$f":"IF(S51=\"\",\"\",VLOOKUP(S51,$C$5:$L$149,5,FALSE))","v":""},{"$f":"IF(S51=\"\",\"\",VLOOKUP(S51,$C$5:$L$149,6,FALSE))","v":""},{"$f":"IF(S51=\"\",\"\",VLOOKUP(S51,$C$5:$L$149,7,FALSE))","v":""},{"$f":"IF(S51=\"\",\"\",VLOOKUP(S51,$C$5:$L$149,8,FALSE))","v":""},{"$f":"IF(S51=\"\",\"\",VLOOKUP(S51,$C$5:$L$149,9,FALSE))","v":""},{"$f":"IF(S51=\"\",\"\",VLOOKUP(S51,$C$5:$L$149,10,FALSE))","v":""},{"$f":"SUM(T51:Y51)","v":0},{"$f":"IF(S51=\"\",\"\",VLOOKUP(S51,$C$5:$N$149,12,FALSE))","v":""}]
[48,null,{"$f":"IF(E52=\"\",\"\",VLOOKUP(E52,'ePrijava in Navodila'!$B$13:$H$164,2,FALSE) & \" \" & VLOOKUP(E52,'ePrijava in Navodila'!$B$13:$H$164,3,FALSE))","v":""},{"$f":"IF(E52=\"\",\"\",VLOOKUP(E52,'ePrijava in Navodila'!$B$13:$H$164,5,FALSE))","v":""},null,{"$f":"IF(E52=\"\",\"\",VLOOKUP(E52,'ePrijava in Navodila'!$B$13:$H$164,7,FALSE))","v":""},null,null,null,null,null,null,0,null,null,null,null,null,null,null,null,null,null,null,{"$f":"SUM(Y49:Y51)","v":0},{"$f":"SUM(Z49:Z51)","v":0},{"$f":"SUM(AA49:AA51)","v":0}]
[49,null,{"$f":"IF(E53=\"\",\"\",VLOOKUP(E53,'ePrijava in Navodila'!$B$13:$H$164,2,FALSE) & \" \" & VLOOKUP(E53,'ePrijava in Navodila'!$B$13:$H$164,3,FALSE))","v":""},{"$f":"IF(E53=\"\",\"\",VLOOKUP(E53,'ePrijava in Navodila'!$B$13:$H$164,5,FALSE))","v":""},null,{"$f":"IF(E53=\"\",\"\",VLOOKUP(E53,'ePrijava in Navodila'!$B$13:$H$164,7,FALSE))","v":""},null,null,null,null,null,null,0]
[50,null,{"$f":"IF(E54=\"\",\"\",VLOOKUP(E54,'ePrijava in Navodila'!$B$13:$H$164,2,FALSE) & \" \" & VLOOKUP(E54,'ePrijava in Navodila'!$B$13:$H$164,3,FALSE))","v":""},{"$f":"IF(E54=\"\",\"\",VLOOKUP(E54,'ePrijava in Navodila'!$B$13:$H$164,5,FALSE))","v":""},null,{"$f":"IF(E54=\"\",\"\",VLOOKUP(E54,'ePrijava in Navodila'!$B$13:$H$164,7,FALSE))","v":""},null,null,null,null,null,null,0]
[51,null,{"$f":"IF(E55=\"\",\"\",VLOOKUP(E55,'ePrijava in Navodila'!$B$13:$H$164,2,FALSE) & \" \" & VLOOKUP(E55,'ePrijava in Navodila'!$B$13:$H$164,3,FALSE))","v":""},{"$f":"IF(E55=\"\",\"\",VLOOKUP(E55,'ePrijava in Navodila'!$B$13:$H$164,5,FALSE))","v":""},null,{"$f":"IF(E55=\"\",\"\",VLOOKUP(E55,'ePrijava in Navodila'!$B$13:$H$164,7,FALSE))","v":""},null,null,null,null,null,null,0,null,null,null,null,null,{"$f":"IF(R57=\"\",\"\",VLOOKUP(R57,'ePrijava in Navodila'!$B$13:$H$164,7,FALSE))","v":""}]
[52,null,{"$f":"IF(E56=\"\",\"\",VLOOKUP(E56,'ePrijava in Navodila'!$B$13:$H$164,2,FALSE) & \" \" & VLOOKUP(E56,'ePrijava in Navodila'!$B$13:$H$164,3,FALSE))","v":""},{"$f":"IF(E56=\"\",\"\",VLOOKUP(E56,'ePrijava in Navodila'!$B$13:$H$164,5,FALSE))","v":""},null,{"$f":"IF(E56=\"\",\"\",VLOOKUP(E56,'ePrijava in Navodila'!$B$13:$H$164,7,FALSE))","v":""},null,null,null,null,null,null,0,null,null,null,null,"BIB","Priimek in ime","1. ser","2. ser","3. ser","4. ser","1. ser","2. ser","skupno","nc*"]
[53,null,{"$f":"IF(E57=\"\",\"\",VLOOKUP(E57,'ePrijava in Navodila'!$B$13:$H$164,2,FALSE) & \" \" & VLOOKUP(E57,'ePrijava in Navodila'!$B$13:$H$164,3,FALSE))","v":""},{"$f":"IF(E57=\"\",\"\",VLOOKUP(E57,'ePrijava in Navodila'!$B$13:$H$164,5,FALSE))","v":""},null,{"$f":"IF(E57=\"\",\"\",VLOOKUP(E57,'ePrijava in Navodila'!$B$13:$H$164,7,FALSE))","v":""},null,null,null,null,null,null,0,null,null,null,null,null,{"$f":"IF(R57=\"\",\"\",VLOOKUP(R57,'ePrijava in Navodila'!$B$13:$H$164,2,FALSE) & \" \" & VLOOKUP(R57,'ePrijava in Navodila'!$B$13:$H$164,3,FALSE))","v":""},{"$f":"IF(S57=\"\",\"\",VLOOKUP(S57,$C$5:$L$149,5,FALSE))","v":""},{"$f":"IF(S57=\"\",\"\",VLOOKUP(S57,$C$5:$L$149,6,FALSE))","v":""},{"$f":"IF(S57=\"\",\"\",VLOOKUP(S57,$C$5:$L$149,7,FALSE))","v":""},{"$f":"IF(S57=\"\",\"\",VLOOKUP(S57,$C$5:$L$149,8,FALSE))","v":""},{"$f":"IF(S57=\"\",\"\",VLOOKUP(S57,$C$5:$L$149,9,FALSE))","v":""},{"$f":"IF(S57=\"\",\"\",VLOOKUP(S57,$C$5:$L$149,10,FALSE))","v":""},{"$f":"SUM(T57:Y57)","v":0},{"$f":"IF(S57=\"\",\"\",VLOOKUP(S57,$C$5:$N$149,12,FALSE))","v":""}]
[54,null,{"$f":"IF(E58=\"\",\"\",VLOOKUP(E58,'ePrijava in Navodila'!$B$13:$H$164,2,FALSE) & \" \" & VLOOKUP(E58,'ePrijava in Navodila'!$B$13:$H$164,3,FALSE))","v":""},{"$f":"IF(E58=\"\",\"\",VLOOKUP(E58,'ePrijava in Navodila'!$B$13:$H$164,5,FALSE))","v":""},null,{"$f":"IF(E58=\"\",\"\",VLOOKUP(E58,'ePrijava in Navodila'!$B$13:$H$164,7,FALSE))","v":""},null,null,null,null,null,null,0,null,null,null,null,null,{"$f":"IF(R58=\"\",\"\",VLOOKUP(R58,'ePrijava in Navodila'!$B$13:$H$164,2,FALSE) & \" \" & VLOOKUP(R58,'ePrijava in Navodila'!$B$13:$H$164,3,FALSE))","v":""},{"$f":"IF(S58=\"\",\"\",VLOOKUP(S58,$C$5:$L$149,5,FALSE))","v":""},{"$f":"IF(S58=\"\",\"\",VLOOKUP(S58,$C$5:$L$149,6,FALSE))","v":""},{"$f":"IF(S58=\"\",\"\",VLOOKUP(S58,$C$5:$L$149,7,FALSE))","v":""},{"$f":"IF(S58=\"\",\"\",VLOOKUP(S58,$C$5:$L$149,8,FALSE))","v":""},{"$f":"IF(S58=\"\",\"\",VLOOKUP(S58,$C$5:$L$149,9,FALSE))","v":""},{"$f":"IF(S58=\"\",\"\",VLOOKUP(S58,$C$5:$L$149,10,FALSE))","v":""},{"$f":"SUM(T58:Y58)","v":0},{"$f":"IF(S58=\"\",\"\",VLOOKUP(S58,$C$5:$N$149,12,FALSE))","v":""}]
[55,null,{"$f":"IF(E59=\"\",\"\",VLOOKUP(E59,'ePrijava in Navodila'!$B$13:$H$164,2,FALSE) & \" \" & VLOOKUP(E59,'ePrijava in Navodila'!$B$13:$H$164,3,FALSE))","v":""},{"$f":"IF(E59=\"\",\"\",VLOOKUP(E59,'ePrijava in Navodila'!$B$13:$H$164,5,FALSE))","v":""},null,{"$f":"IF(E59=\"\",\"\",VLOOKUP(E59,'ePrijava in Navodila'!$B$13:$H$164,7,FALSE))","v":""},null,null,null,null,null,null,0,null,null,null,null,null,{"$f":"IF(R59=\"\",\"\",VLOOKUP(R59,'ePrijava in Navodila'!$B$13:$H$164,2,FALSE) & \" \" & VLOOKUP(R59,'ePrijava in Navodila'!$B$13:$H$164,3,FALSE))","v":""},{"$f":"IF(S59=\"\",\"\",VLOOKUP(S59,$C$5:$L$149,5,FALSE))","v":""},{"$f":"IF(S59=\"\",\"\",VLOOKUP(S59,$C$5:$L$149,6,FALSE))","v":""},{"$f":"IF(S59=\"\",\"\",VLOOKUP(S59,$C$5:$L$149,7,FALSE))","v":""},{"$f":"IF(S59=\"\",\"\",VLOOKUP(S59,$C$5:$L$149,8,FALSE))","v":""},{"$f":"IF(S59=\"\",\"\",VLOOKUP(S59,$C$5:$L$149,9,FALSE))","v":""},{"$f":"IF(S59=\"\",\"\",VLOOKUP(S59,$C$5:$L$149,10,FALSE))","v":""},{"$f":"SUM(T59:Y59)","v":0},{"$f":"IF(S59=\"\",\"\",VLOOKUP(S59,$C$5:$N$149,12,FALSE))","v":""}]
[56,null,{"$f":"IF(E60=\"\",\"\",VLOOKUP(E60,'ePrijava in Navodila'!$B$13:$H$164,2,FALSE) & \" \" & VLOOKUP(E60,'ePrijava in Navodila'!$B$13:$H$164,3,FALSE))","v":""},{"$f":"IF(E60=\"\",\"\",VLOOKUP(E60,'ePrijava in Navodila'!$B$13:$H$164,5,FALSE))","v":""},null,{"$f":"IF(E60=\"\",\"\",VLOOKUP(E60,'ePrijava in Navodila'!$B$13:$H$164,7,FALSE))","v":""},null,null,null,null,null,null,0,null,null,null,null,null,null,null,null,null,null,null,{"$f":"SUM(Y57:Y59)","v":0},{"$f":"SUM(Z57:Z59)","v":0},{"$f":"SUM(AA57:AA59)","v":0}]
[57,null,{"$f":"IF(E61=\"\",\"\",VLOOKUP(E61,'ePrijava in Navodila'!$B$13:$H$164,2,FALSE) & \" \" & VLOOKUP(E61,'ePrijava in Navodila'!$B$13:$H$164,3,FALSE))","v":""},{"$f":"IF(E61=\"\",\"\",VLOOKUP(E61,'ePrijava in Navodila'!$B$13:$H$164,5,FALSE))","v":""},null,{"$f":"IF(E61=\"\",\"\",VLOOKUP(E61,'ePrijava in Navodila'!$B$13:$H$164,7,FALSE))","v":""},null,null,null,null,null,null,0]
[58,null,{"$f":"IF(E62=\"\",\"\",VLOOKUP(E62,'ePrijava in Navodila'!$B$13:$H$164,2,FALSE) & \" \" & VLOOKUP(E62,'ePrijava in Navodila'!$B$13:$H$164,3,FALSE))","v":""},{"$f":"IF(E62=\"\",\"\",VLOOKUP(E62,'ePrijava in Navodila'!$B$13:$H$164,5,FALSE))","v":""},null,{"$f":"IF(E62=\"\",\"\",VLOOKUP(E62,'ePrijava in Navodila'!$B$13:$H$164,7,FALSE))","v":""},null,null,null,null,null,null,0]
[59,null,{"$f":"IF(E63=\"\",\"\",VLOOKUP(E63,'ePrijava in Navodila'!$B$13:$H$164,2,FALSE) & \" \" & VLOOKUP(E63,'ePrijava in Navodila'!$B$13:$H$164,3,FALSE))","v":""},{"$f":"IF(E63=\"\",\"\",VLOOKUP(E63,'ePrijava in Navodila'!$B$13:$H$164,5,FALSE))","v":""},null,{"$f":"IF(E63=\"\",\"\",VLOOKUP(E63,'ePrijava in Navodila'!$B$13:$H$164,7,FALSE))","v":""},null,null,null,null,null,null,0,null,null,null,null,null,{"$f":"IF(R65=\"\",\"\",VLOOKUP(R65,'ePrijava in Navodila'!$B$13:$H$164,7,FALSE))","v":""}]
[60,null,{"$f":"IF(E64=\"\",\"\",VLOOKUP(E64,'ePrijava in Navodila'!$B$13:$H$164,2,FALSE) & \" \" & VLOOKUP(E64,'ePrijava in Navodila'!$B$13:$H$164,3,FALSE))","v":""},{"$f":"IF(E64=\"\",\"\",VLOOKUP(E64,'ePrijava in Navodila'!$B$13:$H$164,5,FALSE))","v":""},null,{"$f":"IF(E64=\"\",\"\",VLOOKUP(E64,'ePrijava in Navodila'!$B$13:$H$164,7,FALSE))","v":""},null,null,null,null,null,null,0,null,null,null,null,"BIB","Priimek in ime","1. ser","2. ser","3. ser","4. ser","1. ser","2. ser","skupno","nc*"]
[61,null,{"$f":"IF(E65=\"\",\"\",VLOOKUP(E65,'ePrijava in Navodila'!$B$13:$H$164,2,FALSE) & \" \" & VLOOKUP(E65,'ePrijava in Navodila'!$B$13:$H$164,3,FALSE))","v":""},{"$f":"IF(E65=\"\",\"\",VLOOKUP(E65,'ePrijava in Navodila'!$B$13:$H$164,5,FALSE))","v":""},null,{"$f":"IF(E65=\"\",\"\",VLOOKUP(E65,'ePrijava in Navodila'!$B$13:$H$164,7,FALSE))","v":""},null,null,null,null,null,null,0,null,null,null,null,null,{"$f":"IF(R65=\"\",\"\",VLOOKUP(R65,'ePrijava in Navodila'!$B$13:$H$164,2,FALSE) & \" \" & VLOOKUP(R65,'ePrijava in Navodila'!$B$13:$H$164,3,FALSE))","v":""},{"$f":"IF(S65=\"\",\"\",VLOOKUP(S65,$C$5:$L$149,5,FALSE))","v":""},{"$f":"IF(S65=\"\",\"\",VLOOKUP(S65,$C$5:$L$149,6,FALSE))","v":""},{"$f":"IF(S65=\"\",\"\",VLOOKUP(S65,$C$5:$L$149,7,FALSE))","v":""},{"$f":"IF(S65=\"\",\"\",VLOOKUP(S65,$C$5:$L$149,8,FALSE))","v":""},{"$f":"IF(S65=\"\",\"\",VLOOKUP(S65,$C$5:$L$149,9,FALSE))","v":""},{"$f":"IF(S65=\"\",\"\",VLOOKUP(S65,$C$5:$L$149,10,FALSE))","v":""},{"$f":"SUM(T65:Y65)","v":0},{"$f":"IF(S65=\"\",\"\",VLOOKUP(S65,$C$5:$N$149,12,FALSE))","v":""}]
[62,null,{"$f":"IF(E66=\"\",\"\",VLOOKUP(E66,'ePrijava in Navodila'!$B$13:$H$164,2,FALSE) & \" \" & VLOOKUP(E66,'ePrijava in Navodila'!$B$13:$H$164,3,FALSE))","v":""},{"$f":"IF(E66=\"\",\"\",VLOOKUP(E66,'ePrijava in Navodila'!$B$13:$H$164,5,FALSE))","v":""},null,{"$f":"IF(E66=\"\",\"\",VLOOKUP(E66,'ePrijava in Navodila'!$B$13:$H$164,7,FALSE))","v":""},null,null,null,null,null,null,0,null,null,null,null,null,{"$f":"IF(R66=\"\",\"\",VLOOKUP(R66,'ePrijava in Navodila'!$B$13:$H$164,2,FALSE) & \" \" & VLOOKUP(R66,'ePrijava in Navodila'!$B$13:$H$164,3,FALSE))","v":""},{"$f":"IF(S66=\"\",\"\",VLOOKUP(S66,$C$5:$L$149,5,FALSE))","v":""},{"$f":"IF(S66=\"\",\"\",VLOOKUP(S66,$C$5:$L$149,6,FALSE))","v":""},{"$f":"IF(S66=\"\",\"\",VLOOKUP(S66,$C$5:$L$149,7,FALSE))","v":""},{"$f":"IF(S66=\"\",\"\",VLOOKUP(S66,$C$5:$L$149,8,FALSE))","v":""},{"$f":"IF(S66=\"\",\"\",VLOOKUP(S66,$C$5:$L$149,9,FALSE))","v":""},{"$f":"IF(S66=\"\",\"\",VLOOKUP(S66,$C$5:$L$149,10,FALSE))","v":""},{"$f":"SUM(T66:Y66)","v":0},{"$f":"IF(S66=\"\",\"\",VLOOKUP(S66,$C$5:$N$149,12,FALSE))","v":""}]
[63,null,{"$f":"IF(E67=\"\",\"\",VLOOKUP(E67,'ePrijava in Navodila'!$B$13:$H$164,2,FALSE) & \" \" & VLOOKUP(E67,'ePrijava in Navodila'!$B$13:$H$164,3,FALSE))","v":""},{"$f":"IF(E67=\"\",\"\",VLOOKUP(E67,'ePrijava in Navodila'!$B$13:$H$164,5,FALSE))","v":""},null,{"$f":"IF(E67=\"\",\"\",VLOOKUP(E67,'ePrijava in Navodila'!$B$13:$H$164,7,FALSE))","v":""},null,null,null,null,null,null,0,null,null,null,null,null,{"$f":"IF(R67=\"\",\"\",VLOOKUP(R67,'ePrijava in Navodila'!$B$13:$H$164,2,FALSE) & \" \" & VLOOKUP(R67,'ePrijava in Navodila'!$B$13:$H$164,3,FALSE))","v":""},{"$f":"IF(S67=\"\",\"\",VLOOKUP(S67,$C$5:$L$149,5,FALSE))","v":""},{"$f":"IF(S67=\"\",\"\",VLOOKUP(S67,$C$5:$L$149,6,FALSE))","v":""},{"$f":"IF(S67=\"\",\"\",VLOOKUP(S67,$C$5:$L$149,7,FALSE))","v":""},{"$f":"IF(S67=\"\",\"\",VLOOKUP(S67,$C$5:$L$149,8,FALSE))","v":""},{"$f":"IF(S67=\"\",\"\",VLOOKUP(S67,$C$5:$L$149,9,FALSE))","v":""},{"$f":"IF(S67=\"\",\"\",VLOOKUP(S67,$C$5:$L$149,10,FALSE))","v":""},{"$f":"SUM(T67:Y67)","v":0},{"$f":"IF(S67=\"\",\"\",VLOOKUP(S67,$C$5:$N$149,12,FALSE))","v":""}]
[64,null,{"$f":"IF(E68=\"\",\"\",VLOOKUP(E68,'ePrijava in Navodila'!$B$13:$H$164,2,FALSE) & \" \" & VLOOKUP(E68,'ePrijava in Navodila'!$B$13:$H$164,3,FALSE))","v":""},{"$f":"IF(E68=\"\",\"\",VLOOKUP(E68,'ePrijava in Navodila'!$B$13:$H$164,5,FALSE))","v":""},null,{"$f":"IF(E68=\"\",\"\",VLOOKUP(E68,'ePrijava in Navodila'!$B$13:$H$164,7,FALSE))","v":""},null,null,null,null,null,null,0,null,null,null,null,null,null,null,null,null,null,null,{"$f":"SUM(Y65:Y67)","v":0},{"$f":"SUM(Z65:Z67)","v":0},{"$f":"SUM(AA65:AA67)","v":0}]
[65,null,{"$f":"IF(E69=\"\",\"\",VLOOKUP(E69,'ePrijava in Navodila'!$B$13:$H$164,2,FALSE) & \" \" & VLOOKUP(E69,'ePrijava in Navodila'!$B$13:$H$164,3,FALSE))","v":""},{"$f":"IF(E69=\"\",\"\",VLOOKUP(E69,'ePrijava in Navodila'!$B$13:$H$164,5,FALSE))","v":""},null,{"$f":"IF(E69=\"\",\"\",VLOOKUP(E69,'ePrijava in Navodila'!$B$13:$H$164,7,FALSE))","v":""},null,null,null,null,null,null,{"$f":"SUM(G69:L69)","v":0}]
[66,null,{"$f":"IF(E70=\"\",\"\",VLOOKUP(E70,'ePrijava in Navodila'!$B$13:$H$164,2,FALSE) & \" \" & VLOOKUP(E70,'ePrijava in Navodila'!$B$13:$H$164,3,FALSE))","v":""},{"$f":"IF(E70=\"\",\"\",VLOOKUP(E70,'ePrijava in Navodila'!$B$13:$H$164,5,FALSE))","v":""},null,{"$f":"IF(E70=\"\",\"\",VLOOKUP(E70,'ePrijava in Navodila'!$B$13:$H$164,7,FALSE))","v":""},null,null,null,null,null,null,0]
[67,null,{"$f":"IF(E71=\"\",\"\",VLOOKUP(E71,'ePrijava in Navodila'!$B$13:$H$164,2,FALSE) & \" \" & VLOOKUP(E71,'ePrijava in Navodila'!$B$13:$H$164,3,FALSE))","v":""},{"$f":"IF(E71=\"\",\"\",VLOOKUP(E71,'ePrijava in Navodila'!$B$13:$H$164,5,FALSE))","v":""},null,{"$f":"IF(E71=\"\",\"\",VLOOKUP(E71,'ePrijava in Navodila'!$B$13:$H$164,7,FALSE))","v":""},null,null,null,null,null,null,0]
[68,null,{"$f":"IF(E72=\"\",\"\",VLOOKUP(E72,'ePrijava in Navodila'!$B$13:$H$164,2,FALSE) & \" \" & VLOOKUP(E72,'ePrijava in Navodila'!$B$13:$H$164,3,FALSE))","v":""},{"$f":"IF(E72=\"\",\"\",VLOOKUP(E72,'ePrijava in Navodila'!$B$13:$H$164,5,FALSE))","v":""},null,{"$f":"IF(E72=\"\",\"\",VLOOKUP(E72,'ePrijava in Navodila'!$B$13:$H$164,7,FALSE))","v":""},null,null,null,null,null,null,0]
[69,null,{"$f":"IF(E73=\"\",\"\",VLOOKUP(E73,'ePrijava in Navodila'!$B$13:$H$164,2,FALSE) & \" \" & VLOOKUP(E73,'ePrijava in Navodila'!$B$13:$H$164,3,FALSE))","v":""},{"$f":"IF(E73=\"\",\"\",VLOOKUP(E73,'ePrijava in Navodila'!$B$13:$H$164,5,FALSE))","v":""},null,{"$f":"IF(E73=\"\",\"\",VLOOKUP(E73,'ePrijava in Navodila'!$B$13:$H$164,7,FALSE))","v":""},null,null,null,null,null,null,0]
[70,null,{"$f":"IF(E74=\"\",\"\",VLOOKUP(E74,'ePrijava in Navodila'!$B$13:$H$164,2,FALSE) & \" \" & VLOOKUP(E74,'ePrijava in Navodila'!$B$13:$H$164,3,FALSE))","v":""},{"$f":"IF(E74=\"\",\"\",VLOOKUP(E74,'ePrijava in Navodila'!$B$13:$H$164,5,FALSE))","v":""},null,{"$f":"IF(E74=\"\",\"\",VLOOKUP(E74,'ePrijava in Navodila'!$B$13:$H$164,7,FALSE))","v":""},null,null,null,null,null,null,0]
[71,null,{"$f":"IF(E75=\"\",\"\",VLOOKUP(E75,'ePrijava in Navodila'!$B$13:$H$164,2,FALSE) & \" \" & VLOOKUP(E75,'ePrijava in Navodila'!$B$13:$H$164,3,FALSE))","v":""},{"$f":"IF(E75=\"\",\"\",VLOOKUP(E75,'ePrijava in Navodila'!$B$13:$H$164,5,FALSE))","v":""},null,{"$f":"IF(E75=\"\",\"\",VLOOKUP(E75,'ePrijava in Navodila'!$B$13:$H$164,7,FALSE))","v":""},null,null,null,null,null,null,0]
[72,null,{"$f":"IF(E76=\"\",\"\",VLOOKUP(E76,'ePrijava in Navodila'!$B$13:$H$164,2,FALSE) & \" \" & VLOOKUP(E76,'ePrijava in Navodila'!$B$13:$H$164,3,FALSE))","v":""},{"$f":"IF(E76=\"\",\"\",VLOOKUP(E76,'ePrijava in Navodila'!$B$13:$H$164,5,FALSE))","v":""},null,{"$f":"IF(E76=\"\",\"\",VLOOKUP(E76,'ePrijava in Navodila'!$B$13:$H$164,7,FALSE))","v":""},null,null,null,null,null,null,0]
[73,null,{"$f":"IF(E77=\"\",\"\",VLOOKUP(E77,'ePrijava in Navodila'!$B$13:$H$164,2,FALSE) & \" \" & VLOOKUP(E77,'ePrijava in Navodila'!$B$13:$H$164,3,FALSE))","v":""},{"$f":"IF(E77=\"\",\"\",VLOOKUP(E77,'ePrijava in Navodila'!$B$13:$H$164,5,FALSE))","v":""},null,{"$f":"IF(E77=\"\",\"\",VLOOKUP(E77,'ePrijava in Navodila'!$B$13:$H$164,7,FALSE))","v":""},null,null,null,null,null,null,0]
[74,null,{"$f":"IF(E78=\"\",\"\",VLOOKUP(E78,'ePrijava in Navodila'!$B$13:$H$164,2,FALSE) & \" \" & VLOOKUP(E78,'ePrijava in Navodila'!$B$13:$H$164,3,FALSE))","v":""},{"$f":"IF(E78=\"\",\"\",VLOOKUP(E78,'ePrijava in Navodila'!$B$13:$H$164,5,FALSE))","v":""},null,{"$f":"IF(E78=\"\",\"\",VLOOKUP(E78,'ePrijava in Navodila'!$B$13:$H$164,7,FALSE))","v":""},null,null,null,null,null,null,0]
[75,null,{"$f":"IF(E79=\"\",\"\",VLOOKUP(E79,'ePrijava in Navodila'!$B$13:$H$164,2,FALSE) & \" \" & VLOOKUP(E79,'ePrijava in Navodila'!$B$13:$H$164,3,FALSE))","v":""},{"$f":"IF(E79=\"\",\"\",VLOOKUP(E79,'ePrijava in Navodila'!$B$13:$H$164,5,FALSE))","v":""},null,{"$f":"IF(E79=\"\",\"\",VLOOKUP(E79,'ePrijava in Navodila'!$B$13:$H$164,7,FALSE))","v":""},null,null,null,null,null,null,0]
[76,null,{"$f":"IF(E80=\"\",\"\",VLOOKUP(E80,'ePrijava in Navodila'!$B$13:$H$164,2,FALSE) & \" \" & VLOOKUP(E80,'ePrijava in Navodila'!$B$13:$H$164,3,FALSE))","v":""},{"$f":"IF(E80=\"\",\"\",VLOOKUP(E80,'ePrijava in Navodila'!$B$13:$H$164,5,FALSE))","v":""},null,{"$f":"IF(E80=\"\",\"\",VLOOKUP(E80,'ePrijava in Navodila'!$B$13:$H$164,7,FALSE))","v":""},null,null,null,null,null,null,0]
[77,null,{"$f":"IF(E81=\"\",\"\",VLOOKUP(E81,'ePrijava in Navodila'!$B$13:$H$164,2,FALSE) & \" \" & VLOOKUP(E81,'ePrijava in Navodila'!$B$13:$H$164,3,FALSE))","v":""},{"$f":"IF(E81=\"\",\"\",VLOOKUP(E81,'ePrijava in Navodila'!$B$13:$H$164,5,FALSE))","v":""},null,{"$f":"IF(E81=\"\",\"\",VLOOKUP(E81,'ePrijava in Navodila'!$B$13:$H$164,7,FALSE))","v":""},null,null,null,null,null,null,0]
[78,null,{"$f":"IF(E82=\"\",\"\",VLOOKUP(E82,'ePrijava in Navodila'!$B$13:$H$164,2,FALSE) & \" \" & VLOOKUP(E82,'ePrijava in Navodila'!$B$13:$H$164,3,FALSE))","v":""},{"$f":"IF(E82=\"\",\"\",VLOOKUP(E82,'ePrijava in Navodila'!$B$13:$H$164,5,FALSE))","v":""},null,{"$f":"IF(E82=\"\",\"\",VLOOKUP(E82,'ePrijava in Navodila'!$B$13:$H$164,7,FALSE))","v":""},null,null,null,null,null,null,0]
[79,null,{"$f":"IF(E83=\"\",\"\",VLOOKUP(E83,'ePrijava in Navodila'!$B$13:$H$164,2,FALSE) & \" \" & VLOOKUP(E83,'ePrijava in Navodila'!$B$13:$H$164,3,FALSE))","v":""},{"$f":"IF(E83=\"\",\"\",VLOOKUP(E83,'ePrijava in Navodila'!$B$13:$H$164,5,FALSE))","v":""},null,{"$f":"IF(E83=\"\",\"\",VLOOKUP(E83,'ePrijava in Navodila'!$B$13:$H$164,7,FALSE))","v":""},null,null,null,null,null,null,0]
[80,null,{"$f":"IF(E84=\"\",\"\",VLOOKUP(E84,'ePrijava in Navodila'!$B$13:$H$164,2,FALSE) & \" \" & VLOOKUP(E84,'ePrijava in Navodila'!$B$13:$H$164,3,FALSE))","v":""},{"$f":"IF(E84=\"\",\"\",VLOOKUP(E84,'ePrijava in Navodila'!$B$13:$H$164,5,FALSE))","v":""},null,{"$f":"IF(E84=\"\",\"\",VLOOKUP(E84,'ePrijava in Navodila'!$B$13:$H$164,7,FALSE))","v":""},null,null,null,null,null,null,0]
[81,null,{"$f":"IF(E85=\"\",\"\",VLOOKUP(E85,'ePrijava in Navodila'!$B$13:$H$164,2,FALSE) & \" \" & VLOOKUP(E85,'ePrijava in Navodila'!$B$13:$H$164,3,FALSE))","v":""},{"$f":"IF(E85=\"\",\"\",VLOOKUP(E85,'ePrijava in Navodila'!$B$13:$H$164,5,FALSE))","v":""},null,{"$f":"IF(E85=\"\",\"\",VLOOKUP(E85,'ePrijava in Navodila'!$B$13:$H$164,7,FALSE))","v":""},null,null,null,null,null,null,0]
[82,null,{"$f":"IF(E86=\"\",\"\",VLOOKUP(E86,'ePrijava in Navodila'!$B$13:$H$164,2,FALSE) & \" \" & VLOOKUP(E86,'ePrijava in Navodila'!$B$13:$H$164,3,FALSE))","v":""},{"$f":"IF(E86=\"\",\"\",VLOOKUP(E86,'ePrijava in Navodila'!$B$13:$H$164,5,FALSE))","v":""},null,{"$f":"IF(E86=\"\",\"\",VLOOKUP(E86,'ePrijava in Navodila'!$B$13:$H$164,7,FALSE))","v":""},null,null,null,null,null,null,0]
[83,null,{"$f":"IF(E87=\"\",\"\",VLOOKUP(E87,'ePrijava in Navodila'!$B$13:$H$164,2,FALSE) & \" \" & VLOOKUP(E87,'ePrijava in Navodila'!$B$13:$H$164,3,FALSE))","v":""},{"$f":"IF(E87=\"\",\"\",VLOOKUP(E87,'ePrijava in Navodila'!$B$13:$H$164,5,FALSE))","v":""},null,{"$f":"IF(E87=\"\",\"\",VLOOKUP(E87,'ePrijava in Navodila'!$B$13:$H$164,7,FALSE))","v":""},null,null,null,null,null,null,0]
[84,null,{"$f":"IF(E88=\"\",\"\",VLOOKUP(E88,'ePrijava in Navodila'!$B$13:$H$164,2,FALSE) & \" \" & VLOOKUP(E88,'ePrijava in Navodila'!$B$13:$H$164,3,FALSE))","v":""},{"$f":"IF(E88=\"\",\"\",VLOOKUP(E88,'ePrijava in Navodila'!$B$13:$H$164,5,FALSE))","v":""},null,{"$f":"IF(E88=\"\",\"\",VLOOKUP(E88,'ePrijava in Navodila'!$B$13:$H$164,7,FALSE))","v":""},null,null,null,null,null,null,0]
[85,null,{"$f":"IF(E89=\"\",\"\",VLOOKUP(E89,'ePrijava in Navodila'!$B$13:$H$164,2,FALSE) & \" \" & VLOOKUP(E89,'ePrijava in Navodila'!$B$13:$H$164,3,FALSE))","v":""},{"$f":"IF(E89=\"\",\"\",VLOOKUP(E89,'ePrijava in Navodila'!$B$13:$H$164,5,FALSE))","v":""},null,{"$f":"IF(E89=\"\",\"\",VLOOKUP(E89,'ePrijava in Navodila'!$B$13:$H$164,7,FALSE))","v":""},null,null,null,null,null,null,0]
[86,null,{"$f":"IF(E90=\"\",\"\",VLOOKUP(E90,'ePrijava in Navodila'!$B$13:$H$164,2,FALSE) & \" \" & VLOOKUP(E90,'ePrijava in Navodila'!$B$13:$H$164,3,FALSE))","v":""},{"$f":"IF(E90=\"\",\"\",VLOOKUP(E90,'ePrijava in Navodila'!$B$13:$H$164,5,FALSE))","v":""},null,{"$f":"IF(E90=\"\",\"\",VLOOKUP(E90,'ePrijava in Navodila'!$B$13:$H$164,7,FALSE))","v":""},null,null,null,null,null,null,0]
[87,null,{"$f":"IF(E91=\"\",\"\",VLOOKUP(E91,'ePrijava in Navodila'!$B$13:$H$164,2,FALSE) & \" \" & VLOOKUP(E91,'ePrijava in Navodila'!$B$13:$H$164,3,FALSE))","v":""},{"$f":"IF(E91=\"\",\"\",VLOOKUP(E91,'ePrijava in Navodila'!$B$13:$H$164,5,FALSE))","v":""},null,{"$f":"IF(E91=\"\",\"\",VLOOKUP(E91,'ePrijava in Navodila'!$B$13:$H$164,7,FALSE))","v":""},null,null,null,null,null,null,0]
[88,null,{"$f":"IF(E92=\"\",\"\",VLOOKUP(E92,'ePrijava in Navodila'!$B$13:$H$164,2,FALSE) & \" \" & VLOOKUP(E92,'ePrijava in Navodila'!$B$13:$H$164,3,FALSE))","v":""},{"$f":"IF(E92=\"\",\"\",VLOOKUP(E92,'ePrijava in Navodila'!$B$13:$H$164,5,FALSE))","v":""},null,{"$f":"IF(E92=\"\",\"\",VLOOKUP(E92,'ePrijava in Navodila'!$B$13:$H$164,7,FALSE))","v":""},null,null,null,null,null,null,0]
[89,null,{"$f":"IF(E93=\"\",\"\",VLOOKUP(E93,'ePrijava in Navodila'!$B$13:$H$164,2,FALSE) & \" \" & VLOOKUP(E93,'ePrijava in Navodila'!$B$13:$H$164,3,FALSE))","v":""},{"$f":"IF(E93=\"\",\"\",VLOOKUP(E93,'ePrijava in Navodila'!$B$13:$H$164,5,FALSE))","v":""},null,{"$f":"IF(E93=\"\",\"\",VLOOKUP(E93,'ePrijava in Navodila'!$B$13:$H$164,7,FALSE))","v":""},null,null,null,null,null,null,0]
[90,null,{"$f":"IF(E94=\"\",\"\",VLOOKUP(E94,'ePrijava in Navodila'!$B$13:$H$164,2,FALSE) & \" \" & VLOOKUP(E94,'ePrijava in Navodila'!$B$13:$H$164,3,FALSE))","v":""},{"$f":"IF(E94=\"\",\"\",VLOOKUP(E94,'ePrijava in Navodila'!$B$13:$H$164,5,FALSE))","v":""},null,{"$f":"IF(E94=\"\",\"\",VLOOKUP(E94,'ePrijava in Navodila'!$B$13:$H$164,7,FALSE))","v":""},null,null,null,null,null,null,0]
[91,null,{"$f":"IF(E95=\"\",\"\",VLOOKUP(E95,'ePrijava in Navodila'!$B$13:$H$164,2,FALSE) & \" \" & VLOOKUP(E95,'ePrijava in Navodila'!$B$13:$H$164,3,FALSE))","v":""},{"$f":"IF(E95=\"\",\"\",VLOOKUP(E95,'ePrijava in Navodila'!$B$13:$H$164,5,FALSE))","v":""},null,{"$f":"IF(E95=\"\",\"\",VLOOKUP(E95,'ePrijava in Navodila'!$B$13:$H$164,7,FALSE))","v":""},null,null,null,null,null,null,0]
[92,null,{"$f":"IF(E96=\"\",\"\",VLOOKUP(E96,'ePrijava in Navodila'!$B$13:$H$164,2,FALSE) & \" \" & VLOOKUP(E96,'ePrijava in Navodila'!$B$13:$H$164,3,FALSE))","v":""},{"$f":"IF(E96=\"\",\"\",VLOOKUP(E96,'ePrijava in Navodila'!$B$13:$H$164,5,FALSE))","v":""},null,{"$f":"IF(E96=\"\",\"\",VLOOKUP(E96,'ePrijava in Navodila'!$B$13:$H$164,7,FALSE))","v":""},null,null,null,null,null,null,0]
[93,null,{"$f":"IF(E97=\"\",\"\",VLOOKUP(E97,'ePrijava in Navodila'!$B$13:$H$164,2,FALSE) & \" \" & VLOOKUP(E97,'ePrijava in Navodila'!$B$13:$H$164,3,FALSE))","v":""},{"$f":"IF(E97=\"\",\"\",VLOOKUP(E97,'ePrijava in Navodila'!$B$13:$H$164,5,FALSE))","v":""},null,{"$f":"IF(E97=\"\",\"\",VLOOKUP(E97,'ePrijava in Navodila'!$B$13:$H$164,7,FALSE))","v":""},null,null,null,null,null,null,0]
[94,null,{"$f":"IF(E98=\"\",\"\",VLOOKUP(E98,'ePrijava in Navodila'!$B$13:$H$164,2,FALSE) & \" \" & VLOOKUP(E98,'ePrijava in Navodila'!$B$13:$H$164,3,FALSE))","v":""},{"$f":"IF(E98=\"\",\"\",VLOOKUP(E98,'ePrijava in Navodila'!$B$13:$H$164,5,FALSE))","v":""},null,{"$f":"IF(E98=\"\",\"\",VLOOKUP(E98,'ePrijava in Navodila'!$B$13:$H$164,7,FALSE))","v":""},null,null,null,null,null,null,0]
[95,null,{"$f":"IF(E99=\"\",\"\",VLOOKUP(E99,'ePrijava in Navodila'!$B$13:$H$164,2,FALSE) & \" \" & VLOOKUP(E99,'ePrijava in Navodila'!$B$13:$H$164,3,FALSE))","v":""},{"$f":"IF(E99=\"\",\"\",VLOOKUP(E99,'ePrijava in Navodila'!$B$13:$H$164,5,FALSE))","v":""},null,{"$f":"IF(E99=\"\",\"\",VLOOKUP(E99,'ePrijava in Navodila'!$B$13:$H$164,7,FALSE))","v":""},null,null,null,null,null,null,0]
[96,null,{"$f":"IF(E100=\"\",\"\",VLOOKUP(E100,'ePrijava in Navodila'!$B$13:$H$164,2,FALSE) & \" \" & VLOOKUP(E100,'ePrijava in Navodila'!$B$13:$H$164,3,FALSE))","v":""},{"$f":"IF(E100=\"\",\"\",VLOOKUP(E100,'ePrijava in Navodila'!$B$13:$H$164,5,FALSE))","v":""},null,{"$f":"IF(E100=\"\",\"\",VLOOKUP(E100,'ePrijava in Navodila'!$B$13:$H$164,7,FALSE))","v":""},null,null,null,null,null,null,0]
[]
[]
[]
[]
["mesto",null,"U11 (mlajše deklice)"]
[]
[]
[null,null,"Priimek in ime","Roj.","BIB","Društvo, klub","1. ser","2. ser","3. ser","4. ser","1. ser","2. ser","skupno","nc*"]
[null,null,null,"skrita"]
[1,null,{"$f":"IF(E110=\"\",\"\",VLOOKUP(E110,'ePrijava in Navodila'!$B$13:$H$164,2,FALSE) & \" \" & VLOOKUP(E110,'ePrijava in Navodila'!$B$13:$H$164,3,FALSE))","v":""},{"$f":"IF(E110=\"\",\"\",VLOOKUP(E110,'ePrijava in Navodila'!$B$13:$H$164,5,FALSE))","v":""},null,{"$f":"IF(E110=\"\",\"\",VLOOKUP(E110,'ePrijava in Navodila'!$B$13:$H$164,7,FALSE))","v":""},null,null,null,null,null,null,{"$f":"SUM(G110:L110)","v":0}]
[2,null,{"$f":"IF(E111=\"\",\"\",VLOOKUP(E111,'ePrijava in Navodila'!$B$13:$H$164,2,FALSE) & \" \" & VLOOKUP(E111,'ePrijava in Navodila'!$B$13:$H$164,3,FALSE))","v":""},{"$f":"IF(E111=\"\",\"\",VLOOKUP(E111,'ePrijava in Navodila'!$B$13:$H$164,5,FALSE))","v":""},null,{"$f":"IF(E111=\"\",\"\",VLOOKUP(E111,'ePrijava in Navodila'!$B$13:$H$164,7,FALSE))","v":""},null,null,null,null,null,null,0]
[3,null,{"$f":"IF(E112=\"\",\"\",VLOOKUP(E112,'ePrijava in Navodila'!$B$13:$H$164,2,FALSE) & \" \" & VLOOKUP(E112,'ePrijava in Navodila'!$B$13:$H$164,3,FALSE))","v":""},{"$f":"IF(E112=\"\",\"\",VLOOKUP(E112,'ePrijava in Navodila'!$B$13:$H$164,5,FALSE))","v":""},null,{"$f":"IF(E112=\"\",\"\",VLOOKUP(E112,'ePrijava in Navodila'!$B$13:$H$164,7,FALSE))","v":""},null,null,null,null,null,null,0]
[4,null,{"$f":"IF(E113=\"\",\"\",VLOOKUP(E113,'ePrijava in Navodila'!$B$13:$H$164,2,FALSE) & \" \" & VLOOKUP(E113,'ePrijava in Navodila'!$B$13:$H$164,3,FALSE))","v":""},{"$f":"IF(E113=\"\",\"\",VLOOKUP(E113,'ePrijava in Navodila'!$B$13:$H$164,5,FALSE))","v":""},null,{"$f":"IF(E113=\"\",\"\",VLOOKUP(E113,'ePrijava in Navodila'!$B$13:$H$164,7,FALSE))","v":""},null,null,null,null,null,null,0]
[5,null,{"$f":"IF(E114=\"\",\"\",VLOOKUP(E114,'ePrijava in Navodila'!$B$13:$H$164,2,FALSE) & \" \" & VLOOKUP(E114,'ePrijava in Navodila'!$B$13:$H$164,3,FALSE))","v":""},{"$f":"IF(E114=\"\",\"\",VLOOKUP(E114,'ePrijava in Navodila'!$B$13:$H$164,5,FALSE))","v":""},null,{"$f":"IF(E114=\"\",\"\",VLOOKUP(E114,'ePrijava in Navodila'!$B$13:$H$164,7,FALSE))","v":""},null,null,null,null,null,null,0]
[6,null,{"$f":"IF(E115=\"\",\"\",VLOOKUP(E115,'ePrijava in Navodila'!$B$13:$H$164,2,FALSE) & \" \" & VLOOKUP(E115,'ePrijava in Navodila'!$B$13:$H$164,3,FALSE))","v":""},{"$f":"IF(E115=\"\",\"\",VLOOKUP(E115,'ePrijava in Navodila'!$B$13:$H$164,5,FALSE))","v":""},null,{"$f":"IF(E115=\"\",\"\",VLOOKUP(E115,'ePrijava in Navodila'!$B$13:$H$164,7,FALSE))","v":""},null,null,null,null,null,null,0]
[7,null,{"$f":"IF(E116=\"\",\"\",VLOOKUP(E116,'ePrijava in Navodila'!$B$13:$H$164,2,FALSE) & \" \" & VLOOKUP(E116,'ePrijava in Navodila'!$B$13:$H$164,3,FALSE))","v":""},{"$f":"IF(E116=\"\",\"\",VLOOKUP(E116,'ePrijava in Navodila'!$B$13:$H$164,5,FALSE))","v":""},null,{"$f":"IF(E116=\"\",\"\",VLOOKUP(E116,'ePrijava in Navodila'!$B$13:$H$164,7,FALSE))","v":""},null,null,null,null,null,null,0]
[8,null,{"$f":"IF(E117=\"\",\"\",VLOOKUP(E117,'ePrijava in Navodila'!$B$13:$H$164,2,FALSE) & \" \" & VLOOKUP(E117,'ePrijava in Navodila'!$B$13:$H$164,3,FALSE))","v":""},{"$f":"IF(E117=\"\",\"\",VLOOKUP(E117,'ePrijava in Navodila'!$B$13:$H$164,5,FALSE))","v":""},null,{"$f":"IF(E117=\"\",\"\",VLOOKUP(E117,'ePrijava in Navodila'!$B$13:$H$164,7,FALSE))","v":""},null,null,null,null,null,null,0]
[9,null,{"$f":"IF(E118=\"\",\"\",VLOOKUP(E118,'ePrijava in Navodila'!$B$13:$H$164,2,FALSE) & \" \" & VLOOKUP(E118,'ePrijava in Navodila'!$B$13:$H$164,3,FALSE))","v":""},{"$f":"IF(E118=\"\",\"\",VLOOKUP(E118,'ePrijava in Navodila'!$B$13:$H$164,5,FALSE))","v":""},null,{"$f":"IF(E118=\"\",\"\",VLOOKUP(E118,'ePrijava in Navodila'!$B$13:$H$164,7,FALSE))","v":""},null,null,null,null,null,null,0]
[10,null,{"$f":"IF(E119=\"\",\"\",VLOOKUP(E119,'ePrijava in Navodila'!$B$13:$H$164,2,FALSE) & \" \" & VLOOKUP(E119,'ePrijava in Navodila'!$B$13:$H$164,3,FALSE))","v":""},{"$f":"IF(E119=\"\",\"\",VLOOKUP(E119,'ePrijava in Navodila'!$B$13:$H$164,5,FALSE))","v":""},null,{"$f":"IF(E119=\"\",\"\",VLOOKUP(E119,'ePrijava in Navodila'!$B$13:$H$164,7,FALSE))","v":""},null,null,null,null,null,null,0]
[11,null,{"$f":"IF(E120=\"\",\"\",VLOOKUP(E120,'ePrijava in Navodila'!$B$13:$H$164,2,FALSE) & \" \" & VLOOKUP(E120,'ePrijava in Navodila'!$B$13:$H$164,3,FALSE))","v":""},{"$f":"IF(E120=\"\",\"\",VLOOKUP(E120,'ePrijava in Navodila'!$B$13:$H$164,5,FALSE))","v":""},null,{"$f":"IF(E120=\"\",\"\",VLOOKUP(E120,'ePrijava in Navodila'!$B$13:$H$164,7,FALSE))","v":""},null,null,null,null,null,null,0]
[12,null,{"$f":"IF(E121=\"\",\"\",VLOOKUP(E121,'ePrijava in Navodila'!$B$13:$H$164,2,FALSE) & \" \" & VLOOKUP(E121,'ePrijava in Navodila'!$B$13:$H$164,3,FALSE))","v":""},{"$f":"IF(E121=\"\",\"\",VLOOKUP(E121,'ePrijava in Navodila'!$B$13:$H$164,5,FALSE))","v":""},null,{"$f":"IF(E121=\"\",\"\",VLOOKUP(E121,'ePrijava in Navodila'!$B$13:$H$164,7,FALSE))","v":""},null,null,null,null,null,null,0]
[13,null,{"$f":"IF(E122=\"\",\"\",VLOOKUP(E122,'ePrijava in Navodila'!$B$13:$H$164,2,FALSE) & \" \" & VLOOKUP(E122,'ePrijava in Navodila'!$B$13:$H$164,3,FALSE))","v":""},{"$f":"IF(E122=\"\",\"\",VLOOKUP(E122,'ePrijava in Navodila'!$B$13:$H$164,5,FALSE))","v":""},null,{"$f":"IF(E122=\"\",\"\",VLOOKUP(E122,'ePrijava in Navodila'!$B$13:$H$164,7,FALSE))","v":""},null,null,null,null,null,null,0]
[14,null,{"$f":"IF(E123=\"\",\"\",VLOOKUP(E123,'ePrijava in Navodila'!$B$13:$H$164,2,FALSE) & \" \" & VLOOKUP(E123,'ePrijava in Navodila'!$B$13:$H$164,3,FALSE))","v":""},{"$f":"IF(E123=\"\",\"\",VLOOKUP(E123,'ePrijava in Navodila'!$B$13:$H$164,5,FALSE))","v":""},null,{"$f":"IF(E123=\"\",\"\",VLOOKUP(E123,'ePrijava in Navodila'!$B$13:$H$164,7,FALSE))","v":""},null,null,null,null,null,null,0]
[15,null,{"$f":"IF(E124=\"\",\"\",VLOOKUP(E124,'ePrijava in Navodila'!$B$13:$H$164,2,FALSE) & \" \" & VLOOKUP(E124,'ePrijava in Navodila'!$B$13:$H$164,3,FALSE))","v":""},{"$f":"IF(E124=\"\",\"\",VLOOKUP(E124,'ePrijava in Navodila'!$B$13:$H$164,5,FALSE))","v":""},null,{"$f":"IF(E124=\"\",\"\",VLOOKUP(E124,'ePrijava in Navodila'!$B$13:$H$164,7,FALSE))","v":""},null,null,null,null,null,null,0]
[16,null,{"$f":"IF(E125=\"\",\"\",VLOOKUP(E125,'ePrijava in Navodila'!$B$13:$H$164,2,FALSE) & \" \" & VLOOKUP(E125,'ePrijava in Navodila'!$B$13:$H$164,3,FALSE))","v":""},{"$f":"IF(E125=\"\",\"\",VLOOKUP(E125,'ePrijava in Navodila'!$B$13:$H$164,5,FALSE))","v":""},null,{"$f":"IF(E125=\"\",\"\",VLOOKUP(E125,'ePrijava in Navodila'!$B$13:$H$164,7,FALSE))","v":""},null,null,null,null,null,null,0]
[17,null,{"$f":"IF(E126=\"\",\"\",VLOOKUP(E126,'ePrijava in Navodila'!$B$13:$H$164,2,FALSE) & \" \" & VLOOKUP(E126,'ePrijava in Navodila'!$B$13:$H$164,3,FALSE))","v":""},{"$f":"IF(E126=\"\",\"\",VLOOKUP(E126,'ePrijava in Navodila'!$B$13:$H$164,5,FALSE))","v":""},null,{"$f":"IF(E126=\"\",\"\",VLOOKUP(E126,'ePrijava in Navodila'!$B$13:$H$164,7,FALSE))","v":""},null,null,null,null,null,null,0]
[18,null,{"$f":"IF(E127=\"\",\"\",VLOOKUP(E127,'ePrijava in Navodila'!$B$13:$H$164,2,FALSE) & \" \" & VLOOKUP(E127,'ePrijava in Navodila'!$B$13:$H$164,3,FALSE))","v":""},{"$f":"IF(E127=\"\",\"\",VLOOKUP(E127,'ePrijava in Navodila'!$B$13:$H$164,5,FALSE))","v":""},null,{"$f":"IF(E127=\"\",\"\",VLOOKUP(E127,'ePrijava in Navodila'!$B$13:$H$164,7,FALSE))","v":""},null,null,null,null,null,null,0]
[19,null,{"$f":"IF(E128=\"\",\"\",VLOOKUP(E128,'ePrijava in Navodila'!$B$13:$H$164,2,FALSE) & \" \" & VLOOKUP(E128,'ePrijava in Navodila'!$B$13:$H$164,3,FALSE))","v":""},{"$f":"IF(E128=\"\",\"\",VLOOKUP(E128,'ePrijava in Navodila'!$B$13:$H$164,5,FALSE))","v":""},null,{"$f":"IF(E128=\"\",\"\",VLOOKUP(E128,'ePrijava in Navodila'!$B$13:$H$164,7,FALSE))","v":""},null,null,null,null,null,null,0]
[20,null,{"$f":"IF(E129=\"\",\"\",VLOOKUP(E129,'ePrijava in Navodila'!$B$13:$H$164,2,FALSE) & \" \" & VLOOKUP(E129,'ePrijava in Navodila'!$B$13:$H$164,3,FALSE))","v":""},{"$f":"IF(E129=\"\",\"\",VLOOKUP(E129,'ePrijava in Navodila'!$B$13:$H$164,5,FALSE))","v":""},null,{"$f":"IF(E129=\"\",\"\",VLOOKUP(E129,'ePrijava in Navodila'!$B$13:$H$164,7,FALSE))","v":""},null,null,null,null,null,null,0]
[21,null,{"$f":"IF(E130=\"\",\"\",VLOOKUP(E130,'ePrijava in Navodila'!$B$13:$H$164,2,FALSE) & \" \" & VLOOKUP(E130,'ePrijava in Navodila'!$B$13:$H$164,3,FALSE))","v":""},{"$f":"IF(E130=\"\",\"\",VLOOKUP(E130,'ePrijava in Navodila'!$B$13:$H$164,5,FALSE))","v":""},null,{"$f":"IF(E130=\"\",\"\",VLOOKUP(E130,'ePrijava in Navodila'!$B$13:$H$164,7,FALSE))","v":""},null,null,null,null,null,null,0]
[22,null,{"$f":"IF(E131=\"\",\"\",VLOOKUP(E131,'ePrijava in Navodila'!$B$13:$H$164,2,FALSE) & \" \" & VLOOKUP(E131,'ePrijava in Navodila'!$B$13:$H$164,3,FALSE))","v":""},{"$f":"IF(E131=\"\",\"\",VLOOKUP(E131,'ePrijava in Navodila'!$B$13:$H$164,5,FALSE))","v":""},null,{"$f":"IF(E131=\"\",\"\",VLOOKUP(E131,'ePrijava in Navodila'!$B$13:$H$164,7,FALSE))","v":""},null,null,null,null,null,null,0]
[23,null,{"$f":"IF(E132=\"\",\"\",VLOOKUP(E132,'ePrijava in Navodila'!$B$13:$H$164,2,FALSE) & \" \" & VLOOKUP(E132,'ePrijava in Navodila'!$B$13:$H$164,3,FALSE))","v":""},{"$f":"IF(E132=\"\",\"\",VLOOKUP(E132,'ePrijava in Navodila'!$B$13:$H$164,5,FALSE))","v":""},null,{"$f":"IF(E132=\"\",\"\",VLOOKUP(E132,'ePrijava in Navodila'!$B$13:$H$164,7,FALSE))","v":""},null,null,null,null,null,null,0]
[24,null,{"$f":"IF(E133=\"\",\"\",VLOOKUP(E133,'ePrijava in Navodila'!$B$13:$H$164,2,FALSE) & \" \" & VLOOKUP(E133,'ePrijava in Navodila'!$B$13:$H$164,3,FALSE))","v":""},{"$f":"IF(E133=\"\",\"\",VLOOKUP(E133,'ePrijava in Navodila'!$B$13:$H$164,5,FALSE))","v":""},null,{"$f":"IF(E133=\"\",\"\",VLOOKUP(E133,'ePrijava in Navodila'!$B$13:$H$164,7,FALSE))","v":""},null,null,null,null,null,null,0]
[25,null,{"$f":"IF(E134=\"\",\"\",VLOOKUP(E134,'ePrijava in Navodila'!$B$13:$H$164,2,FALSE) & \" \" & VLOOKUP(E134,'ePrijava in Navodila'!$B$13:$H$164,3,FALSE))","v":""},{"$f":"IF(E134=\"\",\"\",VLOOKUP(E134,'ePrijava in Navodila'!$B$13:$H$164,5,FALSE))","v":""},null,{"$f":"IF(E134=\"\",\"\",VLOOKUP(E134,'ePrijava in Navodila'!$B$13:$H$164,7,FALSE))","v":""},null,null,null,null,null,null,0]
[26,null,{"$f":"IF(E135=\"\",\"\",VLOOKUP(E135,'ePrijava in Navodila'!$B$13:$H$164,2,FALSE) & \" \" & VLOOKUP(E135,'ePrijava in Navodila'!$B$13:$H$164,3,FALSE))","v":""},{"$f":"IF(E135=\"\",\"\",VLOOKUP(E135,'ePrijava in Navodila'!$B$13:$H$164,5,FALSE))","v":""},null,{"$f":"IF(E135=\"\",\"\",VLOOKUP(E135,'ePrijava in Navodila'!$B$13:$H$164,7,FALSE))","v":""},null,null,null,null,null,null,0]
[27,null,{"$f":"IF(E136=\"\",\"\",VLOOKUP(E136,'ePrijava in Navodila'!$B$13:$H$164,2,FALSE) & \" \" & VLOOKUP(E136,'ePrijava in Navodila'!$B$13:$H$164,3,FALSE))","v":""},{"$f":"IF(E136=\"\",\"\",VLOOKUP(E136,'ePrijava in Navodila'!$B$13:$H$164,5,FALSE))","v":""},null,{"$f":"IF(E136=\"\",\"\",VLOOKUP(E136,'ePrijava in Navodila'!$B$13:$H$164,7,FALSE))","v":""},null,null,null,null,null,null,0]
[28,null,{"$f":"IF(E137=\"\",\"\",VLOOKUP(E137,'ePrijava in Navodila'!$B$13:$H$164,2,FALSE) & \" \" & VLOOKUP(E137,'ePrijava in Navodila'!$B$13:$H$164,3,FALSE))","v":""},{"$f":"IF(E137=\"\",\"\",VLOOKUP(E137,'ePrijava in Navodila'!$B$13:$H$164,5,FALSE))","v":""},null,{"$f":"IF(E137=\"\",\"\",VLOOKUP(E137,'ePrijava in Navodila'!$B$13:$H$164,7,FALSE))","v":""},null,null,null,null,null,null,0]
[29,null,{"$f":"IF(E138=\"\",\"\",VLOOKUP(E138,'ePrijava in Navodila'!$B$13:$H$164,2,FALSE) & \" \" & VLOOKUP(E138,'ePrijava in Navodila'!$B$13:$H$164,3,FALSE))","v":""},{"$f":"IF(E138=\"\",\"\",VLOOKUP(E138,'ePrijava in Navodila'!$B$13:$H$164,5,FALSE))","v":""},null,{"$f":"IF(E138=\"\",\"\",VLOOKUP(E138,'ePrijava in Navodila'!$B$13:$H$164,7,FALSE))","v":""},null,null,null,null,null,null,0]
[30,null,{"$f":"IF(E139=\"\",\"\",VLOOKUP(E139,'ePrijava in Navodila'!$B$13:$H$164,2,FALSE) & \" \" & VLOOKUP(E139,'ePrijava in Navodila'!$B$13:$H$164,3,FALSE))","v":""},{"$f":"IF(E139=\"\",\"\",VLOOKUP(E139,'ePrijava in Navodila'!$B$13:$H$164,5,FALSE))","v":""},null,{"$f":"IF(E139=\"\",\"\",VLOOKUP(E139,'ePrijava in Navodila'!$B$13:$H$164,7,FALSE))","v":""},null,null,null,null,null,null,0]
[31,null,{"$f":"IF(E140=\"\",\"\",VLOOKUP(E140,'ePrijava in Navodila'!$B$13:$H$164,2,FALSE) & \" \" & VLOOKUP(E140,'ePrijava in Navodila'!$B$13:$H$164,3,FALSE))","v":""},{"$f":"IF(E140=\"\",\"\",VLOOKUP(E140,'ePrijava in Navodila'!$B$13:$H$164,5,FALSE))","v":""},null,{"$f":"IF(E140=\"\",\"\",VLOOKUP(E140,'ePrijava in Navodila'!$B$13:$H$164,7,FALSE))","v":""},null,null,null,null,null,null,{"$f":"SUM(G140:L140)","v":0}]
[32,null,{"$f":"IF(E141=\"\",\"\",VLOOKUP(E141,'ePrijava in Navodila'!$B$13:$H$164,2,FALSE) & \" \" & VLOOKUP(E141,'ePrijava in Navodila'!$B$13:$H$164,3,FALSE))","v":""},{"$f":"IF(E141=\"\",\"\",VLOOKUP(E141,'ePrijava in Navodila'!$B$13:$H$164,5,FALSE))","v":""},null,{"$f":"IF(E141=\"\",\"\",VLOOKUP(E141,'ePrijava in Navodila'!$B$13:$H$164,7,FALSE))","v":""},null,null,null,null,null,null,0]
[33,null,{"$f":"IF(E142=\"\",\"\",VLOOKUP(E142,'ePrijava in Navodila'!$B$13:$H$164,2,FALSE) & \" \" & VLOOKUP(E142,'ePrijava in Navodila'!$B$13:$H$164,3,FALSE))","v":""},{"$f":"IF(E142=\"\",\"\",VLOOKUP(E142,'ePrijava in Navodila'!$B$13:$H$164,5,FALSE))","v":""},null,{"$f":"IF(E142=\"\",\"\",VLOOKUP(E142,'ePrijava in Navodila'!$B$13:$H$164,7,FALSE))","v":""},null,null,null,null,null,null,0]
[34,null,{"$f":"IF(E143=\"\",\"\",VLOOKUP(E143,'ePrijava in Navodila'!$B$13:$H$164,2,FALSE) & \" \" & VLOOKUP(E143,'ePrijava in Navodila'!$B$13:$H$164,3,FALSE))","v":""},{"$f":"IF(E143=\"\",\"\",VLOOKUP(E143,'ePrijava in Navodila'!$B$13:$H$164,5,FALSE))","v":""},null,{"$f":"IF(E143=\"\",\"\",VLOOKUP(E143,'ePrijava in Navodila'!$B$13:$H$164,7,FALSE))","v":""},null,null,null,null,null,null,0]
[35,null,{"$f":"IF(E144=\"\",\"\",VLOOKUP(E144,'ePrijava in Navodila'!$B$13:$H$164,2,FALSE) & \" \" & VLOOKUP(E144,'ePrijava in Navodila'!$B$13:$H$164,3,FALSE))","v":""},{"$f":"IF(E144=\"\",\"\",VLOOKUP(E144,'ePrijava in Navodila'!$B$13:$H$164,5,FALSE))","v":""},null,{"$f":"IF(E144=\"\",\"\",VLOOKUP(E144,'ePrijava in Navodila'!$B$13:$H$164,7,FALSE))","v":""},null,null,null,null,null,null,0]
[36,null,{"$f":"IF(E145=\"\",\"\",VLOOKUP(E145,'ePrijava in Navodila'!$B$13:$H$164,2,FALSE) & \" \" & VLOOKUP(E145,'ePrijava in Navodila'!$B$13:$H$164,3,FALSE))","v":""},{"$f":"IF(E145=\"\",\"\",VLOOKUP(E145,'ePrijava in Navodila'!$B$13:$H$164,5,FALSE))","v":""},null,{"$f":"IF(E145=\"\",\"\",VLOOKUP(E145,'ePrijava in Navodila'!$B$13:$H$164,7,FALSE))","v":""},null,null,null,null,null,null,0]
[37,null,{"$f":"IF(E146=\"\",\"\",VLOOKUP(E146,'ePrijava in Navodila'!$B$13:$H$164,2,FALSE) & \" \" & VLOOKUP(E146,'ePrijava in Navodila'!$B$13:$H$164,3,FALSE))","v":""},{"$f":"IF(E146=\"\",\"\",VLOOKUP(E146,'ePrijava in Navodila'!$B$13:$H$164,5,FALSE))","v":""},null,{"$f":"IF(E146=\"\",\"\",VLOOKUP(E146,'ePrijava in Navodila'!$B$13:$H$164,7,FALSE))","v":""},null,null,null,null,null,null,0]
[38,null,{"$f":"IF(E147=\"\",\"\",VLOOKUP(E147,'ePrijava in Navodila'!$B$13:$H$164,2,FALSE) & \" \" & VLOOKUP(E147,'ePrijava in Navodila'!$B$13:$H$164,3,FALSE))","v":""},{"$f":"IF(E147=\"\",\"\",VLOOKUP(E147,'ePrijava in Navodila'!$B$13:$H$164,5,FALSE))","v":""},null,{"$f":"IF(E147=\"\",\"\",VLOOKUP(E147,'ePrijava in Navodila'!$B$13:$H$164,7,FALSE))","v":""},null,null,null,null,null,null,0]
[39,null,{"$f":"IF(E148=\"\",\"\",VLOOKUP(E148,'ePrijava in Navodila'!$B$13:$H$164,2,FALSE) & \" \" & VLOOKUP(E148,'ePrijava in Navodila'!$B$13:$H$164,3,FALSE))","v":""},{"$f":"IF(E148=\"\",\"\",VLOOKUP(E148,'ePrijava in Navodila'!$B$13:$H$164,5,FALSE))","v":""},null,{"$f":"IF(E148=\"\",\"\",VLOOKUP(E148,'ePrijava in Navodila'!$B$13:$H$164,7,FALSE))","v":""},null,null,null,null,null,null,0]
[40,null,{"$f":"IF(E149=\"\",\"\",VLOOKUP(E149,'ePrijava in Navodila'!$B$13:$H$164,2,FALSE) & \" \" & VLOOKUP(E149,'ePrijava in Navodila'!$B$13:$H$164,3,FALSE))","v":""},{"$f":"IF(E149=\"\",\"\",VLOOKUP(E149,'ePrijava in Navodila'!$B$13:$H$164,5,FALSE))","v":""},null,{"$f":"IF(E149=\"\",\"\",VLOOKUP(E149,'ePrijava in Navodila'!$B$13:$H$164,7,FALSE))","v":""},null,null,null,null,null,null,0]

{"sheet":"U13","index":3,"n_rows":149,"n_cols":27,"rows_kept":149,"cut":false,"hidden":false,"merged":[[104,0,108,0],[104,1,108,1],[104,2,105,12],[0,2,0,12],[0,18,2,37],[1,0,3,0],[1,1,3,1],[1,2,1,12],[103,4,103,5]]}
[null,null,"POKAL PRIJATELJSTVA SERIJSKA ZRAČNA PUŠKA - NASLON",null,null,null,null,null,null,null,null,null,null,null,null,null,null,null,"Iz evidence in zavihka ePrijava in Navodila se za tekmovalca v seznam za rezultate v stolpec E vpiše BIB številka pri \"moških\" od vrstice 5 dalje, za \"ženske\"pa od vrstice 110 dalje. Po vpisu BIB bo preneslo vse podatke v ta seznam, kjer se nato vpisujejo rezultati. Vpiše se rezultat serije v K in L  ter nc*. Prav tako se za upoštevanje rezultata ekipno vpišejo samo BIB številke v stolpcu R za vse tri člane ekipe, ki je lahko mešana. Prenos ostalih podatkov je samodejen.  Posamezno se lahko razvrsti, ekipno ostane nerazvrščeno. Dokument mora imeti omogočen makro."]
["mesto",null,"U13 (dečki)"]
[]
[null,null,"Priimek in ime","Roj.skrita","BIB","Društvo, klub","1. ser","2. ser","3. ser","4. ser","1. ser","2. ser","skupno","nc*"]
[1,null,{"$f":"IF(E5=\"\",\"\",VLOOKUP(E5,'ePrijava in Navodila'!$B$13:$H$164,2,FALSE) & \" \" & VLOOKUP(E5,'ePrijava in Navodila'!$B$13:$H$164,3,FALSE))","v":""},{"$f":"IF(E5=\"\",\"\",VLOOKUP(E5,'ePrijava in Navodila'!$B$13:$H$164,5,FALSE))","v":""},null,{"$f":"IF(E5=\"\",\"\",VLOOKUP(E5,'ePrijava in Navodila'!$B$13:$H$164,7,FALSE))","v":""},null,null,null,null,null,null,{"$f":"SUM(G5:L5)","v":0},null,null,null,null,null,"EKIPNO: "]
[2,null,{"$f":"IF(E6=\"\",\"\",VLOOKUP(E6,'ePrijava in Navodila'!$B$13:$H$164,2,FALSE) & \" \" & VLOOKUP(E6,'ePrijava in Navodila'!$B$13:$H$164,3,FALSE))","v":""},{"$f":"IF(E6=\"\",\"\",VLOOKUP(E6,'ePrijava in Navodila'!$B$13:$H$164,5,FALSE))","v":""},null,{"$f":"IF(E6=\"\",\"\",VLOOKUP(E6,'ePrijava in Navodila'!$B$13:$H$164,7,FALSE))","v":""},null,null,null,null,null,null,0]
[3,null,{"$f":"IF(E7=\"\",\"\",VLOOKUP(E7,'ePrijava in Navodila'!$B$13:$H$164,2,FALSE) & \" \" & VLOOKUP(E7,'ePrijava in Navodila'!$B$13:$H$164,3,FALSE))","v":""},{"$f":"IF(E7=\"\",\"\",VLOOKUP(E7,'ePrijava in Navodila'!$B$13:$H$164,5,FALSE))","v":""},null,{"$f":"IF(E7=\"\",\"\",VLOOKUP(E7,'ePrijava in Navodila'!$B$13:$H$164,7,FALSE))","v":""},null,null,null,null,null,null,0,null,null,null,null,null,{"$f":"IF(R9=\"\",\"\",VLOOKUP(R9,'ePrijava in Navodila'!$B$13:$H$164,7,FALSE))","v":""}]
[4,null,{"$f":"IF(E8=\"\",\"\",VLOOKUP(E8,'ePrijava in Navodila'!$B$13:$H$164,2,FALSE) & \" \" & VLOOKUP(E8,'ePrijava in Navodila'!$B$13:$H$164,3,FALSE))","v":""},{"$f":"IF(E8=\"\",\"\",VLOOKUP(E8,'ePrijava in Navodila'!$B$13:$H$164,5,FALSE))","v":""},null,{"$f":"IF(E8=\"\",\"\",VLOOKUP(E8,'ePrijava in Navodila'!$B$13:$H$164,7,FALSE))","v":""},null,null,null,null,null,null,0,null,null,null,null,"BIB","Priimek in ime","1. ser","2. ser","3. ser","4. ser","1. ser","2. ser","skupno","nc*"]
[5,null,{"$f":"IF(E9=\"\",\"\",VLOOKUP(E9,'ePrijava in Navodila'!$B$13:$H$164,2,FALSE) & \" \" & VLOOKUP(E9,'ePrijava in Navodila'!$B$13:$H$164,3,FALSE))","v":""},{"$f":"IF(E9=\"\",\"\",VLOOKUP(E9,'ePrijava in Navodila'!$B$13:$H$164,5,FALSE))","v":""},null,{"$f":"IF(E9=\"\",\"\",VLOOKUP(E9,'ePrijava in Navodila'!$B$13:$H$164,7,FALSE))","v":""},null,null,null,null,null,null,0,null,null,null,null,null,{"$f":"IF(R9=\"\",\"\",VLOOKUP(R9,'ePrijava in Navodila'!$B$13:$H$164,2,FALSE) & \" \" & VLOOKUP(R9,'ePrijava in Navodila'!$B$13:$H$164,3,FALSE))","v":""},{"$f":"IF(S9=\"\",\"\",VLOOKUP(S9,$C$5:$L$149,5,FALSE))","v":""},{"$f":"IF(S9=\"\",\"\",VLOOKUP(S9,$C$5:$L$149,6,FALSE))","v":""},{"$f":"IF(S9=\"\",\"\",VLOOKUP(S9,$C$5:$L$149,7,FALSE))","v":""},{"$f":"IF(S9=\"\",\"\",VLOOKUP(S9,$C$5:$L$149,8,FALSE))","v":""},{"$f":"IF(S9=\"\",\"\",VLOOKUP(S9,$C$5:$L$149,9,FALSE))","v":""},{"$f":"IF(S9=\"\",\"\",VLOOKUP(S9,$C$5:$L$149,10,FALSE))","v":""},{"$f":"SUM(T9:Y9)","v":0},{"$f":"IF(S9=\"\",\"\",VLOOKUP(S9,$C$5:$N$149,12,FALSE))","v":""}]
[6,null,{"$f":"IF(E10=\"\",\"\",VLOOKUP(E10,'ePrijava in Navodila'!$B$13:$H$164,2,FALSE) & \" \" & VLOOKUP(E10,'ePrijava in Navodila'!$B$13:$H$164,3,FALSE))","v":""},{"$f":"IF(E10=\"\",\"\",VLOOKUP(E10,'ePrijava in Navodila'!$B$13:$H$164,5,FALSE))","v":""},null,{"$f":"IF(E10=\"\",\"\",VLOOKUP(E10,'ePrijava in Navodila'!$B$13:$H$164,7,FALSE))","v":""},null,null,null,null,null,null,0,null,null,null,null,null,{"$f":"IF(R10=\"\",\"\",VLOOKUP(R10,'ePrijava in Navodila'!$B$13:$H$164,2,FALSE) & \" \" & VLOOKUP(R10,'ePrijava in Navodila'!$B$13:$H$164,3,FALSE))","v":""},{"$f":"IF(S10=\"\",\"\",VLOOKUP(S10,$C$5:$L$149,5,FALSE))","v":""},{"$f":"IF(S10=\"\",\"\",VLOOKUP(S10,$C$5:$L$149,6,FALSE))","v":""},{"$f":"IF(S10=\"\",\"\",VLOOKUP(S10,$C$5:$L$149,7,FALSE))","v":""},{"$f":"IF(S10=\"\",\"\",VLOOKUP(S10,$C$5:$L$149,8,FALSE))","v":""},{"$f":"IF(S10=\"\",\"\",VLOOKUP(S10,$C$5:$L$149,9,FALSE))","v":""},{"$f":"IF(S10=\"\",\"\",VLOOKUP(S10,$C$5:$L$149,10,FALSE))","v":""},{"$f":"SUM(T10:Y10)","v":0},{"$f":"IF(S10=\"\",\"\",VLOOKUP(S10,$C$5:$N$149,12,FALSE))","v":""}]
[7,null,{"$f":"IF(E11=\"\",\"\",VLOOKUP(E11,'ePrijava in Navodila'!$B$13:$H$164,2,FALSE) & \" \" & VLOOKUP(E11,'ePrijava in Navodila'!$B$13:$H$164,3,FALSE))","v":""},{"$f":"IF(E11=\"\",\"\",VLOOKUP(E11,'ePrijava in Navodila'!$B$13:$H$164,5,FALSE))","v":""},null,{"$f":"IF(E11=\"\",\"\",VLOOKUP(E11,'ePrijava in Navodila'!$B$13:$H$164,7,FALSE))","v":""},null,null,null,null,null,null,0,null,null,null,null,null,{"$f":"IF(R11=\"\",\"\",VLOOKUP(R11,'ePrijava in Navodila'!$B$13:$H$164,2,FALSE) & \" \" & VLOOKUP(R11,'ePrijava in Navodila'!$B$13:$H$164,3,FALSE))","v":""},{"$f":"IF(S11=\"\",\"\",VLOOKUP(S11,$C$5:$L$149,5,FALSE))","v":""},{"$f":"IF(S11=\"\",\"\",VLOOKUP(S11,$C$5:$L$149,6,FALSE))","v":""},{"$f":"IF(S11=\"\",\"\",VLOOKUP(S11,$C$5:$L$149,7,FALSE))","v":""},{"$f":"IF(S11=\"\",\"\",VLOOKUP(S11,$C$5:$L$149,8,FALSE))","v":""},{"$f":"IF(S11=\"\",\"\",VLOOKUP(S11,$C$5:$L$149,9,FALSE))","v":""},{"$f":"IF(S11=\"\",\"\",VLOOKUP(S11,$C$5:$L$149,10,FALSE))","v":""},{"$f":"SUM(T11:Y11)","v":0},{"$f":"IF(S11=\"\",\"\",VLOOKUP(S11,$C$5:$N$149,12,FALSE))","v":""}]
[8,null,{"$f":"IF(E12=\"\",\"\",VLOOKUP(E12,'ePrijava in Navodila'!$B$13:$H$164,2,FALSE) & \" \" & VLOOKUP(E12,'ePrijava in Navodila'!$B$13:$H$164,3,FALSE))","v":""},{"$f":"IF(E12=\"\",\"\",VLOOKUP(E12,'ePrijava in Navodila'!$B$13:$H$164,5,FALSE))","v":""},null,{"$f":"IF(E12=\"\",\"\",VLOOKUP(E12,'ePrijava in Navodila'!$B$13:$H$164,7,FALSE))","v":""},null,null,null,null,null,null,0,null,null,null,null,null,null,null,null,null,null,null,{"$f":"SUM(Y9:Y11)","v":0},{"$f":"SUM(Z9:Z11)","v":0},{"$f":"SUM(AA9:AA11)","v":0}]
[9,null,{"$f":"IF(E13=\"\",\"\",VLOOKUP(E13,'ePrijava in Navodila'!$B$13:$H$164,2,FALSE) & \" \" & VLOOKUP(E13,'ePrijava in Navodila'!$B$13:$H$164,3,FALSE))","v":""},{"$f":"IF(E13=\"\",\"\",VLOOKUP(E13,'ePrijava in Navodila'!$B$13:$H$164,5,FALSE))","v":""},null,{"$f":"IF(E13=\"\",\"\",VLOOKUP(E13,'ePrijava in Navodila'!$B$13:$H$164,7,FALSE))","v":""},null,null,null,null,null,null,0]
[10,null,{"$f":"IF(E14=\"\",\"\",VLOOKUP(E14,'ePrijava in Navodila'!$B$13:$H$164,2,FALSE) & \" \" & VLOOKUP(E14,'ePrijava in Navodila'!$B$13:$H$164,3,FALSE))","v":""},{"$f":"IF(E14=\"\",\"\",VLOOKUP(E14,'ePrijava in Navodila'!$B$13:$H$164,5,FALSE))","v":""},null,{"$f":"IF(E14=\"\",\"\",VLOOKUP(E14,'ePrijava in Navodila'!$B$13:$H$164,7,FALSE))","v":""},null,null,null,null,null,null,0]
[11,null,{"$f":"IF(E15=\"\",\"\",VLOOKUP(E15,'ePrijava in Navodila'!$B$13:$H$164,2,FALSE) & \" \" & VLOOKUP(E15,'ePrijava in Navodila'!$B$13:$H$164,3,FALSE))","v":""},{"$f":"IF(E15=\"\",\"\",VLOOKUP(E15,'ePrijava in Navodila'!$B$13:$H$164,5,FALSE))","v":""},null,{"$f":"IF(E15=\"\",\"\",VLOOKUP(E15,'ePrijava in Navodila'!$B$13:$H$164,7,FALSE))","v":""},null,null,null,null,null,null,0,null,null,null,null,null,{"$f":"IF(R17=\"\",\"\",VLOOKUP(R17,'ePrijava in Navodila'!$B$13:$H$164,7,FALSE))","v":""}]
[12,null,{"$f":"IF(E16=\"\",\"\",VLOOKUP(E16,'ePrijava in Navodila'!$B$13:$H$164,2,FALSE) & \" \" & VLOOKUP(E16,'ePrijava in Navodila'!$B$13:$H$164,3,FALSE))","v":""},{"$f":"IF(E16=\"\",\"\",VLOOKUP(E16,'ePrijava in Navodila'!$B$13:$H$164,5,FALSE))","v":""},null,{"$f":"IF(E16=\"\",\"\",VLOOKUP(E16,'ePrijava in Navodila'!$B$13:$H$164,7,FALSE))","v":""},null,null,null,null,null,null,0,null,null,null,null,"BIB","Priimek in ime","1. ser","2. ser","3. ser","4. ser","1. ser","2. ser","skupno","nc*"]
[13,null,{"$f":"IF(E17=\"\",\"\",VLOOKUP(E17,'ePrijava in Navodila'!$B$13:$H$164,2,FALSE) & \" \" & VLOOKUP(E17,'ePrijava in Navodila'!$B$13:$H$164,3,FALSE))","v":""},{"$f":"IF(E17=\"\",\"\",VLOOKUP(E17,'ePrijava in Navodila'!$B$13:$H$164,5,FALSE))","v":""},null,{"$f":"IF(E17=\"\",\"\",VLOOKUP(E17,'ePrijava in Navodila'!$B$13:$H$164,7,FALSE))","v":""},null,null,null,null,null,null,0,null,null,null,null,null,{"$f":"IF(R17=\"\",\"\",VLOOKUP(R17,'ePrijava in Navodila'!$B$13:$H$164,2,FALSE) & \" \" & VLOOKUP(R17,'ePrijava in Navodila'!$B$13:$H$164,3,FALSE))","v":""},{"$f":"IF(S17=\"\",\"\",VLOOKUP(S17,$C$5:$L$149,5,FALSE))","v":""},{"$f":"IF(S17=\"\",\"\",VLOOKUP(S17,$C$5:$L$149,6,FALSE))","v":""},{"$f":"IF(S17=\"\",\"\",VLOOKUP(S17,$C$5:$L$149,7,FALSE))","v":""},{"$f":"IF(S17=\"\",\"\",VLOOKUP(S17,$C$5:$L$149,8,FALSE))","v":""},{"$f":"IF(S17=\"\",\"\",VLOOKUP(S17,$C$5:$L$149,9,FALSE))","v":""},{"$f":"IF(S17=\"\",\"\",VLOOKUP(S17,$C$5:$L$149,10,FALSE))","v":""},{"$f":"SUM(T17:Y17)","v":0},{"$f":"IF(S17=\"\",\"\",VLOOKUP(S17,$C$5:$N$149,12,FALSE))","v":""}]
[14,null,{"$f":"IF(E18=\"\",\"\",VLOOKUP(E18,'ePrijava in Navodila'!$B$13:$H$164,2,FALSE) & \" \" & VLOOKUP(E18,'ePrijava in Navodila'!$B$13:$H$164,3,FALSE))","v":""},{"$f":"IF(E18=\"\",\"\",VLOOKUP(E18,'ePrijava in Navodila'!$B$13:$H$164,5,FALSE))","v":""},null,{"$f":"IF(E18=\"\",\"\",VLOOKUP(E18,'ePrijava in Navodila'!$B$13:$H$164,7,FALSE))","v":""},null,null,null,null,null,null,0,null,null,null,null,null,{"$f":"IF(R18=\"\",\"\",VLOOKUP(R18,'ePrijava in Navodila'!$B$13:$H$164,2,FALSE) & \" \" & VLOOKUP(R18,'ePrijava in Navodila'!$B$13:$H$164,3,FALSE))","v":""},{"$f":"IF(S18=\"\",\"\",VLOOKUP(S18,$C$5:$L$149,5,FALSE))","v":""},{"$f":"IF(S18=\"\",\"\",VLOOKUP(S18,$C$5:$L$149,6,FALSE))","v":""},{"$f":"IF(S18=\"\",\"\",VLOOKUP(S18,$C$5:$L$149,7,FALSE))","v":""},{"$f":"IF(S18=\"\",\"\",VLOOKUP(S18,$C$5:$L$149,8,FALSE))","v":""},{"$f":"IF(S18=\"\",\"\",VLOOKUP(S18,$C$5:$L$149,9,FALSE))","v":""},{"$f":"IF(S18=\"\",\"\",VLOOKUP(S18,$C$5:$L$149,10,FALSE))","v":""},{"$f":"SUM(T18:Y18)","v":0},{"$f":"IF(S18=\"\",\"\",VLOOKUP(S18,$C$5:$N$149,12,FALSE))","v":""}]
[15,null,{"$f":"IF(E19=\"\",\"\",VLOOKUP(E19,'ePrijava in Navodila'!$B$13:$H$164,2,FALSE) & \" \" & VLOOKUP(E19,'ePrijava in Navodila'!$B$13:$H$164,3,FALSE))","v":""},{"$f":"IF(E19=\"\",\"\",VLOOKUP(E19,'ePrijava in Navodila'!$B$13:$H$164,5,FALSE))","v":""},null,{"$f":"IF(E19=\"\",\"\",VLOOKUP(E19,'ePrijava in Navodila'!$B$13:$H$164,7,FALSE))","v":""},null,null,null,null,null,null,0,null,null,null,null,null,{"$f":"IF(R19=\"\",\"\",VLOOKUP(R19,'ePrijava in Navodila'!$B$13:$H$164,2,FALSE) & \" \" & VLOOKUP(R19,'ePrijava in Navodila'!$B$13:$H$164,3,FALSE))","v":""},{"$f":"IF(S19=\"\",\"\",VLOOKUP(S19,$C$5:$L$149,5,FALSE))","v":""},{"$f":"IF(S19=\"\",\"\",VLOOKUP(S19,$C$5:$L$149,6,FALSE))","v":""},{"$f":"IF(S19=\"\",\"\",VLOOKUP(S19,$C$5:$L$149,7,FALSE))","v":""},{"$f":"IF(S19=\"\",\"\",VLOOKUP(S19,$C$5:$L$149,8,FALSE))","v":""},{"$f":"IF(S19=\"\",\"\",VLOOKUP(S19,$C$5:$L$149,9,FALSE))","v":""},{"$f":"IF(S19=\"\",\"\",VLOOKUP(S19,$C$5:$L$149,10,FALSE))","v":""},{"$f":"SUM(T19:Y19)","v":0},{"$f":"IF(S19=\"\",\"\",VLOOKUP(S19,$C$5:$N$149,12,FALSE))","v":""}]
[16,null,{"$f":"IF(E20=\"\",\"\",VLOOKUP(E20,'ePrijava in Navodila'!$B$13:$H$164,2,FALSE) & \" \" & VLOOKUP(E20,'ePrijava in Navodila'!$B$13:$H$164,3,FALSE))","v":""},{"$f":"IF(E20=\"\",\"\",VLOOKUP(E20,'ePrijava in Navodila'!$B$13:$H$164,5,FALSE))","v":""},null,{"$f":"IF(E20=\"\",\"\",VLOOKUP(E20,'ePrijava in Navodila'!$B$13:$H$164,7,FALSE))","v":""},null,null,null,null,null,null,0,null,null,null,null,null,null,null,null,null,null,null,{"$f":"SUM(Y17:Y19)","v":0},{"$f":"SUM(Z17:Z19)","v":0},{"$f":"SUM(AA17:AA19)","v":0}]
[17,null,{"$f":"IF(E21=\"\",\"\",VLOOKUP(E21,'ePrijava in Navodila'!$B$13:$H$164,2,FALSE) & \" \" & VLOOKUP(E21,'ePrijava in Navodila'!$B$13:$H$164,3,FALSE))","v":""},{"$f":"IF(E21=\"\",\"\",VLOOKUP(E21,'ePrijava in Navodila'!$B$13:$H$164,5,FALSE))","v":""},null,{"$f":"IF(E21=\"\",\"\",VLOOKUP(E21,'ePrijava in Navodila'!$B$13:$H$164,7,FALSE))","v":""},null,null,null,null,null,null,0]
[18,null,{"$f":"IF(E22=\"\",\"\",VLOOKUP(E22,'ePrijava in Navodila'!$B$13:$H$164,2,FALSE) & \" \" & VLOOKUP(E22,'ePrijava in Navodila'!$B$13:$H$164,3,FALSE))","v":""},{"$f":"IF(E22=\"\",\"\",VLOOKUP(E22,'ePrijava in Navodila'!$B$13:$H$164,5,FALSE))","v":""},null,{"$f":"IF(E22=\"\",\"\",VLOOKUP(E22,'ePrijava in Navodila'!$B$13:$H$164,7,FALSE))","v":""},null,null,null,null,null,null,0]
[19,null,{"$f":"IF(E23=\"\",\"\",VLOOKUP(E23,'ePrijava in Navodila'!$B$13:$H$164,2,FALSE) & \" \" & VLOOKUP(E23,'ePrijava in Navodila'!$B$13:$H$164,3,FALSE))","v":""},{"$f":"IF(E23=\"\",\"\",VLOOKUP(E23,'ePrijava in Navodila'!$B$13:$H$164,5,FALSE))","v":""},null,{"$f":"IF(E23=\"\",\"\",VLOOKUP(E23,'ePrijava in Navodila'!$B$13:$H$164,7,FALSE))","v":""},null,null,null,null,null,null,0,null,null,null,null,null,{"$f":"IF(R25=\"\",\"\",VLOOKUP(R25,'ePrijava in Navodila'!$B$13:$H$164,7,FALSE))","v":""}]
[20,null,{"$f":"IF(E24=\"\",\"\",VLOOKUP(E24,'ePrijava in Navodila'!$B$13:$H$164,2,FALSE) & \" \" & VLOOKUP(E24,'ePrijava in Navodila'!$B$13:$H$164,3,FALSE))","v":""},{"$f":"IF(E24=\"\",\"\",VLOOKUP(E24,'ePrijava in Navodila'!$B$13:$H$164,5,FALSE))","v":""},null,{"$f":"IF(E24=\"\",\"\",VLOOKUP(E24,'ePrijava in Navodila'!$B$13:$H$164,7,FALSE))","v":""},null,null,null,null,null,null,0,null,null,null,null,"BIB","Priimek in ime","1. ser","2. ser","3. ser","4. ser","1. ser","2. ser","skupno","nc*"]
[21,null,{"$f":"IF(E25=\"\",\"\",VLOOKUP(E25,'ePrijava in Navodila'!$B$13:$H$164,2,FALSE) & \" \" & VLOOKUP(E25,'ePrijava in Navodila'!$B$13:$H$164,3,FALSE))","v":""},{"$f":"IF(E25=\"\",\"\",VLOOKUP(E25,'ePrijava in Navodila'!$B$13:$H$164,5,FALSE))","v":""},null,{"$f":"IF(E25=\"\",\"\",VLOOKUP(E25,'ePrijava in Navodila'!$B$13:$H$164,7,FALSE))","v":""},null,null,null,null,null,null,0,null,null,null,null,null,{"$f":"IF(R25=\"\",\"\",VLOOKUP(R25,'ePrijava in Navodila'!$B$13:$H$164,2,FALSE) & \" \" & VLOOKUP(R25,'ePrijava in Navodila'!$B$13:$H$164,3,FALSE))","v":""},{"$f":"IF(S25=\"\",\"\",VLOOKUP(S25,$C$5:$L$149,5,FALSE))","v":""},{"$f":"IF(S25=\"\",\"\",VLOOKUP(S25,$C$5:$L$149,6,FALSE))","v":""},{"$f":"IF(S25=\"\",\"\",VLOOKUP(S25,$C$5:$L$149,7,FALSE))","v":""},{"$f":"IF(S25=\"\",\"\",VLOOKUP(S25,$C$5:$L$149,8,FALSE))","v":""},{"$f":"IF(S25=\"\",\"\",VLOOKUP(S25,$C$5:$L$149,9,FALSE))","v":""},{"$f":"IF(S25=\"\",\"\",VLOOKUP(S25,$C$5:$L$149,10,FALSE))","v":""},{"$f":"SUM(T25:Y25)","v":0},{"$f":"IF(S25=\"\",\"\",VLOOKUP(S25,$C$5:$N$149,12,FALSE))","v":""}]
[22,null,{"$f":"IF(E26=\"\",\"\",VLOOKUP(E26,'ePrijava in Navodila'!$B$13:$H$164,2,FALSE) & \" \" & VLOOKUP(E26,'ePrijava in Navodila'!$B$13:$H$164,3,FALSE))","v":""},{"$f":"IF(E26=\"\",\"\",VLOOKUP(E26,'ePrijava in Navodila'!$B$13:$H$164,5,FALSE))","v":""},null,{"$f":"IF(E26=\"\",\"\",VLOOKUP(E26,'ePrijava in Navodila'!$B$13:$H$164,7,FALSE))","v":""},null,null,null,null,null,null,0,null,null,null,null,null,{"$f":"IF(R26=\"\",\"\",VLOOKUP(R26,'ePrijava in Navodila'!$B$13:$H$164,2,FALSE) & \" \" & VLOOKUP(R26,'ePrijava in Navodila'!$B$13:$H$164,3,FALSE))","v":""},{"$f":"IF(S26=\"\",\"\",VLOOKUP(S26,$C$5:$L$149,5,FALSE))","v":""},{"$f":"IF(S26=\"\",\"\",VLOOKUP(S26,$C$5:$L$149,6,FALSE))","v":""},{"$f":"IF(S26=\"\",\"\",VLOOKUP(S26,$C$5:$L$149,7,FALSE))","v":""},{"$f":"IF(S26=\"\",\"\",VLOOKUP(S26,$C$5:$L$149,8,FALSE))","v":""},{"$f":"IF(S26=\"\",\"\",VLOOKUP(S26,$C$5:$L$149,9,FALSE))","v":""},{"$f":"IF(S26=\"\",\"\",VLOOKUP(S26,$C$5:$L$149,10,FALSE))","v":""},{"$f":"SUM(T26:Y26)","v":0},{"$f":"IF(S26=\"\",\"\",VLOOKUP(S26,$C$5:$N$149,12,FALSE))","v":""}]
[23,null,{"$f":"IF(E27=\"\",\"\",VLOOKUP(E27,'ePrijava in Navodila'!$B$13:$H$164,2,FALSE) & \" \" & VLOOKUP(E27,'ePrijava in Navodila'!$B$13:$H$164,3,FALSE))","v":""},{"$f":"IF(E27=\"\",\"\",VLOOKUP(E27,'ePrijava in Navodila'!$B$13:$H$164,5,FALSE))","v":""},null,{"$f":"IF(E27=\"\",\"\",VLOOKUP(E27,'ePrijava in Navodila'!$B$13:$H$164,7,FALSE))","v":""},null,null,null,null,null,null,0,null,null,null,null,null,{"$f":"IF(R27=\"\",\"\",VLOOKUP(R27,'ePrijava in Navodila'!$B$13:$H$164,2,FALSE) & \" \" & VLOOKUP(R27,'ePrijava in Navodila'!$B$13:$H$164,3,FALSE))","v":""},{"$f":"IF(S27=\"\",\"\",VLOOKUP(S27,$C$5:$L$149,5,FALSE))","v":""},{"$f":"IF(S27=\"\",\"\",VLOOKUP(S27,$C$5:$L$149,6,FALSE))","v":""},{"$f":"IF(S27=\"\",\"\",VLOOKUP(S27,$C$5:$L$149,7,FALSE))","v":""},{"$f":"IF(S27=\"\",\"\",VLOOKUP(S27,$C$5:$L$149,8,FALSE))","v":""},{"$f":"IF(S27=\"\",\"\",VLOOKUP(S27,$C$5:$L$149,9,FALSE))","v":""},{"$f":"IF(S27=\"\",\"\",VLOOKUP(S27,$C$5:$L$149,10,FALSE))","v":""},{"$f":"SUM(T27:Y27)","v":0},{"$f":"IF(S27=\"\",\"\",VLOOKUP(S27,$C$5:$N$149,12,FALSE))","v":""}]
[24,null,{"$f":"IF(E28=\"\",\"\",VLOOKUP(E28,'ePrijava in Navodila'!$B$13:$H$164,2,FALSE) & \" \" & VLOOKUP(E28,'ePrijava in Navodila'!$B$13:$H$164,3,FALSE))","v":""},{"$f":"IF(E28=\"\",\"\",VLOOKUP(E28,'ePrijava in Navodila'!$B$13:$H$164,5,FALSE))","v":""},null,{"$f":"IF(E28=\"\",\"\",VLOOKUP(E28,'ePrijava in Navodila'!$B$13:$H$164,7,FALSE))","v":""},null,null,null,null,null,null,0,null,null,null,null,null,null,null,null,null,null,null,{"$f":"SUM(Y25:Y27)","v":0},{"$f":"SUM(Z25:Z27)","v":0},{"$f":"SUM(AA25:AA27)","v":0}]
[25,null,{"$f":"IF(E29=\"\",\"\",VLOOKUP(E29,'ePrijava in Navodila'!$B$13:$H$164,2,FALSE) & \" \" & VLOOKUP(E29,'ePrijava in Navodila'!$B$13:$H$164,3,FALSE))","v":""},{"$f":"IF(E29=\"\",\"\",VLOOKUP(E29,'ePrijava in Navodila'!$B$13:$H$164,5,FALSE))","v":""},null,{"$f":"IF(E29=\"\",\"\",VLOOKUP(E29,'ePrijava in Navodila'!$B$13:$H$164,7,FALSE))","v":""},null,null,null,null,null,null,0]
[26,null,{"$f":"IF(E30=\"\",\"\",VLOOKUP(E30,'ePrijava in Navodila'!$B$13:$H$164,2,FALSE) & \" \" & VLOOKUP(E30,'ePrijava in Navodila'!$B$13:$H$164,3,FALSE))","v":""},{"$f":"IF(E30=\"\",\"\",VLOOKUP(E30,'ePrijava in Navodila'!$B$13:$H$164,5,FALSE))","v":""},null,{"$f":"IF(E30=\"\",\"\",VLOOKUP(E30,'ePrijava in Navodila'!$B$13:$H$164,7,FALSE))","v":""},null,null,null,null,null,null,0]
[27,null,{"$f":"IF(E31=\"\",\"\",VLOOKUP(E31,'ePrijava in Navodila'!$B$13:$H$164,2,FALSE) & \" \" & VLOOKUP(E31,'ePrijava in Navodila'!$B$13:$H$164,3,FALSE))","v":""},{"$f":"IF(E31=\"\",\"\",VLOOKUP(E31,'ePrijava in Navodila'!$B$13:$H$164,5,FALSE))","v":""},null,{"$f":"IF(E31=\"\",\"\",VLOOKUP(E31,'ePrijava in Navodila'!$B$13:$H$164,7,FALSE))","v":""},null,null,null,null,null,null,0,null,null,null,null,null,{"$f":"IF(R33=\"\",\"\",VLOOKUP(R33,'ePrijava in Navodila'!$B$13:$H$164,7,FALSE))","v":""}]
[28,null,{"$f":"IF(E32=\"\",\"\",VLOOKUP(E32,'ePrijava in Navodila'!$B$13:$H$164,2,FALSE) & \" \" & VLOOKUP(E32,'ePrijava in Navodila'!$B$13:$H$164,3,FALSE))","v":""},{"$f":"IF(E32=\"\",\"\",VLOOKUP(E32,'ePrijava in Navodila'!$B$13:$H$164,5,FALSE))","v":""},null,{"$f":"IF(E32=\"\",\"\",VLOOKUP(E32,'ePrijava in Navodila'!$B$13:$H$164,7,FALSE))","v":""},null,null,null,null,null,null,0,null,null,null,null,"BIB","Priimek in ime","1. ser","2. ser","3. ser","4. ser","1. ser","2. ser","skupno","nc*"]
[29,null,{"$f":"IF(E33=\"\",\"\",VLOOKUP(E33,'ePrijava in Navodila'!$B$13:$H$164,2,FALSE) & \" \" & VLOOKUP(E33,'ePrijava in Navodila'!$B$13:$H$164,3,FALSE))","v":""},{"$f":"IF(E33=\"\",\"\",VLOOKUP(E33,'ePrijava in Navodila'!$B$13:$H$164,5,FALSE))","v":""},null,{"$f":"IF(E33=\"\",\"\",VLOOKUP(E33,'ePrijava in Navodila'!$B$13:$H$164,7,FALSE))","v":""},null,null,null,null,null,null,0,null,null,null,null,null,{"$f":"IF(R33=\"\",\"\",VLOOKUP(R33,'ePrijava in Navodila'!$B$13:$H$164,2,FALSE) & \" \" & VLOOKUP(R33,'ePrijava in Navodila'!$B$13:$H$164,3,FALSE))","v":""},{"$f":"IF(S33=\"\",\"\",VLOOKUP(S33,$C$5:$L$149,5,FALSE))","v":""},{"$f":"IF(S33=\"\",\"\",VLOOKUP(S33,$C$5:$L$149,6,FALSE))","v":""},{"$f":"IF(S33=\"\",\"\",VLOOKUP(S33,$C$5:$L$149,7,FALSE))","v":""},{"$f":"IF(S33=\"\",\"\",VLOOKUP(S33,$C$5:$L$149,8,FALSE))","v":""},{"$f":"IF(S33=\"\",\"\",VLOOKUP(S33,$C$5:$L$149,9,FALSE))","v":""},{"$f":"IF(S33=\"\",\"\",VLOOKUP(S33,$C$5:$L$149,10,FALSE))","v":""},{"$f":"SUM(T33:Y33)","v":0},{"$f":"IF(S33=\"\",\"\",VLOOKUP(S33,$C$5:$N$149,12,FALSE))","v":""}]
[30,null,{"$f":"IF(E34=\"\",\"\",VLOOKUP(E34,'ePrijava in Navodila'!$B$13:$H$164,2,FALSE) & \" \" & VLOOKUP(E34,'ePrijava in Navodila'!$B$13:$H$164,3,FALSE))","v":""},{"$f":"IF(E34=\"\",\"\",VLOOKUP(E34,'ePrijava in Navodila'!$B$13:$H$164,5,FALSE))","v":""},null,{"$f":"IF(E34=\"\",\"\",VLOOKUP(E34,'ePrijava in Navodila'!$B$13:$H$164,7,FALSE))","v":""},null,null,null,null,null,null,0,null,null,null,null,null,{"$f":"IF(R34=\"\",\"\",VLOOKUP(R34,'ePrijava in Navodila'!$B$13:$H$164,2,FALSE) & \" \" & VLOOKUP(R34,'ePrijava in Navodila'!$B$13:$H$164,3,FALSE))","v":""},{"$f":"IF(S34=\"\",\"\",VLOOKUP(S34,$C$5:$L$149,5,FALSE))","v":""},{"$f":"IF(S34=\"\",\"\",VLOOKUP(S34,$C$5:$L$149,6,FALSE))","v":""},{"$f":"IF(S34=\"\",\"\",VLOOKUP(S34,$C$5:$L$149,7,FALSE))","v":""},{"$f":"IF(S34=\"\",\"\",VLOOKUP(S34,$C$5:$L$149,8,FALSE))","v":""},{"$f":"IF(S34=\"\",\"\",VLOOKUP(S34,$C$5:$L$149,9,FALSE))","v":""},{"$f":"IF(S34=\"\",\"\",VLOOKUP(S34,$C$5:$L$149,10,FALSE))","v":""},{"$f":"SUM(T34:Y34)","v":0},{"$f":"IF(S34=\"\",\"\",VLOOKUP(S34,$C$5:$N$149,12,FALSE))","v":""}]
[31,null,{"$f":"IF(E35=\"\",\"\",VLOOKUP(E35,'ePrijava in Navodila'!$B$13:$H$164,2,FALSE) & \" \" & VLOOKUP(E35,'ePrijava in Navodila'!$B$13:$H$164,3,FALSE))","v":""},{"$f":"IF(E35=\"\",\"\",VLOOKUP(E35,'ePrijava in Navodila'!$B$13:$H$164,5,FALSE))","v":""},null,{"$f":"IF(E35=\"\",\"\",VLOOKUP(E35,'ePrijava in Navodila'!$B$13:$H$164,7,FALSE))","v":""},null,null,null,null,null,null,0,null,null,null,null,null,{"$f":"IF(R35=\"\",\"\",VLOOKUP(R35,'ePrijava in Navodila'!$B$13:$H$164,2,FALSE) & \" \" & VLOOKUP(R35,'ePrijava in Navodila'!$B$13:$H$164,3,FALSE))","v":""},{"$f":"IF(S35=\"\",\"\",VLOOKUP(S35,$C$5:$L$149,5,FALSE))","v":""},{"$f":"IF(S35=\"\",\"\",VLOOKUP(S35,$C$5:$L$149,6,FALSE))","v":""},{"$f":"IF(S35=\"\",\"\",VLOOKUP(S35,$C$5:$L$149,7,FALSE))","v":""},{"$f":"IF(S35=\"\",\"\",VLOOKUP(S35,$C$5:$L$149,8,FALSE))","v":""},{"$f":"IF(S35=\"\",\"\",VLOOKUP(S35,$C$5:$L$149,9,FALSE))","v":""},{"$f":"IF(S35=\"\",\"\",VLOOKUP(S35,$C$5:$L$149,10,FALSE))","v":""},{"$f":"SUM(T35:Y35)","v":0},{"$f":"IF(S35=\"\",\"\",VLOOKUP(S35,$C$5:$N$149,12,FALSE))","v":""}]
[32,null,{"$f":"IF(E36=\"\",\"\",VLOOKUP(E36,'ePrijava in Navodila'!$B$13:$H$164,2,FALSE) & \" \" & VLOOKUP(E36,'ePrijava in Navodila'!$B$13:$H$164,3,FALSE))","v":""},{"$f":"IF(E36=\"\",\"\",VLOOKUP(E36,'ePrijava in Navodila'!$B$13:$H$164,5,FALSE))","v":""},null,{"$f":"IF(E36=\"\",\"\",VLOOKUP(E36,'ePrijava in Navodila'!$B$13:$H$164,7,FALSE))","v":""},null,null,null,null,null,null,0,null,null,null,null,null,null,null,null,null,null,null,{"$f":"SUM(Y33:Y35)","v":0},{"$f":"SUM(Z33:Z35)","v":0},{"$f":"SUM(AA33:AA35)","v":0}]
[33,null,{"$f":"IF(E37=\"\",\"\",VLOOKUP(E37,'ePrijava in Navodila'!$B$13:$H$164,2,FALSE) & \" \" & VLOOKUP(E37,'ePrijava in Navodila'!$B$13:$H$164,3,FALSE))","v":""},{"$f":"IF(E37=\"\",\"\",VLOOKUP(E37,'ePrijava in Navodila'!$B$13:$H$164,5,FALSE))","v":""},null,{"$f":"IF(E37=\"\",\"\",VLOOKUP(E37,'ePrijava in Navodila'!$B$13:$H$164,7,FALSE))","v":""},null,null,null,null,null,null,{"$f":"SUM(G37:L37)","v":0}]
[34,null,{"$f":"IF(E38=\"\",\"\",VLOOKUP(E38,'ePrijava in Navodila'!$B$13:$H$164,2,FALSE) & \" \" & VLOOKUP(E38,'ePrijava in Navodila'!$B$13:$H$164,3,FALSE))","v":""},{"$f":"IF(E38=\"\",\"\",VLOOKUP(E38,'ePrijava in Navodila'!$B$13:$H$164,5,FALSE))","v":""},null,{"$f":"IF(E38=\"\",\"\",VLOOKUP(E38,'ePrijava in Navodila'!$B$13:$H$164,7,FALSE))","v":""},null,null,null,null,null,null,0]
[35,null,{"$f":"IF(E39=\"\",\"\",VLOOKUP(E39,'ePrijava in Navodila'!$B$13:$H$164,2,FALSE) & \" \" & VLOOKUP(E39,'ePrijava in Navodila'!$B$13:$H$164,3,FALSE))","v":""},{"$f":"IF(E39=\"\",\"\",VLOOKUP(E39,'ePrijava in Navodila'!$B$13:$H$164,5,FALSE))","v":""},null,{"$f":"IF(E39=\"\",\"\",VLOOKUP(E39,'ePrijava in Navodila'!$B$13:$H$164,7,FALSE))","v":""},null,null,null,null,null,null,0,null,null,null,null,null,{"$f":"IF(R41=\"\",\"\",VLOOKUP(R41,'ePrijava in Navodila'!$B$13:$H$164,7,FALSE))","v":""}]
[36,null,{"$f":"IF(E40=\"\",\"\",VLOOKUP(E40,'ePrijava in Navodila'!$B$13:$H$164,2,FALSE) & \" \" & VLOOKUP(E40,'ePrijava in Navodila'!$B$13:$H$164,3,FALSE))","v":""},{"$f":"IF(E40=\"\",\"\",VLOOKUP(E40,'ePrijava in Navodila'!$B$13:$H$164,5,FALSE))","v":""},null,{"$f":"IF(E40=\"\",\"\",VLOOKUP(E40,'ePrijava in Navodila'!$B$13:$H$164,7,FALSE))","v":""},null,null,null,null,null,null,0,null,null,null,null,"BIB","Priimek in ime","1. ser","2. ser","3. ser","4. ser","1. ser","2. ser","skupno","nc*"]
[37,null,{"$f":"IF(E41=\"\",\"\",VLOOKUP(E41,'ePrijava in Navodila'!$B$13:$H$164,2,FALSE) & \" \" & VLOOKUP(E41,'ePrijava in Navodila'!$B$13:$H$164,3,FALSE))","v":""},{"$f":"IF(E41=\"\",\"\",VLOOKUP(E41,'ePrijava in Navodila'!$B$13:$H$164,5,FALSE))","v":""},null,{"$f":"IF(E41=\"\",\"\",VLOOKUP(E41,'ePrijava in Navodila'!$B$13:$H$164,7,FALSE))","v":""},null,null,null,null,null,null,0,null,null,null,null,null,{"$f":"IF(R41=\"\",\"\",VLOOKUP(R41,'ePrijava in Navodila'!$B$13:$H$164,2,FALSE) & \" \" & VLOOKUP(R41,'ePrijava in Navodila'!$B$13:$H$164,3,FALSE))","v":""},{"$f":"IF(S41=\"\",\"\",VLOOKUP(S41,$C$5:$L$149,5,FALSE))","v":""},{"$f":"IF(S41=\"\",\"\",VLOOKUP(S41,$C$5:$L$149,6,FALSE))","v":""},{"$f":"IF(S41=\"\",\"\",VLOOKUP(S41,$C$5:$L$149,7,FALSE))","v":""},{"$f":"IF(S41=\"\",\"\",VLOOKUP(S41,$C$5:$L$149,8,FALSE))","v":""},{"$f":"IF(S41=\"\",\"\",VLOOKUP(S41,$C$5:$L$149,9,FALSE))","v":""},{"$f":"IF(S41=\"\",\"\",VLOOKUP(S41,$C$5:$L$149,10,FALSE))","v":""},{"$f":"SUM(T41:Y41)","v":0},{"$f":"IF(S41=\"\",\"\",VLOOKUP(S41,$C$5:$N$149,12,FALSE))","v":""}]
[38,null,{"$f":"IF(E42=\"\",\"\",VLOOKUP(E42,'ePrijava in Navodila'!$B$13:$H$164,2,FALSE) & \" \" & VLOOKUP(E42,'ePrijava in Navodila'!$B$13:$H$164,3,FALSE))","v":""},{"$f":"IF(E42=\"\",\"\",VLOOKUP(E42,'ePrijava in Navodila'!$B$13:$H$164,5,FALSE))","v":""},null,{"$f":"IF(E42=\"\",\"\",VLOOKUP(E42,'ePrijava in Navodila'!$B$13:$H$164,7,FALSE))","v":""},null,null,null,null,null,null,0,null,null,null,null,null,{"$f":"IF(R42=\"\",\"\",VLOOKUP(R42,'ePrijava in Navodila'!$B$13:$H$164,2,FALSE) & \" \" & VLOOKUP(R42,'ePrijava in Navodila'!$B$13:$H$164,3,FALSE))","v":""},{"$f":"IF(S42=\"\",\"\",VLOOKUP(S42,$C$5:$L$149,5,FALSE))","v":""},{"$f":"IF(S42=\"\",\"\",VLOOKUP(S42,$C$5:$L$149,6,FALSE))","v":""},{"$f":"IF(S42=\"\",\"\",VLOOKUP(S42,$C$5:$L$149,7,FALSE))","v":""},{"$f":"IF(S42=\"\",\"\",VLOOKUP(S42,$C$5:$L$149,8,FALSE))","v":""},{"$f":"IF(S42=\"\",\"\",VLOOKUP(S42,$C$5:$L$149,9,FALSE))","v":""},{"$f":"IF(S42=\"\",\"\",VLOOKUP(S42,$C$5:$L$149,10,FALSE))","v":""},{"$f":"SUM(T42:Y42)","v":0},{"$f":"IF(S42=\"\",\"\",VLOOKUP(S42,$C$5:$N$149,12,FALSE))","v":""}]
[39,null,{"$f":"IF(E43=\"\",\"\",VLOOKUP(E43,'ePrijava in Navodila'!$B$13:$H$164,2,FALSE) & \" \" & VLOOKUP(E43,'ePrijava in Navodila'!$B$13:$H$164,3,FALSE))","v":""},{"$f":"IF(E43=\"\",\"\",VLOOKUP(E43,'ePrijava in Navodila'!$B$13:$H$164,5,FALSE))","v":""},null,{"$f":"IF(E43=\"\",\"\",VLOOKUP(E43,'ePrijava in Navodila'!$B$13:$H$164,7,FALSE))","v":""},null,null,null,null,null,null,0,null,null,null,null,null,{"$f":"IF(R43=\"\",\"\",VLOOKUP(R43,'ePrijava in Navodila'!$B$13:$H$164,2,FALSE) & \" \" & VLOOKUP(R43,'ePrijava in Navodila'!$B$13:$H$164,3,FALSE))","v":""},{"$f":"IF(S43=\"\",\"\",VLOOKUP(S43,$C$5:$L$149,5,FALSE))","v":""},{"$f":"IF(S43=\"\",\"\",VLOOKUP(S43,$C$5:$L$149,6,FALSE))","v":""},{"$f":"IF(S43=\"\",\"\",VLOOKUP(S43,$C$5:$L$149,7,FALSE))","v":""},{"$f":"IF(S43=\"\",\"\",VLOOKUP(S43,$C$5:$L$149,8,FALSE))","v":""},{"$f":"IF(S43=\"\",\"\",VLOOKUP(S43,$C$5:$L$149,9,FALSE))","v":""},{"$f":"IF(S43=\"\",\"\",VLOOKUP(S43,$C$5:$L$149,10,FALSE))","v":""},{"$f":"SUM(T43:Y43)","v":0},{"$f":"IF(S43=\"\",\"\",VLOOKUP(S43,$C$5:$N$149,12,FALSE))","v":""}]
[40,null,{"$f":"IF(E44=\"\",\"\",VLOOKUP(E44,'ePrijava in Navodila'!$B$13:$H$164,2,FALSE) & \" \" & VLOOKUP(E44,'ePrijava in Navodila'!$B$13:$H$164,3,FALSE))","v":""},{"$f":"IF(E44=\"\",\"\",VLOOKUP(E44,'ePrijava in Navodila'!$B$13:$H$164,5,FALSE))","v":""},null,{"$f":"IF(E44=\"\",\"\",VLOOKUP(E44,'ePrijava in Navodila'!$B$13:$H$164,7,FALSE))","v":""},null,null,null,null,null,null,0,null,null,null,null,null,null,null,null,null,null,null,{"$f":"SUM(Y41:Y43)","v":0},{"$f":"SUM(Z41:Z43)","v":0},{"$f":"SUM(AA41:AA43)","v":0}]
[41,null,{"$f":"IF(E45=\"\",\"\",VLOOKUP(E45,'ePrijava in Navodila'!$B$13:$H$164,2,FALSE) & \" \" & VLOOKUP(E45,'ePrijava in Navodila'!$B$13:$H$164,3,FALSE))","v":""},{"$f":"IF(E45=\"\",\"\",VLOOKUP(E45,'ePrijava in Navodila'!$B$13:$H$164,5,FALSE))","v":""},null,{"$f":"IF(E45=\"\",\"\",VLOOKUP(E45,'ePrijava in Navodila'!$B$13:$H$164,7,FALSE))","v":""},null,null,null,null,null,null,0]
[42,null,{"$f":"IF(E46=\"\",\"\",VLOOKUP(E46,'ePrijava in Navodila'!$B$13:$H$164,2,FALSE) & \" \" & VLOOKUP(E46,'ePrijava in Navodila'!$B$13:$H$164,3,FALSE))","v":""},{"$f":"IF(E46=\"\",\"\",VLOOKUP(E46,'ePrijava in Navodila'!$B$13:$H$164,5,FALSE))","v":""},null,{"$f":"IF(E46=\"\",\"\",VLOOKUP(E46,'ePrijava in Navodila'!$B$13:$H$164,7,FALSE))","v":""},null,null,null,null,null,null,0]
[43,null,{"$f":"IF(E47=\"\",\"\",VLOOKUP(E47,'ePrijava in Navodila'!$B$13:$H$164,2,FALSE) & \" \" & VLOOKUP(E47,'ePrijava in Navodila'!$B$13:$H$164,3,FALSE))","v":""},{"$f":"IF(E47=\"\",\"\",VLOOKUP(E47,'ePrijava in Navodila'!$B$13:$H$164,5,FALSE))","v":""},null,{"$f":"IF(E47=\"\",\"\",VLOOKUP(E47,'ePrijava in Navodila'!$B$13:$H$164,7,FALSE))","v":""},null,null,null,null,null,null,0,null,null,null,null,null,{"$f":"IF(R49=\"\",\"\",VLOOKUP(R49,'ePrijava in Navodila'!$B$13:$H$164,7,FALSE))","v":""}]
[44,null,{"$f":"IF(E48=\"\",\"\",VLOOKUP(E48,'ePrijava in Navodila'!$B$13:$H$164,2,FALSE) & \" \" & VLOOKUP(E48,'ePrijava in Navodila'!$B$13:$H$164,3,FALSE))","v":""},{"$f":"IF(E48=\"\",\"\",VLOOKUP(E48,'ePrijava in Navodila'!$B$13:$H$164,5,FALSE))","v":""},null,{"$f":"IF(E48=\"\",\"\",VLOOKUP(E48,'ePrijava in Navodila'!$B$13:$H$164,7,FALSE))","v":""},null,null,null,null,null,null,0,null,null,null,null,"BIB","Priimek in ime","1. ser","2. ser","3. ser","4. ser","1. ser","2. ser","skupno","nc*"]
[45,null,{"$f":"IF(E49=\"\",\"\",VLOOKUP(E49,'ePrijava in Navodila'!$B$13:$H$164,2,FALSE) & \" \" & VLOOKUP(E49,'ePrijava in Navodila'!$B$13:$H$164,3,FALSE))","v":""},{"$f":"IF(E49=\"\",\"\",VLOOKUP(E49,'ePrijava in Navodila'!$B$13:$H$164,5,FALSE))","v":""},null,{"$f":"IF(E49=\"\",\"\",VLOOKUP(E49,'ePrijava in Navodila'!$B$13:$H$164,7,FALSE))","v":""},null,null,null,null,null,null,0,null,null,null,null,null,{"$f":"IF(R49=\"\",\"\",VLOOKUP(R49,'ePrijava in Navodila'!$B$13:$H$164,2,FALSE) & \" \" & VLOOKUP(R49,'ePrijava in Navodila'!$B$13:$H$164,3,FALSE))","v":""},{"$f":"IF(S49=\"\",\"\",VLOOKUP(S49,$C$5:$L$149,5,FALSE))","v":""},{"$f":"IF(S49=\"\",\"\",VLOOKUP(S49,$C$5:$L$149,6,FALSE))","v":""},{"$f":"IF(S49=\"\",\"\",VLOOKUP(S49,$C$5:$L$149,7,FALSE))","v":""},{"$f":"IF(S49=\"\",\"\",VLOOKUP(S49,$C$5:$L$149,8,FALSE))","v":""},{"$f":"IF(S49=\"\",\"\",VLOOKUP(S49,$C$5:$L$149,9,FALSE))","v":""},{"$f":"IF(S49=\"\",\"\",VLOOKUP(S49,$C$5:$L$149,10,FALSE))","v":""},{"$f":"SUM(T49:Y49)","v":0},{"$f":"IF(S49=\"\",\"\",VLOOKUP(S49,$C$5:$N$149,12,FALSE))","v":""}]
[46,null,{"$f":"IF(E50=\"\",\"\",VLOOKUP(E50,'ePrijava in Navodila'!$B$13:$H$164,2,FALSE) & \" \" & VLOOKUP(E50,'ePrijava in Navodila'!$B$13:$H$164,3,FALSE))","v":""},{"$f":"IF(E50=\"\",\"\",VLOOKUP(E50,'ePrijava in Navodila'!$B$13:$H$164,5,FALSE))","v":""},null,{"$f":"IF(E50=\"\",\"\",VLOOKUP(E50,'ePrijava in Navodila'!$B$13:$H$164,7,FALSE))","v":""},null,null,null,null,null,null,0,null,null,null,null,null,{"$f":"IF(R50=\"\",\"\",VLOOKUP(R50,'ePrijava in Navodila'!$B$13:$H$164,2,FALSE) & \" \" & VLOOKUP(R50,'ePrijava in Navodila'!$B$13:$H$164,3,FALSE))","v":""},{"$f":"IF(S50=\"\",\"\",VLOOKUP(S50,$C$5:$L$149,5,FALSE))","v":""},{"$f":"IF(S50=\"\",\"\",VLOOKUP(S50,$C$5:$L$149,6,FALSE))","v":""},{"$f":"IF(S50=\"\",\"\",VLOOKUP(S50,$C$5:$L$149,7,FALSE))","v":""},{"$f":"IF(S50=\"\",\"\",VLOOKUP(S50,$C$5:$L$149,8,FALSE))","v":""},{"$f":"IF(S50=\"\",\"\",VLOOKUP(S50,$C$5:$L$149,9,FALSE))","v":""},{"$f":"IF(S50=\"\",\"\",VLOOKUP(S50,$C$5:$L$149,10,FALSE))","v":""},{"$f":"SUM(T50:Y50)","v":0},{"$f":"IF(S50=\"\",\"\",VLOOKUP(S50,$C$5:$N$149,12,FALSE))","v":""}]
[47,null,{"$f":"IF(E51=\"\",\"\",VLOOKUP(E51,'ePrijava in Navodila'!$B$13:$H$164,2,FALSE) & \" \" & VLOOKUP(E51,'ePrijava in Navodila'!$B$13:$H$164,3,FALSE))","v":""},{"$f":"IF(E51=\"\",\"\",VLOOKUP(E51,'ePrijava in Navodila'!$B$13:$H$164,5,FALSE))","v":""},null,{"$f":"IF(E51=\"\",\"\",VLOOKUP(E51,'ePrijava in Navodila'!$B$13:$H$164,7,FALSE))","v":""},null,null,null,null,null,null,0,null,null,null,null,null,{"$f":"IF(R51=\"\",\"\",VLOOKUP(R51,'ePrijava in Navodila'!$B$13:$H$164,2,FALSE) & \" \" & VLOOKUP(R51,'ePrijava in Navodila'!$B$13:$H$164,3,FALSE))","v":""},{"$f":"IF(S51=\"\",\"\",VLOOKUP(S51,$C$5:$L$149,5,FALSE))","v":""},{"$f":"IF(S51=\"\",\"\",VLOOKUP(S51,$C$5:$L$149,6,FALSE))","v":""},{"$f":"IF(S51=\"\",\"\",VLOOKUP(S51,$C$5:$L$149,7,FALSE))","v":""},{"$f":"IF(S51=\"\",\"\",VLOOKUP(S51,$C$5:$L$149,8,FALSE))","v":""},{"$f":"IF(S51=\"\",\"\",VLOOKUP(S51,$C$5:$L$149,9,FALSE))","v":""},{"$f":"IF(S51=\"\",\"\",VLOOKUP(S51,$C$5:$L$149,10,FALSE))","v":""},{"$f":"SUM(T51:Y51)","v":0},{"$f":"IF(S51=\"\",\"\",VLOOKUP(S51,$C$5:$N$149,12,FALSE))","v":""}]
[48,null,{"$f":"IF(E52=\"\",\"\",VLOOKUP(E52,'ePrijava in Navodila'!$B$13:$H$164,2,FALSE) & \" \" & VLOOKUP(E52,'ePrijava in Navodila'!$B$13:$H$164,3,FALSE))","v":""},{"$f":"IF(E52=\"\",\"\",VLOOKUP(E52,'ePrijava in Navodila'!$B$13:$H$164,5,FALSE))","v":""},null,{"$f":"IF(E52=\"\",\"\",VLOOKUP(E52,'ePrijava in Navodila'!$B$13:$H$164,7,FALSE))","v":""},null,null,null,null,null,null,0,null,null,null,null,null,null,null,null,null,null,null,{"$f":"SUM(Y49:Y51)","v":0},{"$f":"SUM(Z49:Z51)","v":0},{"$f":"SUM(AA49:AA51)","v":0}]
[49,null,{"$f":"IF(E53=\"\",\"\",VLOOKUP(E53,'ePrijava in Navodila'!$B$13:$H$164,2,FALSE) & \" \" & VLOOKUP(E53,'ePrijava in Navodila'!$B$13:$H$164,3,FALSE))","v":""},{"$f":"IF(E53=\"\",\"\",VLOOKUP(E53,'ePrijava in Navodila'!$B$13:$H$164,5,FALSE))","v":""},null,{"$f":"IF(E53=\"\",\"\",VLOOKUP(E53,'ePrijava in Navodila'!$B$13:$H$164,7,FALSE))","v":""},null,null,null,null,null,null,0]
[50,null,{"$f":"IF(E54=\"\",\"\",VLOOKUP(E54,'ePrijava in Navodila'!$B$13:$H$164,2,FALSE) & \" \" & VLOOKUP(E54,'ePrijava in Navodila'!$B$13:$H$164,3,FALSE))","v":""},{"$f":"IF(E54=\"\",\"\",VLOOKUP(E54,'ePrijava in Navodila'!$B$13:$H$164,5,FALSE))","v":""},null,{"$f":"IF(E54=\"\",\"\",VLOOKUP(E54,'ePrijava in Navodila'!$B$13:$H$164,7,FALSE))","v":""},null,null,null,null,null,null,0]
[51,null,{"$f":"IF(E55=\"\",\"\",VLOOKUP(E55,'ePrijava in Navodila'!$B$13:$H$164,2,FALSE) & \" \" & VLOOKUP(E55,'ePrijava in Navodila'!$B$13:$H$164,3,FALSE))","v":""},{"$f":"IF(E55=\"\",\"\",VLOOKUP(E55,'ePrijava in Navodila'!$B$13:$H$164,5,FALSE))","v":""},null,{"$f":"IF(E55=\"\",\"\",VLOOKUP(E55,'ePrijava in Navodila'!$B$13:$H$164,7,FALSE))","v":""},null,null,null,null,null,null,0,null,null,null,null,null,{"$f":"IF(R57=\"\",\"\",VLOOKUP(R57,'ePrijava in Navodila'!$B$13:$H$164,7,FALSE))","v":""}]
[52,null,{"$f":"IF(E56=\"\",\"\",VLOOKUP(E56,'ePrijava in Navodila'!$B$13:$H$164,2,FALSE) & \" \" & VLOOKUP(E56,'ePrijava in Navodila'!$B$13:$H$164,3,FALSE))","v":""},{"$f":"IF(E56=\"\",\"\",VLOOKUP(E56,'ePrijava in Navodila'!$B$13:$H$164,5,FALSE))","v":""},null,{"$f":"IF(E56=\"\",\"\",VLOOKUP(E56,'ePrijava in Navodila'!$B$13:$H$164,7,FALSE))","v":""},null,null,null,null,null,null,0,null,null,null,null,"BIB","Priimek in ime","1. ser","2. ser","3. ser","4. ser","1. ser","2. ser","skupno","nc*"]
[53,null,{"$f":"IF(E57=\"\",\"\",VLOOKUP(E57,'ePrijava in Navodila'!$B$13:$H$164,2,FALSE) & \" \" & VLOOKUP(E57,'ePrijava in Navodila'!$B$13:$H$164,3,FALSE))","v":""},{"$f":"IF(E57=\"\",\"\",VLOOKUP(E57,'ePrijava in Navodila'!$B$13:$H$164,5,FALSE))","v":""},null,{"$f":"IF(E57=\"\",\"\",VLOOKUP(E57,'ePrijava in Navodila'!$B$13:$H$164,7,FALSE))","v":""},null,null,null,null,null,null,0,null,null,null,null,null,{"$f":"IF(R57=\"\",\"\",VLOOKUP(R57,'ePrijava in Navodila'!$B$13:$H$164,2,FALSE) & \" \" & VLOOKUP(R57,'ePrijava in Navodila'!$B$13:$H$164,3,FALSE))","v":""},{"$f":"IF(S57=\"\",\"\",VLOOKUP(S57,$C$5:$L$149,5,FALSE))","v":""},{"$f":"IF(S57=\"\",\"\",VLOOKUP(S57,$C$5:$L$149,6,FALSE))","v":""},{"$f":"IF(S57=\"\",\"\",VLOOKUP(S57,$C$5:$L$149,7,FALSE))","v":""},{"$f":"IF(S57=\"\",\"\",VLOOKUP(S57,$C$5:$L$149,8,FALSE))","v":""},{"$f":"IF(S57=\"\",\"\",VLOOKUP(S57,$C$5:$L$149,9,FALSE))","v":""},{"$f":"IF(S57=\"\",\"\",VLOOKUP(S57,$C$5:$L$149,10,FALSE))","v":""},{"$f":"SUM(T57:Y57)","v":0},{"$f":"IF(S57=\"\",\"\",VLOOKUP(S57,$C$5:$N$149,12,FALSE))","v":""}]
[54,null,{"$f":"IF(E58=\"\",\"\",VLOOKUP(E58,'ePrijava in Navodila'!$B$13:$H$164,2,FALSE) & \" \" & VLOOKUP(E58,'ePrijava in Navodila'!$B$13:$H$164,3,FALSE))","v":""},{"$f":"IF(E58=\"\",\"\",VLOOKUP(E58,'ePrijava in Navodila'!$B$13:$H$164,5,FALSE))","v":""},null,{"$f":"IF(E58=\"\",\"\",VLOOKUP(E58,'ePrijava in Navodila'!$B$13:$H$164,7,FALSE))","v":""},null,null,null,null,null,null,0,null,null,null,null,null,{"$f":"IF(R58=\"\",\"\",VLOOKUP(R58,'ePrijava in Navodila'!$B$13:$H$164,2,FALSE) & \" \" & VLOOKUP(R58,'ePrijava in Navodila'!$B$13:$H$164,3,FALSE))","v":""},{"$f":"IF(S58=\"\",\"\",VLOOKUP(S58,$C$5:$L$149,5,FALSE))","v":""},{"$f":"IF(S58=\"\",\"\",VLOOKUP(S58,$C$5:$L$149,6,FALSE))","v":""},{"$f":"IF(S58=\"\",\"\",VLOOKUP(S58,$C$5:$L$149,7,FALSE))","v":""},{"$f":"IF(S58=\"\",\"\",VLOOKUP(S58,$C$5:$L$149,8,FALSE))","v":""},{"$f":"IF(S58=\"\",\"\",VLOOKUP(S58,$C$5:$L$149,9,FALSE))","v":""},{"$f":"IF(S58=\"\",\"\",VLOOKUP(S58,$C$5:$L$149,10,FALSE))","v":""},{"$f":"SUM(T58:Y58)","v":0},{"$f":"IF(S58=\"\",\"\",VLOOKUP(S58,$C$5:$N$149,12,FALSE))","v":""}]
[55,null,{"$f":"IF(E59=\"\",\"\",VLOOKUP(E59,'ePrijava in Navodila'!$B$13:$H$164,2,FALSE) & \" \" & VLOOKUP(E59,'ePrijava in Navodila'!$B$13:$H$164,3,FALSE))","v":""},{"$f":"IF(E59=\"\",\"\",VLOOKUP(E59,'ePrijava in Navodila'!$B$13:$H$164,5,FALSE))","v":""},null,{"$f":"IF(E59=\"\",\"\",VLOOKUP(E59,'ePrijava in Navodila'!$B$13:$H$164,7,FALSE))","v":""},null,null,null,null,null,null,0,null,null,null,null,null,{"$f":"IF(R59=\"\",\"\",VLOOKUP(R59,'ePrijava in Navodila'!$B$13:$H$164,2,FALSE) & \" \" & VLOOKUP(R59,'ePrijava in Navodila'!$B$13:$H$164,3,FALSE))","v":""},{"$f":"IF(S59=\"\",\"\",VLOOKUP(S59,$C$5:$L$149,5,FALSE))","v":""},{"$f":"IF(S59=\"\",\"\",VLOOKUP(S59,$C$5:$L$149,6,FALSE))","v":""},{"$f":"IF(S59=\"\",\"\",VLOOKUP(S59,$C$5:$L$149,7,FALSE))","v":""},{"$f":"IF(S59=\"\",\"\",VLOOKUP(S59,$C$5:$L$149,8,FALSE))","v":""},{"$f":"IF(S59=\"\",\"\",VLOOKUP(S59,$C$5:$L$149,9,FALSE))","v":""},{"$f":"IF(S59=\"\",\"\",VLOOKUP(S59,$C$5:$L$149,10,FALSE))","v":""},{"$f":"SUM(T59:Y59)","v":0},{"$f":"IF(S59=\"\",\"\",VLOOKUP(S59,$C$5:$N$149,12,FALSE))","v":""}]
[56,null,{"$f":"IF(E60=\"\",\"\",VLOOKUP(E60,'ePrijava in Navodila'!$B$13:$H$164,2,FALSE) & \" \" & VLOOKUP(E60,'ePrijava in Navodila'!$B$13:$H$164,3,FALSE))","v":""},{"$f":"IF(E60=\"\",\"\",VLOOKUP(E60,'ePrijava in Navodila'!$B$13:$H$164,5,FALSE))","v":""},null,{"$f":"IF(E60=\"\",\"\",VLOOKUP(E60,'ePrijava in Navodila'!$B$13:$H$164,7,FALSE))","v":""},null,null,null,null,null,null,0,null,null,null,null,null,null,null,null,null,null,null,{"$f":"SUM(Y57:Y59)","v":0},{"$f":"SUM(Z57:Z59)","v":0},{"$f":"SUM(AA57:AA59)","v":0}]
[57,null,{"$f":"IF(E61=\"\",\"\",VLOOKUP(E61,'ePrijava in Navodila'!$B$13:$H$164,2,FALSE) & \" \" & VLOOKUP(E61,'ePrijava in Navodila'!$B$13:$H$164,3,FALSE))","v":""},{"$f":"IF(E61=\"\",\"\",VLOOKUP(E61,'ePrijava in Navodila'!$B$13:$H$164,5,FALSE))","v":""},null,{"$f":"IF(E61=\"\",\"\",VLOOKUP(E61,'ePrijava in Navodila'!$B$13:$H$164,7,FALSE))","v":""},null,null,null,null,null,null,0]
[58,null,{"$f":"IF(E62=\"\",\"\",VLOOKUP(E62,'ePrijava in Navodila'!$B$13:$H$164,2,FALSE) & \" \" & VLOOKUP(E62,'ePrijava in Navodila'!$B$13:$H$164,3,FALSE))","v":""},{"$f":"IF(E62=\"\",\"\",VLOOKUP(E62,'ePrijava in Navodila'!$B$13:$H$164,5,FALSE))","v":""},null,{"$f":"IF(E62=\"\",\"\",VLOOKUP(E62,'ePrijava in Navodila'!$B$13:$H$164,7,FALSE))","v":""},null,null,null,null,null,null,0]
[59,null,{"$f":"IF(E63=\"\",\"\",VLOOKUP(E63,'ePrijava in Navodila'!$B$13:$H$164,2,FALSE) & \" \" & VLOOKUP(E63,'ePrijava in Navodila'!$B$13:$H$164,3,FALSE))","v":""},{"$f":"IF(E63=\"\",\"\",VLOOKUP(E63,'ePrijava in Navodila'!$B$13:$H$164,5,FALSE))","v":""},null,{"$f":"IF(E63=\"\",\"\",VLOOKUP(E63,'ePrijava in Navodila'!$B$13:$H$164,7,FALSE))","v":""},null,null,null,null,null,null,0,null,null,null,null,null,{"$f":"IF(R65=\"\",\"\",VLOOKUP(R65,'ePrijava in Navodila'!$B$13:$H$164,7,FALSE))","v":""}]
[60,null,{"$f":"IF(E64=\"\",\"\",VLOOKUP(E64,'ePrijava in Navodila'!$B$13:$H$164,2,FALSE) & \" \" & VLOOKUP(E64,'ePrijava in Navodila'!$B$13:$H$164,3,FALSE))","v":""},{"$f":"IF(E64=\"\",\"\",VLOOKUP(E64,'ePrijava in Navodila'!$B$13:$H$164,5,FALSE))","v":""},null,{"$f":"IF(E64=\"\",\"\",VLOOKUP(E64,'ePrijava in Navodila'!$B$13:$H$164,7,FALSE))","v":""},null,null,null,null,null,null,0,null,null,null,null,"BIB","Priimek in ime","1. ser","2. ser","3. ser","4. ser","1. ser","2. ser","skupno","nc*"]
[61,null,{"$f":"IF(E65=\"\",\"\",VLOOKUP(E65,'ePrijava in Navodila'!$B$13:$H$164,2,FALSE) & \" \" & VLOOKUP(E65,'ePrijava in Navodila'!$B$13:$H$164,3,FALSE))","v":""},{"$f":"IF(E65=\"\",\"\",VLOOKUP(E65,'ePrijava in Navodila'!$B$13:$H$164,5,FALSE))","v":""},null,{"$f":"IF(E65=\"\",\"\",VLOOKUP(E65,'ePrijava in Navodila'!$B$13:$H$164,7,FALSE))","v":""},null,null,null,null,null,null,0,null,null,null,null,null,{"$f":"IF(R65=\"\",\"\",VLOOKUP(R65,'ePrijava in Navodila'!$B$13:$H$164,2,FALSE) & \" \" & VLOOKUP(R65,'ePrijava in Navodila'!$B$13:$H$164,3,FALSE))","v":""},{"$f":"IF(S65=\"\",\"\",VLOOKUP(S65,$C$5:$L$149,5,FALSE))","v":""},{"$f":"IF(S65=\"\",\"\",VLOOKUP(S65,$C$5:$L$149,6,FALSE))","v":""},{"$f":"IF(S65=\"\",\"\",VLOOKUP(S65,$C$5:$L$149,7,FALSE))","v":""},{"$f":"IF(S65=\"\",\"\",VLOOKUP(S65,$C$5:$L$149,8,FALSE))","v":""},{"$f":"IF(S65=\"\",\"\",VLOOKUP(S65,$C$5:$L$149,9,FALSE))","v":""},{"$f":"IF(S65=\"\",\"\",VLOOKUP(S65,$C$5:$L$149,10,FALSE))","v":""},{"$f":"SUM(T65:Y65)","v":0},{"$f":"IF(S65=\"\",\"\",VLOOKUP(S65,$C$5:$N$149,12,FALSE))","v":""}]
[62,null,{"$f":"IF(E66=\"\",\"\",VLOOKUP(E66,'ePrijava in Navodila'!$B$13:$H$164,2,FALSE) & \" \" & VLOOKUP(E66,'ePrijava in Navodila'!$B$13:$H$164,3,FALSE))","v":""},{"$f":"IF(E66=\"\",\"\",VLOOKUP(E66,'ePrijava in Navodila'!$B$13:$H$164,5,FALSE))","v":""},null,{"$f":"IF(E66=\"\",\"\",VLOOKUP(E66,'ePrijava in Navodila'!$B$13:$H$164,7,FALSE))","v":""},null,null,null,null,null,null,0,null,null,null,null,null,{"$f":"IF(R66=\"\",\"\",VLOOKUP(R66,'ePrijava in Navodila'!$B$13:$H$164,2,FALSE) & \" \" & VLOOKUP(R66,'ePrijava in Navodila'!$B$13:$H$164,3,FALSE))","v":""},{"$f":"IF(S66=\"\",\"\",VLOOKUP(S66,$C$5:$L$149,5,FALSE))","v":""},{"$f":"IF(S66=\"\",\"\",VLOOKUP(S66,$C$5:$L$149,6,FALSE))","v":""},{"$f":"IF(S66=\"\",\"\",VLOOKUP(S66,$C$5:$L$149,7,FALSE))","v":""},{"$f":"IF(S66=\"\",\"\",VLOOKUP(S66,$C$5:$L$149,8,FALSE))","v":""},{"$f":"IF(S66=\"\",\"\",VLOOKUP(S66,$C$5:$L$149,9,FALSE))","v":""},{"$f":"IF(S66=\"\",\"\",VLOOKUP(S66,$C$5:$L$149,10,FALSE))","v":""},{"$f":"SUM(T66:Y66)","v":0},{"$f":"IF(S66=\"\",\"\",VLOOKUP(S66,$C$5:$N$149,12,FALSE))","v":""}]
[63,null,{"$f":"IF(E67=\"\",\"\",VLOOKUP(E67,'ePrijava in Navodila'!$B$13:$H$164,2,FALSE) & \" \" & VLOOKUP(E67,'ePrijava in Navodila'!$B$13:$H$164,3,FALSE))","v":""},{"$f":"IF(E67=\"\",\"\",VLOOKUP(E67,'ePrijava in Navodila'!$B$13:$H$164,5,FALSE))","v":""},null,{"$f":"IF(E67=\"\",\"\",VLOOKUP(E67,'ePrijava in Navodila'!$B$13:$H$164,7,FALSE))","v":""},null,null,null,null,null,null,0,null,null,null,null,null,{"$f":"IF(R67=\"\",\"\",VLOOKUP(R67,'ePrijava in Navodila'!$B$13:$H$164,2,FALSE) & \" \" & VLOOKUP(R67,'ePrijava in Navodila'!$B$13:$H$164,3,FALSE))","v":""},{"$f":"IF(S67=\"\",\"\",VLOOKUP(S67,$C$5:$L$149,5,FALSE))","v":""},{"$f":"IF(S67=\"\",\"\",VLOOKUP(S67,$C$5:$L$149,6,FALSE))","v":""},{"$f":"IF(S67=\"\",\"\",VLOOKUP(S67,$C$5:$L$149,7,FALSE))","v":""},{"$f":"IF(S67=\"\",\"\",VLOOKUP(S67,$C$5:$L$149,8,FALSE))","v":""},{"$f":"IF(S67=\"\",\"\",VLOOKUP(S67,$C$5:$L$149,9,FALSE))","v":""},{"$f":"IF(S67=\"\",\"\",VLOOKUP(S67,$C$5:$L$149,10,FALSE))","v":""},{"$f":"SUM(T67:Y67)","v":0},{"$f":"IF(S67=\"\",\"\",VLOOKUP(S67,$C$5:$N$149,12,FALSE))","v":""}]
[64,null,{"$f":"IF(E68=\"\",\"\",VLOOKUP(E68,'ePrijava in Navodila'!$B$13:$H$164,2,FALSE) & \" \" & VLOOKUP(E68,'ePrijava in Navodila'!$B$13:$H$164,3,FALSE))","v":""},{"$f":"IF(E68=\"\",\"\",VLOOKUP(E68,'ePrijava in Navodila'!$B$13:$H$164,5,FALSE))","v":""},null,{"$f":"IF(E68=\"\",\"\",VLOOKUP(E68,'ePrijava in Navodila'!$B$13:$H$164,7,FALSE))","v":""},null,null,null,null,null,null,0,null,null,null,null,null,null,null,null,null,null,null,{"$f":"SUM(Y65:Y67)","v":0},{"$f":"SUM(Z65:Z67)","v":0},{"$f":"SUM(AA65:AA67)","v":0}]
[65,null,{"$f":"IF(E69=\"\",\"\",VLOOKUP(E69,'ePrijava in Navodila'!$B$13:$H$164,2,FALSE) & \" \" & VLOOKUP(E69,'ePrijava in Navodila'!$B$13:$H$164,3,FALSE))","v":""},{"$f":"IF(E69=\"\",\"\",VLOOKUP(E69,'ePrijava in Navodila'!$B$13:$H$164,5,FALSE))","v":""},null,{"$f":"IF(E69=\"\",\"\",VLOOKUP(E69,'ePrijava in Navodila'!$B$13:$H$164,7,FALSE))","v":""},null,null,null,null,null,null,{"$f":"SUM(G69:L69)","v":0}]
[66,null,{"$f":"IF(E70=\"\",\"\",VLOOKUP(E70,'ePrijava in Navodila'!$B$13:$H$164,2,FALSE) & \" \" & VLOOKUP(E70,'ePrijava in Navodila'!$B$13:$H$164,3,FALSE))","v":""},{"$f":"IF(E70=\"\",\"\",VLOOKUP(E70,'ePrijava in Navodila'!$B$13:$H$164,5,FALSE))","v":""},null,{"$f":"IF(E70=\"\",\"\",VLOOKUP(E70,'ePrijava in Navodila'!$B$13:$H$164,7,FALSE))","v":""},null,null,null,null,null,null,0]
[67,null,{"$f":"IF(E71=\"\",\"\",VLOOKUP(E71,'ePrijava in Navodila'!$B$13:$H$164,2,FALSE) & \" \" & VLOOKUP(E71,'ePrijava in Navodila'!$B$13:$H$164,3,FALSE))","v":""},{"$f":"IF(E71=\"\",\"\",VLOOKUP(E71,'ePrijava in Navodila'!$B$13:$H$164,5,FALSE))","v":""},null,{"$f":"IF(E71=\"\",\"\",VLOOKUP(E71,'ePrijava in Navodila'!$B$13:$H$164,7,FALSE))","v":""},null,null,null,null,null,null,0,null,null,null,null,null,{"$f":"IF(R73=\"\",\"\",VLOOKUP(R73,'ePrijava in Navodila'!$B$13:$H$164,7,FALSE))","v":""}]
[68,null,{"$f":"IF(E72=\"\",\"\",VLOOKUP(E72,'ePrijava in Navodila'!$B$13:$H$164,2,FALSE) & \" \" & VLOOKUP(E72,'ePrijava in Navodila'!$B$13:$H$164,3,FALSE))","v":""},{"$f":"IF(E72=\"\",\"\",VLOOKUP(E72,'ePrijava in Navodila'!$B$13:$H$164,5,FALSE))","v":""},null,{"$f":"IF(E72=\"\",\"\",VLOOKUP(E72,'ePrijava in Navodila'!$B$13:$H$164,7,FALSE))","v":""},null,null,null,null,null,null,0,null,null,null,null,"BIB","Priimek in ime","1. ser","2. ser","3. ser","4. ser","1. ser","2. ser","skupno","nc*"]
[69,null,{"$f":"IF(E73=\"\",\"\",VLOOKUP(E73,'ePrijava in Navodila'!$B$13:$H$164,2,FALSE) & \" \" & VLOOKUP(E73,'ePrijava in Navodila'!$B$13:$H$164,3,FALSE))","v":""},{"$f":"IF(E73=\"\",\"\",VLOOKUP(E73,'ePrijava in Navodila'!$B$13:$H$164,5,FALSE))","v":""},null,{"$f":"IF(E73=\"\",\"\",VLOOKUP(E73,'ePrijava in Navodila'!$B$13:$H$164,7,FALSE))","v":""},null,null,null,null,null,null,0,null,null,null,null,null,{"$f":"IF(R73=\"\",\"\",VLOOKUP(R73,'ePrijava in Navodila'!$B$13:$H$164,2,FALSE) & \" \" & VLOOKUP(R73,'ePrijava in Navodila'!$B$13:$H$164,3,FALSE))","v":""},{"$f":"IF(S73=\"\",\"\",VLOOKUP(S73,$C$5:$L$149,5,FALSE))","v":""},{"$f":"IF(S73=\"\",\"\",VLOOKUP(S73,$C$5:$L$149,6,FALSE))","v":""},{"$f":"IF(S73=\"\",\"\",VLOOKUP(S73,$C$5:$L$149,7,FALSE))","v":""},{"$f":"IF(S73=\"\",\"\",VLOOKUP(S73,$C$5:$L$149,8,FALSE))","v":""},{"$f":"IF(S73=\"\",\"\",VLOOKUP(S73,$C$5:$L$149,9,FALSE))","v":""},{"$f":"IF(S73=\"\",\"\",VLOOKUP(S73,$C$5:$L$149,10,FALSE))","v":""},{"$f":"SUM(T73:Y73)","v":0},{"$f":"IF(S73=\"\",\"\",VLOOKUP(S73,$C$5:$N$149,12,FALSE))","v":""}]
[70,null,{"$f":"IF(E74=\"\",\"\",VLOOKUP(E74,'ePrijava in Navodila'!$B$13:$H$164,2,FALSE) & \" \" & VLOOKUP(E74,'ePrijava in Navodila'!$B$13:$H$164,3,FALSE))","v":""},{"$f":"IF(E74=\"\",\"\",VLOOKUP(E74,'ePrijava in Navodila'!$B$13:$H$164,5,FALSE))","v":""},null,{"$f":"IF(E74=\"\",\"\",VLOOKUP(E74,'ePrijava in Navodila'!$B$13:$H$164,7,FALSE))","v":""},null,null,null,null,null,null,0,null,null,null,null,null,{"$f":"IF(R74=\"\",\"\",VLOOKUP(R74,'ePrijava in Navodila'!$B$13:$H$164,2,FALSE) & \" \" & VLOOKUP(R74,'ePrijava in Navodila'!$B$13:$H$164,3,FALSE))","v":""},{"$f":"IF(S74=\"\",\"\",VLOOKUP(S74,$C$5:$L$149,5,FALSE))","v":""},{"$f":"IF(S74=\"\",\"\",VLOOKUP(S74,$C$5:$L$149,6,FALSE))","v":""},{"$f":"IF(S74=\"\",\"\",VLOOKUP(S74,$C$5:$L$149,7,FALSE))","v":""},{"$f":"IF(S74=\"\",\"\",VLOOKUP(S74,$C$5:$L$149,8,FALSE))","v":""},{"$f":"IF(S74=\"\",\"\",VLOOKUP(S74,$C$5:$L$149,9,FALSE))","v":""},{"$f":"IF(S74=\"\",\"\",VLOOKUP(S74,$C$5:$L$149,10,FALSE))","v":""},{"$f":"SUM(T74:Y74)","v":0},{"$f":"IF(S74=\"\",\"\",VLOOKUP(S74,$C$5:$N$149,12,FALSE))","v":""}]
[71,null,{"$f":"IF(E75=\"\",\"\",VLOOKUP(E75,'ePrijava in Navodila'!$B$13:$H$164,2,FALSE) & \" \" & VLOOKUP(E75,'ePrijava in Navodila'!$B$13:$H$164,3,FALSE))","v":""},{"$f":"IF(E75=\"\",\"\",VLOOKUP(E75,'ePrijava in Navodila'!$B$13:$H$164,5,FALSE))","v":""},null,{"$f":"IF(E75=\"\",\"\",VLOOKUP(E75,'ePrijava in Navodila'!$B$13:$H$164,7,FALSE))","v":""},null,null,null,null,null,null,0,null,null,null,null,null,{"$f":"IF(R75=\"\",\"\",VLOOKUP(R75,'ePrijava in Navodila'!$B$13:$H$164,2,FALSE) & \" \" & VLOOKUP(R75,'ePrijava in Navodila'!$B$13:$H$164,3,FALSE))","v":""},{"$f":"IF(S75=\"\",\"\",VLOOKUP(S75,$C$5:$L$149,5,FALSE))","v":""},{"$f":"IF(S75=\"\",\"\",VLOOKUP(S75,$C$5:$L$149,6,FALSE))","v":""},{"$f":"IF(S75=\"\",\"\",VLOOKUP(S75,$C$5:$L$149,7,FALSE))","v":""},{"$f":"IF(S75=\"\",\"\",VLOOKUP(S75,$C$5:$L$149,8,FALSE))","v":""},{"$f":"IF(S75=\"\",\"\",VLOOKUP(S75,$C$5:$L$149,9,FALSE))","v":""},{"$f":"IF(S75=\"\",\"\",VLOOKUP(S75,$C$5:$L$149,10,FALSE))","v":""},{"$f":"SUM(T75:Y75)","v":0},{"$f":"IF(S75=\"\",\"\",VLOOKUP(S75,$C$5:$N$149,12,FALSE))","v":""}]
[72,null,{"$f":"IF(E76=\"\",\"\",VLOOKUP(E76,'ePrijava in Navodila'!$B$13:$H$164,2,FALSE) & \" \" & VLOOKUP(E76,'ePrijava in Navodila'!$B$13:$H$164,3,FALSE))","v":""},{"$f":"IF(E76=\"\",\"\",VLOOKUP(E76,'ePrijava in Navodila'!$B$13:$H$164,5,FALSE))","v":""},null,{"$f":"IF(E76=\"\",\"\",VLOOKUP(E76,'ePrijava in Navodila'!$B$13:$H$164,7,FALSE))","v":""},null,null,null,null,null,null,0,null,null,null,null,null,null,null,null,null,null,null,{"$f":"SUM(Y73:Y75)","v":0},{"$f":"SUM(Z73:Z75)","v":0},{"$f":"SUM(AA73:AA75)","v":0}]
[73,null,{"$f":"IF(E77=\"\",\"\",VLOOKUP(E77,'ePrijava in Navodila'!$B$13:$H$164,2,FALSE) & \" \" & VLOOKUP(E77,'ePrijava in Navodila'!$B$13:$H$164,3,FALSE))","v":""},{"$f":"IF(E77=\"\",\"\",VLOOKUP(E77,'ePrijava in Navodila'!$B$13:$H$164,5,FALSE))","v":""},null,{"$f":"IF(E77=\"\",\"\",VLOOKUP(E77,'ePrijava in Navodila'!$B$13:$H$164,7,FALSE))","v":""},null,null,null,null,null,null,{"$f":"SUM(G77:L77)","v":0}]
[74,null,{"$f":"IF(E78=\"\",\"\",VLOOKUP(E78,'ePrijava in Navodila'!$B$13:$H$164,2,FALSE) & \" \" & VLOOKUP(E78,'ePrijava in Navodila'!$B$13:$H$164,3,FALSE))","v":""},{"$f":"IF(E78=\"\",\"\",VLOOKUP(E78,'ePrijava in Navodila'!$B$13:$H$164,5,FALSE))","v":""},null,{"$f":"IF(E78=\"\",\"\",VLOOKUP(E78,'ePrijava in Navodila'!$B$13:$H$164,7,FALSE))","v":""},null,null,null,null,null,null,0]
[75,null,{"$f":"IF(E79=\"\",\"\",VLOOKUP(E79,'ePrijava in Navodila'!$B$13:$H$164,2,FALSE) & \" \" & VLOOKUP(E79,'ePrijava in Navodila'!$B$13:$H$164,3,FALSE))","v":""},{"$f":"IF(E79=\"\",\"\",VLOOKUP(E79,'ePrijava in Navodila'!$B$13:$H$164,5,FALSE))","v":""},null,{"$f":"IF(E79=\"\",\"\",VLOOKUP(E79,'ePrijava in Navodila'!$B$13:$H$164,7,FALSE))","v":""},null,null,null,null,null,null,0]
[76,null,{"$f":"IF(E80=\"\",\"\",VLOOKUP(E80,'ePrijava in Navodila'!$B$13:$H$164,2,FALSE) & \" \" & VLOOKUP(E80,'ePrijava in Navodila'!$B$13:$H$164,3,FALSE))","v":""},{"$f":"IF(E80=\"\",\"\",VLOOKUP(E80,'ePrijava in Navodila'!$B$13:$H$164,5,FALSE))","v":""},null,{"$f":"IF(E80=\"\",\"\",VLOOKUP(E80,'ePrijava in Navodila'!$B$13:$H$164,7,FALSE))","v":""},null,null,null,null,null,null,0]
[77,null,{"$f":"IF(E81=\"\",\"\",VLOOKUP(E81,'ePrijava in Navodila'!$B$13:$H$164,2,FALSE) & \" \" & VLOOKUP(E81,'ePrijava in Navodila'!$B$13:$H$164,3,FALSE))","v":""},{"$f":"IF(E81=\"\",\"\",VLOOKUP(E81,'ePrijava in Navodila'!$B$13:$H$164,5,FALSE))","v":""},null,{"$f":"IF(E81=\"\",\"\",VLOOKUP(E81,'ePrijava in Navodila'!$B$13:$H$164,7,FALSE))","v":""},null,null,null,null,null,null,0]
[78,null,{"$f":"IF(E82=\"\",\"\",VLOOKUP(E82,'ePrijava in Navodila'!$B$13:$H$164,2,FALSE) & \" \" & VLOOKUP(E82,'ePrijava in Navodila'!$B$13:$H$164,3,FALSE))","v":""},{"$f":"IF(E82=\"\",\"\",VLOOKUP(E82,'ePrijava in Navodila'!$B$13:$H$164,5,FALSE))","v":""},null,{"$f":"IF(E82=\"\",\"\",VLOOKUP(E82,'ePrijava in Navodila'!$B$13:$H$164,7,FALSE))","v":""},null,null,null,null,null,null,0]
[79,null,{"$f":"IF(E83=\"\",\"\",VLOOKUP(E83,'ePrijava in Navodila'!$B$13:$H$164,2,FALSE) & \" \" & VLOOKUP(E83,'ePrijava in Navodila'!$B$13:$H$164,3,FALSE))","v":""},{"$f":"IF(E83=\"\",\"\",VLOOKUP(E83,'ePrijava in Navodila'!$B$13:$H$164,5,FALSE))","v":""},null,{"$f":"IF(E83=\"\",\"\",VLOOKUP(E83,'ePrijava in Navodila'!$B$13:$H$164,7,FALSE))","v":""},null,null,null,null,null,null,0]
[80,null,{"$f":"IF(E84=\"\",\"\",VLOOKUP(E84,'ePrijava in Navodila'!$B$13:$H$164,2,FALSE) & \" \" & VLOOKUP(E84,'ePrijava in Navodila'!$B$13:$H$164,3,FALSE))","v":""},{"$f":"IF(E84=\"\",\"\",VLOOKUP(E84,'ePrijava in Navodila'!$B$13:$H$164,5,FALSE))","v":""},null,{"$f":"IF(E84=\"\",\"\",VLOOKUP(E84,'ePrijava in Navodila'!$B$13:$H$164,7,FALSE))","v":""},null,null,null,null,null,null,0]
[81,null,{"$f":"IF(E85=\"\",\"\",VLOOKUP(E85,'ePrijava in Navodila'!$B$13:$H$164,2,FALSE) & \" \" & VLOOKUP(E85,'ePrijava in Navodila'!$B$13:$H$164,3,FALSE))","v":""},{"$f":"IF(E85=\"\",\"\",VLOOKUP(E85,'ePrijava in Navodila'!$B$13:$H$164,5,FALSE))","v":""},null,{"$f":"IF(E85=\"\",\"\",VLOOKUP(E85,'ePrijava in Navodila'!$B$13:$H$164,7,FALSE))","v":""},null,null,null,null,null,null,0]
[82,null,{"$f":"IF(E86=\"\",\"\",VLOOKUP(E86,'ePrijava in Navodila'!$B$13:$H$164,2,FALSE) & \" \" & VLOOKUP(E86,'ePrijava in Navodila'!$B$13:$H$164,3,FALSE))","v":""},{"$f":"IF(E86=\"\",\"\",VLOOKUP(E86,'ePrijava in Navodila'!$B$13:$H$164,5,FALSE))","v":""},null,{"$f":"IF(E86=\"\",\"\",VLOOKUP(E86,'ePrijava in Navodila'!$B$13:$H$164,7,FALSE))","v":""},null,null,null,null,null,null,0]
[83,null,{"$f":"IF(E87=\"\",\"\",VLOOKUP(E87,'ePrijava in Navodila'!$B$13:$H$164,2,FALSE) & \" \" & VLOOKUP(E87,'ePrijava in Navodila'!$B$13:$H$164,3,FALSE))","v":""},{"$f":"IF(E87=\"\",\"\",VLOOKUP(E87,'ePrijava in Navodila'!$B$13:$H$164,5,FALSE))","v":""},null,{"$f":"IF(E87=\"\",\"\",VLOOKUP(E87,'ePrijava in Navodila'!$B$13:$H$164,7,FALSE))","v":""},null,null,null,null,null,null,0]
[84,null,{"$f":"IF(E88=\"\",\"\",VLOOKUP(E88,'ePrijava in Navodila'!$B$13:$H$164,2,FALSE) & \" \" & VLOOKUP(E88,'ePrijava in Navodila'!$B$13:$H$164,3,FALSE))","v":""},{"$f":"IF(E88=\"\",\"\",VLOOKUP(E88,'ePrijava in Navodila'!$B$13:$H$164,5,FALSE))","v":""},null,{"$f":"IF(E88=\"\",\"\",VLOOKUP(E88,'ePrijava in Navodila'!$B$13:$H$164,7,FALSE))","v":""},null,null,null,null,null,null,0]
[85,null,{"$f":"IF(E89=\"\",\"\",VLOOKUP(E89,'ePrijava in Navodila'!$B$13:$H$164,2,FALSE) & \" \" & VLOOKUP(E89,'ePrijava in Navodila'!$B$13:$H$164,3,FALSE))","v":""},{"$f":"IF(E89=\"\",\"\",VLOOKUP(E89,'ePrijava in Navodila'!$B$13:$H$164,5,FALSE))","v":""},null,{"$f":"IF(E89=\"\",\"\",VLOOKUP(E89,'ePrijava in Navodila'!$B$13:$H$164,7,FALSE))","v":""},null,null,null,null,null,null,0]
[86,null,{"$f":"IF(E90=\"\",\"\",VLOOKUP(E90,'ePrijava in Navodila'!$B$13:$H$164,2,FALSE) & \" \" & VLOOKUP(E90,'ePrijava in Navodila'!$B$13:$H$164,3,FALSE))","v":""},{"$f":"IF(E90=\"\",\"\",VLOOKUP(E90,'ePrijava in Navodila'!$B$13:$H$164,5,FALSE))","v":""},null,{"$f":"IF(E90=\"\",\"\",VLOOKUP(E90,'ePrijava in Navodila'!$B$13:$H$164,7,FALSE))","v":""},null,null,null,null,null,null,0]
[87,null,{"$f":"IF(E91=\"\",\"\",VLOOKUP(E91,'ePrijava in Navodila'!$B$13:$H$164,2,FALSE) & \" \" & VLOOKUP(E91,'ePrijava in Navodila'!$B$13:$H$164,3,FALSE))","v":""},{"$f":"IF(E91=\"\",\"\",VLOOKUP(E91,'ePrijava in Navodila'!$B$13:$H$164,5,FALSE))","v":""},null,{"$f":"IF(E91=\"\",\"\",VLOOKUP(E91,'ePrijava in Navodila'!$B$13:$H$164,7,FALSE))","v":""},null,null,null,null,null,null,0]
[88,null,{"$f":"IF(E92=\"\",\"\",VLOOKUP(E92,'ePrijava in Navodila'!$B$13:$H$164,2,FALSE) & \" \" & VLOOKUP(E92,'ePrijava in Navodila'!$B$13:$H$164,3,FALSE))","v":""},{"$f":"IF(E92=\"\",\"\",VLOOKUP(E92,'ePrijava in Navodila'!$B$13:$H$164,5,FALSE))","v":""},null,{"$f":"IF(E92=\"\",\"\",VLOOKUP(E92,'ePrijava in Navodila'!$B$13:$H$164,7,FALSE))","v":""},null,null,null,null,null,null,0]
[89,null,{"$f":"IF(E93=\"\",\"\",VLOOKUP(E93,'ePrijava in Navodila'!$B$13:$H$164,2,FALSE) & \" \" & VLOOKUP(E93,'ePrijava in Navodila'!$B$13:$H$164,3,FALSE))","v":""},{"$f":"IF(E93=\"\",\"\",VLOOKUP(E93,'ePrijava in Navodila'!$B$13:$H$164,5,FALSE))","v":""},null,{"$f":"IF(E93=\"\",\"\",VLOOKUP(E93,'ePrijava in Navodila'!$B$13:$H$164,7,FALSE))","v":""},null,null,null,null,null,null,0]
[90,null,{"$f":"IF(E94=\"\",\"\",VLOOKUP(E94,'ePrijava in Navodila'!$B$13:$H$164,2,FALSE) & \" \" & VLOOKUP(E94,'ePrijava in Navodila'!$B$13:$H$164,3,FALSE))","v":""},{"$f":"IF(E94=\"\",\"\",VLOOKUP(E94,'ePrijava in Navodila'!$B$13:$H$164,5,FALSE))","v":""},null,{"$f":"IF(E94=\"\",\"\",VLOOKUP(E94,'ePrijava in Navodila'!$B$13:$H$164,7,FALSE))","v":""},null,null,null,null,null,null,0]
[91,null,{"$f":"IF(E95=\"\",\"\",VLOOKUP(E95,'ePrijava in Navodila'!$B$13:$H$164,2,FALSE) & \" \" & VLOOKUP(E95,'ePrijava in Navodila'!$B$13:$H$164,3,FALSE))","v":""},{"$f":"IF(E95=\"\",\"\",VLOOKUP(E95,'ePrijava in Navodila'!$B$13:$H$164,5,FALSE))","v":""},null,{"$f":"IF(E95=\"\",\"\",VLOOKUP(E95,'ePrijava in Navodila'!$B$13:$H$164,7,FALSE))","v":""},null,null,null,null,null,null,0]
[92,null,{"$f":"IF(E96=\"\",\"\",VLOOKUP(E96,'ePrijava in Navodila'!$B$13:$H$164,2,FALSE) & \" \" & VLOOKUP(E96,'ePrijava in Navodila'!$B$13:$H$164,3,FALSE))","v":""},{"$f":"IF(E96=\"\",\"\",VLOOKUP(E96,'ePrijava in Navodila'!$B$13:$H$164,5,FALSE))","v":""},null,{"$f":"IF(E96=\"\",\"\",VLOOKUP(E96,'ePrijava in Navodila'!$B$13:$H$164,7,FALSE))","v":""},null,null,null,null,null,null,0]
[93,null,{"$f":"IF(E97=\"\",\"\",VLOOKUP(E97,'ePrijava in Navodila'!$B$13:$H$164,2,FALSE) & \" \" & VLOOKUP(E97,'ePrijava in Navodila'!$B$13:$H$164,3,FALSE))","v":""},{"$f":"IF(E97=\"\",\"\",VLOOKUP(E97,'ePrijava in Navodila'!$B$13:$H$164,5,FALSE))","v":""},null,{"$f":"IF(E97=\"\",\"\",VLOOKUP(E97,'ePrijava in Navodila'!$B$13:$H$164,7,FALSE))","v":""},null,null,null,null,null,null,0]
[94,null,{"$f":"IF(E98=\"\",\"\",VLOOKUP(E98,'ePrijava in Navodila'!$B$13:$H$164,2,FALSE) & \" \" & VLOOKUP(E98,'ePrijava in Navodila'!$B$13:$H$164,3,FALSE))","v":""},{"$f":"IF(E98=\"\",\"\",VLOOKUP(E98,'ePrijava in Navodila'!$B$13:$H$164,5,FALSE))","v":""},null,{"$f":"IF(E98=\"\",\"\",VLOOKUP(E98,'ePrijava in Navodila'!$B$13:$H$164,7,FALSE))","v":""},null,null,null,null,null,null,0]
[95,null,{"$f":"IF(E99=\"\",\"\",VLOOKUP(E99,'ePrijava in Navodila'!$B$13:$H$164,2,FALSE) & \" \" & VLOOKUP(E99,'ePrijava in Navodila'!$B$13:$H$164,3,FALSE))","v":""},{"$f":"IF(E99=\"\",\"\",VLOOKUP(E99,'ePrijava in Navodila'!$B$13:$H$164,5,FALSE))","v":""},null,{"$f":"IF(E99=\"\",\"\",VLOOKUP(E99,'ePrijava in Navodila'!$B$13:$H$164,7,FALSE))","v":""},null,null,null,null,null,null,0]
[96,null,{"$f":"IF(E100=\"\",\"\",VLOOKUP(E100,'ePrijava in Navodila'!$B$13:$H$164,2,FALSE) & \" \" & VLOOKUP(E100,'ePrijava in Navodila'!$B$13:$H$164,3,FALSE))","v":""},{"$f":"IF(E100=\"\",\"\",VLOOKUP(E100,'ePrijava in Navodila'!$B$13:$H$164,5,FALSE))","v":""},null,{"$f":"IF(E100=\"\",\"\",VLOOKUP(E100,'ePrijava in Navodila'!$B$13:$H$164,7,FALSE))","v":""},null,null,null,null,null,null,0]
[]
[]
[]
[]
["mesto",null,"U13 (deklice)"]
[]
[]
[null,null,"Priimek in ime","Roj.","BIB","Društvo, klub","1. ser","2. ser","3. ser","4. ser","1. ser","2. ser","skupno","nc*"]
[null,null,null,"skrita"]
[1,null,{"$f":"IF(E110=\"\",\"\",VLOOKUP(E110,'ePrijava in Navodila'!$B$13:$H$164,2,FALSE) & \" \" & VLOOKUP(E110,'ePrijava in Navodila'!$B$13:$H$164,3,FALSE))","v":""},{"$f":"IF(E110=\"\",\"\",VLOOKUP(E110,'ePrijava in Navodila'!$B$13:$H$164,5,FALSE))","v":""},null,{"$f":"IF(E110=\"\",\"\",VLOOKUP(E110,'ePrijava in Navodila'!$B$13:$H$164,7,FALSE))","v":""},null,null,null,null,null,null,{"$f":"SUM(G110:L110)","v":0}]
[2,null,{"$f":"IF(E111=\"\",\"\",VLOOKUP(E111,'ePrijava in Navodila'!$B$13:$H$164,2,FALSE) & \" \" & VLOOKUP(E111,'ePrijava in Navodila'!$B$13:$H$164,3,FALSE))","v":""},{"$f":"IF(E111=\"\",\"\",VLOOKUP(E111,'ePrijava in Navodila'!$B$13:$H$164,5,FALSE))","v":""},null,{"$f":"IF(E111=\"\",\"\",VLOOKUP(E111,'ePrijava in Navodila'!$B$13:$H$164,7,FALSE))","v":""},null,null,null,null,null,null,0]
[3,null,{"$f":"IF(E112=\"\",\"\",VLOOKUP(E112,'ePrijava in Navodila'!$B$13:$H$164,2,FALSE) & \" \" & VLOOKUP(E112,'ePrijava in Navodila'!$B$13:$H$164,3,FALSE))","v":""},{"$f":"IF(E112=\"\",\"\",VLOOKUP(E112,'ePrijava in Navodila'!$B$13:$H$164,5,FALSE))","v":""},null,{"$f":"IF(E112=\"\",\"\",VLOOKUP(E112,'ePrijava in Navodila'!$B$13:$H$164,7,FALSE))","v":""},null,null,null,null,null,null,0]
[4,null,{"$f":"IF(E113=\"\",\"\",VLOOKUP(E113,'ePrijava in Navodila'!$B$13:$H$164,2,FALSE) & \" \" & VLOOKUP(E113,'ePrijava in Navodila'!$B$13:$H$164,3,FALSE))","v":""},{"$f":"IF(E113=\"\",\"\",VLOOKUP(E113,'ePrijava in Navodila'!$B$13:$H$164,5,FALSE))","v":""},null,{"$f":"IF(E113=\"\",\"\",VLOOKUP(E113,'ePrijava in Navodila'!$B$13:$H$164,7,FALSE))","v":""},null,null,null,null,null,null,0]
[5,null,{"$f":"IF(E114=\"\",\"\",VLOOKUP(E114,'ePrijava in Navodila'!$B$13:$H$164,2,FALSE) & \" \" & VLOOKUP(E114,'ePrijava in Navodila'!$B$13:$H$164,3,FALSE))","v":""},{"$f":"IF(E114=\"\",\"\",VLOOKUP(E114,'ePrijava in Navodila'!$B$13:$H$164,5,FALSE))","v":""},null,{"$f":"IF(E114=\"\",\"\",VLOOKUP(E114,'ePrijava in Navodila'!$B$13:$H$164,7,FALSE))","v":""},null,null,null,null,null,null,0]
[6,null,{"$f":"IF(E115=\"\",\"\",VLOOKUP(E115,'ePrijava in Navodila'!$B$13:$H$164,2,FALSE) & \" \" & VLOOKUP(E115,'ePrijava in Navodila'!$B$13:$H$164,3,FALSE))","v":""},{"$f":"IF(E115=\"\",\"\",VLOOKUP(E115,'ePrijava in Navodila'!$B$13:$H$164,5,FALSE))","v":""},null,{"$f":"IF(E115=\"\",\"\",VLOOKUP(E115,'ePrijava in Navodila'!$B$13:$H$164,7,FALSE))","v":""},null,null,null,null,null,null,0]
[7,null,{"$f":"IF(E116=\"\",\"\",VLOOKUP(E116,'ePrijava in Navodila'!$B$13:$H$164,2,FALSE) & \" \" & VLOOKUP(E116,'ePrijava in Navodila'!$B$13:$H$164,3,FALSE))","v":""},{"$f":"IF(E116=\"\",\"\",VLOOKUP(E116,'ePrijava in Navodila'!$B$13:$H$164,5,FALSE))","v":""},null,{"$f":"IF(E116=\"\",\"\",VLOOKUP(E116,'ePrijava in Navodila'!$B$13:$H$164,7,FALSE))","v":""},null,null,null,null,null,null,0]
[8,null,{"$f":"IF(E117=\"\",\"\",VLOOKUP(E117,'ePrijava in Navodila'!$B$13:$H$164,2,FALSE) & \" \" & VLOOKUP(E117,'ePrijava in Navodila'!$B$13:$H$164,3,FALSE))","v":""},{"$f":"IF(E117=\"\",\"\",VLOOKUP(E117,'ePrijava in Navodila'!$B$13:$H$164,5,FALSE))","v":""},null,{"$f":"IF(E117=\"\",\"\",VLOOKUP(E117,'ePrijava in Navodila'!$B$13:$H$164,7,FALSE))","v":""},null,null,null,null,null,null,0]
[9,null,{"$f":"IF(E118=\"\",\"\",VLOOKUP(E118,'ePrijava in Navodila'!$B$13:$H$164,2,FALSE) & \" \" & VLOOKUP(E118,'ePrijava in Navodila'!$B$13:$H$164,3,FALSE))","v":""},{"$f":"IF(E118=\"\",\"\",VLOOKUP(E118,'ePrijava in Navodila'!$B$13:$H$164,5,FALSE))","v":""},null,{"$f":"IF(E118=\"\",\"\",VLOOKUP(E118,'ePrijava in Navodila'!$B$13:$H$164,7,FALSE))","v":""},null,null,null,null,null,null,0]
[10,null,{"$f":"IF(E119=\"\",\"\",VLOOKUP(E119,'ePrijava in Navodila'!$B$13:$H$164,2,FALSE) & \" \" & VLOOKUP(E119,'ePrijava in Navodila'!$B$13:$H$164,3,FALSE))","v":""},{"$f":"IF(E119=\"\",\"\",VLOOKUP(E119,'ePrijava in Navodila'!$B$13:$H$164,5,FALSE))","v":""},null,{"$f":"IF(E119=\"\",\"\",VLOOKUP(E119,'ePrijava in Navodila'!$B$13:$H$164,7,FALSE))","v":""},null,null,null,null,null,null,0]
[11,null,{"$f":"IF(E120=\"\",\"\",VLOOKUP(E120,'ePrijava in Navodila'!$B$13:$H$164,2,FALSE) & \" \" & VLOOKUP(E120,'ePrijava in Navodila'!$B$13:$H$164,3,FALSE))","v":""},{"$f":"IF(E120=\"\",\"\",VLOOKUP(E120,'ePrijava in Navodila'!$B$13:$H$164,5,FALSE))","v":""},null,{"$f":"IF(E120=\"\",\"\",VLOOKUP(E120,'ePrijava in Navodila'!$B$13:$H$164,7,FALSE))","v":""},null,null,null,null,null,null,0]
[12,null,{"$f":"IF(E121=\"\",\"\",VLOOKUP(E121,'ePrijava in Navodila'!$B$13:$H$164,2,FALSE) & \" \" & VLOOKUP(E121,'ePrijava in Navodila'!$B$13:$H$164,3,FALSE))","v":""},{"$f":"IF(E121=\"\",\"\",VLOOKUP(E121,'ePrijava in Navodila'!$B$13:$H$164,5,FALSE))","v":""},null,{"$f":"IF(E121=\"\",\"\",VLOOKUP(E121,'ePrijava in Navodila'!$B$13:$H$164,7,FALSE))","v":""},null,null,null,null,null,null,0]
[13,null,{"$f":"IF(E122=\"\",\"\",VLOOKUP(E122,'ePrijava in Navodila'!$B$13:$H$164,2,FALSE) & \" \" & VLOOKUP(E122,'ePrijava in Navodila'!$B$13:$H$164,3,FALSE))","v":""},{"$f":"IF(E122=\"\",\"\",VLOOKUP(E122,'ePrijava in Navodila'!$B$13:$H$164,5,FALSE))","v":""},null,{"$f":"IF(E122=\"\",\"\",VLOOKUP(E122,'ePrijava in Navodila'!$B$13:$H$164,7,FALSE))","v":""},null,null,null,null,null,null,0]
[14,null,{"$f":"IF(E123=\"\",\"\",VLOOKUP(E123,'ePrijava in Navodila'!$B$13:$H$164,2,FALSE) & \" \" & VLOOKUP(E123,'ePrijava in Navodila'!$B$13:$H$164,3,FALSE))","v":""},{"$f":"IF(E123=\"\",\"\",VLOOKUP(E123,'ePrijava in Navodila'!$B$13:$H$164,5,FALSE))","v":""},null,{"$f":"IF(E123=\"\",\"\",VLOOKUP(E123,'ePrijava in Navodila'!$B$13:$H$164,7,FALSE))","v":""},null,null,null,null,null,null,0]
[15,null,{"$f":"IF(E124=\"\",\"\",VLOOKUP(E124,'ePrijava in Navodila'!$B$13:$H$164,2,FALSE) & \" \" & VLOOKUP(E124,'ePrijava in Navodila'!$B$13:$H$164,3,FALSE))","v":""},{"$f":"IF(E124=\"\",\"\",VLOOKUP(E124,'ePrijava in Navodila'!$B$13:$H$164,5,FALSE))","v":""},null,{"$f":"IF(E124=\"\",\"\",VLOOKUP(E124,'ePrijava in Navodila'!$B$13:$H$164,7,FALSE))","v":""},null,null,null,null,null,null,0]
[16,null,{"$f":"IF(E125=\"\",\"\",VLOOKUP(E125,'ePrijava in Navodila'!$B$13:$H$164,2,FALSE) & \" \" & VLOOKUP(E125,'ePrijava in Navodila'!$B$13:$H$164,3,FALSE))","v":""},{"$f":"IF(E125=\"\",\"\",VLOOKUP(E125,'ePrijava in Navodila'!$B$13:$H$164,5,FALSE))","v":""},null,{"$f":"IF(E125=\"\",\"\",VLOOKUP(E125,'ePrijava in Navodila'!$B$13:$H$164,7,FALSE))","v":""},null,null,null,null,null,null,0]
[17,null,{"$f":"IF(E126=\"\",\"\",VLOOKUP(E126,'ePrijava in Navodila'!$B$13:$H$164,2,FALSE) & \" \" & VLOOKUP(E126,'ePrijava in Navodila'!$B$13:$H$164,3,FALSE))","v":""},{"$f":"IF(E126=\"\",\"\",VLOOKUP(E126,'ePrijava in Navodila'!$B$13:$H$164,5,FALSE))","v":""},null,{"$f":"IF(E126=\"\",\"\",VLOOKUP(E126,'ePrijava in Navodila'!$B$13:$H$164,7,FALSE))","v":""},null,null,null,null,null,null,0]
[18,null,{"$f":"IF(E127=\"\",\"\",VLOOKUP(E127,'ePrijava in Navodila'!$B$13:$H$164,2,FALSE) & \" \" & VLOOKUP(E127,'ePrijava in Navodila'!$B$13:$H$164,3,FALSE))","v":""},{"$f":"IF(E127=\"\",\"\",VLOOKUP(E127,'ePrijava in Navodila'!$B$13:$H$164,5,FALSE))","v":""},null,{"$f":"IF(E127=\"\",\"\",VLOOKUP(E127,'ePrijava in Navodila'!$B$13:$H$164,7,FALSE))","v":""},null,null,null,null,null,null,0]
[19,null,{"$f":"IF(E128=\"\",\"\",VLOOKUP(E128,'ePrijava in Navodila'!$B$13:$H$164,2,FALSE) & \" \" & VLOOKUP(E128,'ePrijava in Navodila'!$B$13:$H$164,3,FALSE))","v":""},{"$f":"IF(E128=\"\",\"\",VLOOKUP(E128,'ePrijava in Navodila'!$B$13:$H$164,5,FALSE))","v":""},null,{"$f":"IF(E128=\"\",\"\",VLOOKUP(E128,'ePrijava in Navodila'!$B$13:$H$164,7,FALSE))","v":""},null,null,null,null,null,null,0]
[20,null,{"$f":"IF(E129=\"\",\"\",VLOOKUP(E129,'ePrijava in Navodila'!$B$13:$H$164,2,FALSE) & \" \" & VLOOKUP(E129,'ePrijava in Navodila'!$B$13:$H$164,3,FALSE))","v":""},{"$f":"IF(E129=\"\",\"\",VLOOKUP(E129,'ePrijava in Navodila'!$B$13:$H$164,5,FALSE))","v":""},null,{"$f":"IF(E129=\"\",\"\",VLOOKUP(E129,'ePrijava in Navodila'!$B$13:$H$164,7,FALSE))","v":""},null,null,null,null,null,null,0]
[21,null,{"$f":"IF(E130=\"\",\"\",VLOOKUP(E130,'ePrijava in Navodila'!$B$13:$H$164,2,FALSE) & \" \" & VLOOKUP(E130,'ePrijava in Navodila'!$B$13:$H$164,3,FALSE))","v":""},{"$f":"IF(E130=\"\",\"\",VLOOKUP(E130,'ePrijava in Navodila'!$B$13:$H$164,5,FALSE))","v":""},null,{"$f":"IF(E130=\"\",\"\",VLOOKUP(E130,'ePrijava in Navodila'!$B$13:$H$164,7,FALSE))","v":""},null,null,null,null,null,null,0]
[22,null,{"$f":"IF(E131=\"\",\"\",VLOOKUP(E131,'ePrijava in Navodila'!$B$13:$H$164,2,FALSE) & \" \" & VLOOKUP(E131,'ePrijava in Navodila'!$B$13:$H$164,3,FALSE))","v":""},{"$f":"IF(E131=\"\",\"\",VLOOKUP(E131,'ePrijava in Navodila'!$B$13:$H$164,5,FALSE))","v":""},null,{"$f":"IF(E131=\"\",\"\",VLOOKUP(E131,'ePrijava in Navodila'!$B$13:$H$164,7,FALSE))","v":""},null,null,null,null,null,null,0]
[23,null,{"$f":"IF(E132=\"\",\"\",VLOOKUP(E132,'ePrijava in Navodila'!$B$13:$H$164,2,FALSE) & \" \" & VLOOKUP(E132,'ePrijava in Navodila'!$B$13:$H$164,3,FALSE))","v":""},{"$f":"IF(E132=\"\",\"\",VLOOKUP(E132,'ePrijava in Navodila'!$B$13:$H$164,5,FALSE))","v":""},null,{"$f":"IF(E132=\"\",\"\",VLOOKUP(E132,'ePrijava in Navodila'!$B$13:$H$164,7,FALSE))","v":""},null,null,null,null,null,null,0]
[24,null,{"$f":"IF(E133=\"\",\"\",VLOOKUP(E133,'ePrijava in Navodila'!$B$13:$H$164,2,FALSE) & \" \" & VLOOKUP(E133,'ePrijava in Navodila'!$B$13:$H$164,3,FALSE))","v":""},{"$f":"IF(E133=\"\",\"\",VLOOKUP(E133,'ePrijava in Navodila'!$B$13:$H$164,5,FALSE))","v":""},null,{"$f":"IF(E133=\"\",\"\",VLOOKUP(E133,'ePrijava in Navodila'!$B$13:$H$164,7,FALSE))","v":""},null,null,null,null,null,null,0]
[25,null,{"$f":"IF(E134=\"\",\"\",VLOOKUP(E134,'ePrijava in Navodila'!$B$13:$H$164,2,FALSE) & \" \" & VLOOKUP(E134,'ePrijava in Navodila'!$B$13:$H$164,3,FALSE))","v":""},{"$f":"IF(E134=\"\",\"\",VLOOKUP(E134,'ePrijava in Navodila'!$B$13:$H$164,5,FALSE))","v":""},null,{"$f":"IF(E134=\"\",\"\",VLOOKUP(E134,'ePrijava in Navodila'!$B$13:$H$164,7,FALSE))","v":""},null,null,null,null,null,null,0]
[26,null,{"$f":"IF(E135=\"\",\"\",VLOOKUP(E135,'ePrijava in Navodila'!$B$13:$H$164,2,FALSE) & \" \" & VLOOKUP(E135,'ePrijava in Navodila'!$B$13:$H$164,3,FALSE))","v":""},{"$f":"IF(E135=\"\",\"\",VLOOKUP(E135,'ePrijava in Navodila'!$B$13:$H$164,5,FALSE))","v":""},null,{"$f":"IF(E135=\"\",\"\",VLOOKUP(E135,'ePrijava in Navodila'!$B$13:$H$164,7,FALSE))","v":""},null,null,null,null,null,null,0]
[27,null,{"$f":"IF(E136=\"\",\"\",VLOOKUP(E136,'ePrijava in Navodila'!$B$13:$H$164,2,FALSE) & \" \" & VLOOKUP(E136,'ePrijava in Navodila'!$B$13:$H$164,3,FALSE))","v":""},{"$f":"IF(E136=\"\",\"\",VLOOKUP(E136,'ePrijava in Navodila'!$B$13:$H$164,5,FALSE))","v":""},null,{"$f":"IF(E136=\"\",\"\",VLOOKUP(E136,'ePrijava in Navodila'!$B$13:$H$164,7,FALSE))","v":""},null,null,null,null,null,null,0]
[28,null,{"$f":"IF(E137=\"\",\"\",VLOOKUP(E137,'ePrijava in Navodila'!$B$13:$H$164,2,FALSE) & \" \" & VLOOKUP(E137,'ePrijava in Navodila'!$B$13:$H$164,3,FALSE))","v":""},{"$f":"IF(E137=\"\",\"\",VLOOKUP(E137,'ePrijava in Navodila'!$B$13:$H$164,5,FALSE))","v":""},null,{"$f":"IF(E137=\"\",\"\",VLOOKUP(E137,'ePrijava in Navodila'!$B$13:$H$164,7,FALSE))","v":""},null,null,null,null,null,null,0]
[29,null,{"$f":"IF(E138=\"\",\"\",VLOOKUP(E138,'ePrijava in Navodila'!$B$13:$H$164,2,FALSE) & \" \" & VLOOKUP(E138,'ePrijava in Navodila'!$B$13:$H$164,3,FALSE))","v":""},{"$f":"IF(E138=\"\",\"\",VLOOKUP(E138,'ePrijava in Navodila'!$B$13:$H$164,5,FALSE))","v":""},null,{"$f":"IF(E138=\"\",\"\",VLOOKUP(E138,'ePrijava in Navodila'!$B$13:$H$164,7,FALSE))","v":""},null,null,null,null,null,null,0]
[30,null,{"$f":"IF(E139=\"\",\"\",VLOOKUP(E139,'ePrijava in Navodila'!$B$13:$H$164,2,FALSE) & \" \" & VLOOKUP(E139,'ePrijava in Navodila'!$B$13:$H$164,3,FALSE))","v":""},{"$f":"IF(E139=\"\",\"\",VLOOKUP(E139,'ePrijava in Navodila'!$B$13:$H$164,5,FALSE))","v":""},null,{"$f":"IF(E139=\"\",\"\",VLOOKUP(E139,'ePrijava in Navodila'!$B$13:$H$164,7,FALSE))","v":""},null,null,null,null,null,null,0]
[31,null,{"$f":"IF(E140=\"\",\"\",VLOOKUP(E140,'ePrijava in Navodila'!$B$13:$H$164,2,FALSE) & \" \" & VLOOKUP(E140,'ePrijava in Navodila'!$B$13:$H$164,3,FALSE))","v":""},{"$f":"IF(E140=\"\",\"\",VLOOKUP(E140,'ePrijava in Navodila'!$B$13:$H$164,5,FALSE))","v":""},null,{"$f":"IF(E140=\"\",\"\",VLOOKUP(E140,'ePrijava in Navodila'!$B$13:$H$164,7,FALSE))","v":""},null,null,null,null,null,null,{"$f":"SUM(G140:L140)","v":0}]
[32,null,{"$f":"IF(E141=\"\",\"\",VLOOKUP(E141,'ePrijava in Navodila'!$B$13:$H$164,2,FALSE) & \" \" & VLOOKUP(E141,'ePrijava in Navodila'!$B$13:$H$164,3,FALSE))","v":""},{"$f":"IF(E141=\"\",\"\",VLOOKUP(E141,'ePrijava in Navodila'!$B$13:$H$164,5,FALSE))","v":""},null,{"$f":"IF(E141=\"\",\"\",VLOOKUP(E141,'ePrijava in Navodila'!$B$13:$H$164,7,FALSE))","v":""},null,null,null,null,null,null,0]
[33,null,{"$f":"IF(E142=\"\",\"\",VLOOKUP(E142,'ePrijava in Navodila'!$B$13:$H$164,2,FALSE) & \" \" & VLOOKUP(E142,'ePrijava in Navodila'!$B$13:$H$164,3,FALSE))","v":""},{"$f":"IF(E142=\"\",\"\",VLOOKUP(E142,'ePrijava in Navodila'!$B$13:$H$164,5,FALSE))","v":""},null,{"$f":"IF(E142=\"\",\"\",VLOOKUP(E142,'ePrijava in Navodila'!$B$13:$H$164,7,FALSE))","v":""},null,null,null,null,null,null,0]
[34,null,{"$f":"IF(E143=\"\",\"\",VLOOKUP(E143,'ePrijava in Navodila'!$B$13:$H$164,2,FALSE) & \" \" & VLOOKUP(E143,'ePrijava in Navodila'!$B$13:$H$164,3,FALSE))","v":""},{"$f":"IF(E143=\"\",\"\",VLOOKUP(E143,'ePrijava in Navodila'!$B$13:$H$164,5,FALSE))","v":""},null,{"$f":"IF(E143=\"\",\"\",VLOOKUP(E143,'ePrijava in Navodila'!$B$13:$H$164,7,FALSE))","v":""},null,null,null,null,null,null,0]
[35,null,{"$f":"IF(E144=\"\",\"\",VLOOKUP(E144,'ePrijava in Navodila'!$B$13:$H$164,2,FALSE) & \" \" & VLOOKUP(E144,'ePrijava in Navodila'!$B$13:$H$164,3,FALSE))","v":""},{"$f":"IF(E144=\"\",\"\",VLOOKUP(E144,'ePrijava in Navodila'!$B$13:$H$164,5,FALSE))","v":""},null,{"$f":"IF(E144=\"\",\"\",VLOOKUP(E144,'ePrijava in Navodila'!$B$13:$H$164,7,FALSE))","v":""},null,null,null,null,null,null,0]
[36,null,{"$f":"IF(E145=\"\",\"\",VLOOKUP(E145,'ePrijava in Navodila'!$B$13:$H$164,2,FALSE) & \" \" & VLOOKUP(E145,'ePrijava in Navodila'!$B$13:$H$164,3,FALSE))","v":""},{"$f":"IF(E145=\"\",\"\",VLOOKUP(E145,'ePrijava in Navodila'!$B$13:$H$164,5,FALSE))","v":""},null,{"$f":"IF(E145=\"\",\"\",VLOOKUP(E145,'ePrijava in Navodila'!$B$13:$H$164,7,FALSE))","v":""},null,null,null,null,null,null,0]
[37,null,{"$f":"IF(E146=\"\",\"\",VLOOKUP(E146,'ePrijava in Navodila'!$B$13:$H$164,2,FALSE) & \" \" & VLOOKUP(E146,'ePrijava in Navodila'!$B$13:$H$164,3,FALSE))","v":""},{"$f":"IF(E146=\"\",\"\",VLOOKUP(E146,'ePrijava in Navodila'!$B$13:$H$164,5,FALSE))","v":""},null,{"$f":"IF(E146=\"\",\"\",VLOOKUP(E146,'ePrijava in Navodila'!$B$13:$H$164,7,FALSE))","v":""},null,null,null,null,null,null,0]
[38,null,{"$f":"IF(E147=\"\",\"\",VLOOKUP(E147,'ePrijava in Navodila'!$B$13:$H$164,2,FALSE) & \" \" & VLOOKUP(E147,'ePrijava in Navodila'!$B$13:$H$164,3,FALSE))","v":""},{"$f":"IF(E147=\"\",\"\",VLOOKUP(E147,'ePrijava in Navodila'!$B$13:$H$164,5,FALSE))","v":""},null,{"$f":"IF(E147=\"\",\"\",VLOOKUP(E147,'ePrijava in Navodila'!$B$13:$H$164,7,FALSE))","v":""},null,null,null,null,null,null,0]
[39,null,{"$f":"IF(E148=\"\",\"\",VLOOKUP(E148,'ePrijava in Navodila'!$B$13:$H$164,2,FALSE) & \" \" & VLOOKUP(E148,'ePrijava in Navodila'!$B$13:$H$164,3,FALSE))","v":""},{"$f":"IF(E148=\"\",\"\",VLOOKUP(E148,'ePrijava in Navodila'!$B$13:$H$164,5,FALSE))","v":""},null,{"$f":"IF(E148=\"\",\"\",VLOOKUP(E148,'ePrijava in Navodila'!$B$13:$H$164,7,FALSE))","v":""},null,null,null,null,null,null,0]
[40,null,{"$f":"IF(E149=\"\",\"\",VLOOKUP(E149,'ePrijava in Navodila'!$B$13:$H$164,2,FALSE) & \" \" & VLOOKUP(E149,'ePrijava in Navodila'!$B$13:$H$164,3,FALSE))","v":""},{"$f":"IF(E149=\"\",\"\",VLOOKUP(E149,'ePrijava in Navodila'!$B$13:$H$164,5,FALSE))","v":""},null,{"$f":"IF(E149=\"\",\"\",VLOOKUP(E149,'ePrijava in Navodila'!$B$13:$H$164,7,FALSE))","v":""},null,null,null,null,null,null,0]

{"sheet":"U15","index":4,"n_rows":149,"n_cols":27,"rows_kept":149,"cut":false,"hidden":false,"merged":[[104,0,108,0],[104,1,108,1],[104,2,105,12],[0,2,0,12],[0,18,2,37],[1,0,3,0],[1,1,3,1],[1,2,1,12],[103,4,103,5]]}
[null,null,"POKAL PRIJATELJSTVA SERIJSKA ZRAČNA PUŠKA",null,null,null,null,null,null,null,null,null,null,null,null,null,null,null,"Iz evidence in zavihka ePrijava in Navodila se za tekmovalca v seznam za rezultate v stolpec E vpiše BIB številka pri \"moških\" od vrstice 5 dalje, za \"ženske\"pa od vrstice 110 dalje. Po vpisu BIB bo preneslo vse podatke v ta seznam, kjer se nato vpisujejo rezultati. Vpiše se rezultat serije v K in L  ter nc*. Prav tako se za upoštevanje rezultata ekipno vpišejo samo BIB številke v stolpcu R za vse tri člane ekipe, ki je lahko mešana. Prenos ostalih podatkov je samodejen.  Posamezno se lahko razvrsti, ekipno ostane nerazvrščeno. Dokument mora imeti omogočen makro."]
["mesto",null,"U15 (starejši dečki)"]
[]
[null,null,"Priimek in ime","Roj.skrita","BIB","Društvo, klub","1. ser","2. ser","3. ser","4. ser","1. ser","2. ser","skupno","nc*"]
[1,null,{"$f":"IF(E5=\"\",\"\",VLOOKUP(E5,'ePrijava in Navodila'!$B$13:$H$164,2,FALSE) & \" \" & VLOOKUP(E5,'ePrijava in Navodila'!$B$13:$H$164,3,FALSE))","v":""},{"$f":"IF(E5=\"\",\"\",VLOOKUP(E5,'ePrijava in Navodila'!$B$13:$H$164,5,FALSE))","v":""},null,{"$f":"IF(E5=\"\",\"\",VLOOKUP(E5,'ePrijava in Navodila'!$B$13:$H$164,7,FALSE))","v":""},null,null,null,null,null,null,{"$f":"SUM(G5:L5)","v":0},null,null,null,null,null,"EKIPNO: "]
[2,null,{"$f":"IF(E6=\"\",\"\",VLOOKUP(E6,'ePrijava in Navodila'!$B$13:$H$164,2,FALSE) & \" \" & VLOOKUP(E6,'ePrijava in Navodila'!$B$13:$H$164,3,FALSE))","v":""},{"$f":"IF(E6=\"\",\"\",VLOOKUP(E6,'ePrijava in Navodila'!$B$13:$H$164,5,FALSE))","v":""},null,{"$f":"IF(E6=\"\",\"\",VLOOKUP(E6,'ePrijava in Navodila'!$B$13:$H$164,7,FALSE))","v":""},null,null,null,null,null,null,0]
[3,null,{"$f":"IF(E7=\"\",\"\",VLOOKUP(E7,'ePrijava in Navodila'!$B$13:$H$164,2,FALSE) & \" \" & VLOOKUP(E7,'ePrijava in Navodila'!$B$13:$H$164,3,FALSE))","v":""},{"$f":"IF(E7=\"\",\"\",VLOOKUP(E7,'ePrijava in Navodila'!$B$13:$H$164,5,FALSE))","v":""},null,{"$f":"IF(E7=\"\",\"\",VLOOKUP(E7,'ePrijava in Navodila'!$B$13:$H$164,7,FALSE))","v":""},null,null,null,null,null,null,0,null,null,null,null,null,{"$f":"IF(R9=\"\",\"\",VLOOKUP(R9,'ePrijava in Navodila'!$B$13:$H$164,7,FALSE))","v":""}]
[4,null,{"$f":"IF(E8=\"\",\"\",VLOOKUP(E8,'ePrijava in Navodila'!$B$13:$H$164,2,FALSE) & \" \" & VLOOKUP(E8,'ePrijava in Navodila'!$B$13:$H$164,3,FALSE))","v":""},{"$f":"IF(E8=\"\",\"\",VLOOKUP(E8,'ePrijava in Navodila'!$B$13:$H$164,5,FALSE))","v":""},null,{"$f":"IF(E8=\"\",\"\",VLOOKUP(E8,'ePrijava in Navodila'!$B$13:$H$164,7,FALSE))","v":""},null,null,null,null,null,null,0,null,null,null,null,"BIB","Priimek in ime","1. ser","2. ser","3. ser","4. ser","1. ser","2. ser","skupno","nc*"]
[5,null,{"$f":"IF(E9=\"\",\"\",VLOOKUP(E9,'ePrijava in Navodila'!$B$13:$H$164,2,FALSE) & \" \" & VLOOKUP(E9,'ePrijava in Navodila'!$B$13:$H$164,3,FALSE))","v":""},{"$f":"IF(E9=\"\",\"\",VLOOKUP(E9,'ePrijava in Navodila'!$B$13:$H$164,5,FALSE))","v":""},null,{"$f":"IF(E9=\"\",\"\",VLOOKUP(E9,'ePrijava in Navodila'!$B$13:$H$164,7,FALSE))","v":""},null,null,null,null,null,null,0,null,null,null,null,null,{"$f":"IF(R9=\"\",\"\",VLOOKUP(R9,'ePrijava in Navodila'!$B$13:$H$164,2,FALSE) & \" \" & VLOOKUP(R9,'ePrijava in Navodila'!$B$13:$H$164,3,FALSE))","v":""},{"$f":"IF(S9=\"\",\"\",VLOOKUP(S9,$C$5:$L$149,5,FALSE))","v":""},{"$f":"IF(S9=\"\",\"\",VLOOKUP(S9,$C$5:$L$149,6,FALSE))","v":""},{"$f":"IF(S9=\"\",\"\",VLOOKUP(S9,$C$5:$L$149,7,FALSE))","v":""},{"$f":"IF(S9=\"\",\"\",VLOOKUP(S9,$C$5:$L$149,8,FALSE))","v":""},{"$f":"IF(S9=\"\",\"\",VLOOKUP(S9,$C$5:$L$149,9,FALSE))","v":""},{"$f":"IF(S9=\"\",\"\",VLOOKUP(S9,$C$5:$L$149,10,FALSE))","v":""},{"$f":"SUM(T9:Y9)","v":0},{"$f":"IF(S9=\"\",\"\",VLOOKUP(S9,$C$5:$N$149,12,FALSE))","v":""}]
[6,null,{"$f":"IF(E10=\"\",\"\",VLOOKUP(E10,'ePrijava in Navodila'!$B$13:$H$164,2,FALSE) & \" \" & VLOOKUP(E10,'ePrijava in Navodila'!$B$13:$H$164,3,FALSE))","v":""},{"$f":"IF(E10=\"\",\"\",VLOOKUP(E10,'ePrijava in Navodila'!$B$13:$H$164,5,FALSE))","v":""},null,{"$f":"IF(E10=\"\",\"\",VLOOKUP(E10,'ePrijava in Navodila'!$B$13:$H$164,7,FALSE))","v":""},null,null,null,null,null,null,0,null,null,null,null,null,{"$f":"IF(R10=\"\",\"\",VLOOKUP(R10,'ePrijava in Navodila'!$B$13:$H$164,2,FALSE) & \" \" & VLOOKUP(R10,'ePrijava in Navodila'!$B$13:$H$164,3,FALSE))","v":""},{"$f":"IF(S10=\"\",\"\",VLOOKUP(S10,$C$5:$L$149,5,FALSE))","v":""},{"$f":"IF(S10=\"\",\"\",VLOOKUP(S10,$C$5:$L$149,6,FALSE))","v":""},{"$f":"IF(S10=\"\",\"\",VLOOKUP(S10,$C$5:$L$149,7,FALSE))","v":""},{"$f":"IF(S10=\"\",\"\",VLOOKUP(S10,$C$5:$L$149,8,FALSE))","v":""},{"$f":"IF(S10=\"\",\"\",VLOOKUP(S10,$C$5:$L$149,9,FALSE))","v":""},{"$f":"IF(S10=\"\",\"\",VLOOKUP(S10,$C$5:$L$149,10,FALSE))","v":""},{"$f":"SUM(T10:Y10)","v":0},{"$f":"IF(S10=\"\",\"\",VLOOKUP(S10,$C$5:$N$149,12,FALSE))","v":""}]
[7,null,{"$f":"IF(E11=\"\",\"\",VLOOKUP(E11,'ePrijava in Navodila'!$B$13:$H$164,2,FALSE) & \" \" & VLOOKUP(E11,'ePrijava in Navodila'!$B$13:$H$164,3,FALSE))","v":""},{"$f":"IF(E11=\"\",\"\",VLOOKUP(E11,'ePrijava in Navodila'!$B$13:$H$164,5,FALSE))","v":""},null,{"$f":"IF(E11=\"\",\"\",VLOOKUP(E11,'ePrijava in Navodila'!$B$13:$H$164,7,FALSE))","v":""},null,null,null,null,null,null,0,null,null,null,null,null,{"$f":"IF(R11=\"\",\"\",VLOOKUP(R11,'ePrijava in Navodila'!$B$13:$H$164,2,FALSE) & \" \" & VLOOKUP(R11,'ePrijava in Navodila'!$B$13:$H$164,3,FALSE))","v":""},{"$f":"IF(S11=\"\",\"\",VLOOKUP(S11,$C$5:$L$149,5,FALSE))","v":""},{"$f":"IF(S11=\"\",\"\",VLOOKUP(S11,$C$5:$L$149,6,FALSE))","v":""},{"$f":"IF(S11=\"\",\"\",VLOOKUP(S11,$C$5:$L$149,7,FALSE))","v":""},{"$f":"IF(S11=\"\",\"\",VLOOKUP(S11,$C$5:$L$149,8,FALSE))","v":""},{"$f":"IF(S11=\"\",\"\",VLOOKUP(S11,$C$5:$L$149,9,FALSE))","v":""},{"$f":"IF(S11=\"\",\"\",VLOOKUP(S11,$C$5:$L$149,10,FALSE))","v":""},{"$f":"SUM(T11:Y11)","v":0},{"$f":"IF(S11=\"\",\"\",VLOOKUP(S11,$C$5:$N$149,12,FALSE))","v":""}]
[8,null,{"$f":"IF(E12=\"\",\"\",VLOOKUP(E12,'ePrijava in Navodila'!$B$13:$H$164,2,FALSE) & \" \" & VLOOKUP(E12,'ePrijava in Navodila'!$B$13:$H$164,3,FALSE))","v":""},{"$f":"IF(E12=\"\",\"\",VLOOKUP(E12,'ePrijava in Navodila'!$B$13:$H$164,5,FALSE))","v":""},null,{"$f":"IF(E12=\"\",\"\",VLOOKUP(E12,'ePrijava in Navodila'!$B$13:$H$164,7,FALSE))","v":""},null,null,null,null,null,null,0,null,null,null,null,null,null,null,null,null,null,null,{"$f":"SUM(Y9:Y11)","v":0},{"$f":"SUM(Z9:Z11)","v":0},{"$f":"SUM(AA9:AA11)","v":0}]
[9,null,{"$f":"IF(E13=\"\",\"\",VLOOKUP(E13,'ePrijava in Navodila'!$B$13:$H$164,2,FALSE) & \" \" & VLOOKUP(E13,'ePrijava in Navodila'!$B$13:$H$164,3,FALSE))","v":""},{"$f":"IF(E13=\"\",\"\",VLOOKUP(E13,'ePrijava in Navodila'!$B$13:$H$164,5,FALSE))","v":""},null,{"$f":"IF(E13=\"\",\"\",VLOOKUP(E13,'ePrijava in Navodila'!$B$13:$H$164,7,FALSE))","v":""},null,null,null,null,null,null,0]
[10,null,{"$f":"IF(E14=\"\",\"\",VLOOKUP(E14,'ePrijava in Navodila'!$B$13:$H$164,2,FALSE) & \" \" & VLOOKUP(E14,'ePrijava in Navodila'!$B$13:$H$164,3,FALSE))","v":""},{"$f":"IF(E14=\"\",\"\",VLOOKUP(E14,'ePrijava in Navodila'!$B$13:$H$164,5,FALSE))","v":""},null,{"$f":"IF(E14=\"\",\"\",VLOOKUP(E14,'ePrijava in Navodila'!$B$13:$H$164,7,FALSE))","v":""},null,null,null,null,null,null,0]
[11,null,{"$f":"IF(E15=\"\",\"\",VLOOKUP(E15,'ePrijava in Navodila'!$B$13:$H$164,2,FALSE) & \" \" & VLOOKUP(E15,'ePrijava in Navodila'!$B$13:$H$164,3,FALSE))","v":""},{"$f":"IF(E15=\"\",\"\",VLOOKUP(E15,'ePrijava in Navodila'!$B$13:$H$164,5,FALSE))","v":""},null,{"$f":"IF(E15=\"\",\"\",VLOOKUP(E15,'ePrijava in Navodila'!$B$13:$H$164,7,FALSE))","v":""},null,null,null,null,null,null,0,null,null,null,null,null,{"$f":"IF(R17=\"\",\"\",VLOOKUP(R17,'ePrijava in Navodila'!$B$13:$H$164,7,FALSE))","v":""}]
[12,null,{"$f":"IF(E16=\"\",\"\",VLOOKUP(E16,'ePrijava in Navodila'!$B$13:$H$164,2,FALSE) & \" \" & VLOOKUP(E16,'ePrijava in Navodila'!$B$13:$H$164,3,FALSE))","v":""},{"$f":"IF(E16=\"\",\"\",VLOOKUP(E16,'ePrijava in Navodila'!$B$13:$H$164,5,FALSE))","v":""},null,{"$f":"IF(E16=\"\",\"\",VLOOKUP(E16,'ePrijava in Navodila'!$B$13:$H$164,7,FALSE))","v":""},null,null,null,null,null,null,0,null,null,null,null,"BIB","Priimek in ime","1. ser","2. ser","3. ser","4. ser","1. ser","2. ser","skupno","nc*"]
[13,null,{"$f":"IF(E17=\"\",\"\",VLOOKUP(E17,'ePrijava in Navodila'!$B$13:$H$164,2,FALSE) & \" \" & VLOOKUP(E17,'ePrijava in Navodila'!$B$13:$H$164,3,FALSE))","v":""},{"$f":"IF(E17=\"\",\"\",VLOOKUP(E17,'ePrijava in Navodila'!$B$13:$H$164,5,FALSE))","v":""},null,{"$f":"IF(E17=\"\",\"\",VLOOKUP(E17,'ePrijava in Navodila'!$B$13:$H$164,7,FALSE))","v":""},null,null,null,null,null,null,0,null,null,null,null,null,{"$f":"IF(R17=\"\",\"\",VLOOKUP(R17,'ePrijava in Navodila'!$B$13:$H$164,2,FALSE) & \" \" & VLOOKUP(R17,'ePrijava in Navodila'!$B$13:$H$164,3,FALSE))","v":""},{"$f":"IF(S17=\"\",\"\",VLOOKUP(S17,$C$5:$L$149,5,FALSE))","v":""},{"$f":"IF(S17=\"\",\"\",VLOOKUP(S17,$C$5:$L$149,6,FALSE))","v":""},{"$f":"IF(S17=\"\",\"\",VLOOKUP(S17,$C$5:$L$149,7,FALSE))","v":""},{"$f":"IF(S17=\"\",\"\",VLOOKUP(S17,$C$5:$L$149,8,FALSE))","v":""},{"$f":"IF(S17=\"\",\"\",VLOOKUP(S17,$C$5:$L$149,9,FALSE))","v":""},{"$f":"IF(S17=\"\",\"\",VLOOKUP(S17,$C$5:$L$149,10,FALSE))","v":""},{"$f":"SUM(T17:Y17)","v":0},{"$f":"IF(S17=\"\",\"\",VLOOKUP(S17,$C$5:$N$149,12,FALSE))","v":""}]
[14,null,{"$f":"IF(E18=\"\",\"\",VLOOKUP(E18,'ePrijava in Navodila'!$B$13:$H$164,2,FALSE) & \" \" & VLOOKUP(E18,'ePrijava in Navodila'!$B$13:$H$164,3,FALSE))","v":""},{"$f":"IF(E18=\"\",\"\",VLOOKUP(E18,'ePrijava in Navodila'!$B$13:$H$164,5,FALSE))","v":""},null,{"$f":"IF(E18=\"\",\"\",VLOOKUP(E18,'ePrijava in Navodila'!$B$13:$H$164,7,FALSE))","v":""},null,null,null,null,null,null,0,null,null,null,null,null,{"$f":"IF(R18=\"\",\"\",VLOOKUP(R18,'ePrijava in Navodila'!$B$13:$H$164,2,FALSE) & \" \" & VLOOKUP(R18,'ePrijava in Navodila'!$B$13:$H$164,3,FALSE))","v":""},{"$f":"IF(S18=\"\",\"\",VLOOKUP(S18,$C$5:$L$149,5,FALSE))","v":""},{"$f":"IF(S18=\"\",\"\",VLOOKUP(S18,$C$5:$L$149,6,FALSE))","v":""},{"$f":"IF(S18=\"\",\"\",VLOOKUP(S18,$C$5:$L$149,7,FALSE))","v":""},{"$f":"IF(S18=\"\",\"\",VLOOKUP(S18,$C$5:$L$149,8,FALSE))","v":""},{"$f":"IF(S18=\"\",\"\",VLOOKUP(S18,$C$5:$L$149,9,FALSE))","v":""},{"$f":"IF(S18=\"\",\"\",VLOOKUP(S18,$C$5:$L$149,10,FALSE))","v":""},{"$f":"SUM(T18:Y18)","v":0},{"$f":"IF(S18=\"\",\"\",VLOOKUP(S18,$C$5:$N$149,12,FALSE))","v":""}]
[15,null,{"$f":"IF(E19=\"\",\"\",VLOOKUP(E19,'ePrijava in Navodila'!$B$13:$H$164,2,FALSE) & \" \" & VLOOKUP(E19,'ePrijava in Navodila'!$B$13:$H$164,3,FALSE))","v":""},{"$f":"IF(E19=\"\",\"\",VLOOKUP(E19,'ePrijava in Navodila'!$B$13:$H$164,5,FALSE))","v":""},null,{"$f":"IF(E19=\"\",\"\",VLOOKUP(E19,'ePrijava in Navodila'!$B$13:$H$164,7,FALSE))","v":""},null,null,null,null,null,null,0,null,null,null,null,null,{"$f":"IF(R19=\"\",\"\",VLOOKUP(R19,'ePrijava in Navodila'!$B$13:$H$164,2,FALSE) & \" \" & VLOOKUP(R19,'ePrijava in Navodila'!$B$13:$H$164,3,FALSE))","v":""},{"$f":"IF(S19=\"\",\"\",VLOOKUP(S19,$C$5:$L$149,5,FALSE))","v":""},{"$f":"IF(S19=\"\",\"\",VLOOKUP(S19,$C$5:$L$149,6,FALSE))","v":""},{"$f":"IF(S19=\"\",\"\",VLOOKUP(S19,$C$5:$L$149,7,FALSE))","v":""},{"$f":"IF(S19=\"\",\"\",VLOOKUP(S19,$C$5:$L$149,8,FALSE))","v":""},{"$f":"IF(S19=\"\",\"\",VLOOKUP(S19,$C$5:$L$149,9,FALSE))","v":""},{"$f":"IF(S19=\"\",\"\",VLOOKUP(S19,$C$5:$L$149,10,FALSE))","v":""},{"$f":"SUM(T19:Y19)","v":0},{"$f":"IF(S19=\"\",\"\",VLOOKUP(S19,$C$5:$N$149,12,FALSE))","v":""}]
[16,null,{"$f":"IF(E20=\"\",\"\",VLOOKUP(E20,'ePrijava in Navodila'!$B$13:$H$164,2,FALSE) & \" \" & VLOOKUP(E20,'ePrijava in Navodila'!$B$13:$H$164,3,FALSE))","v":""},{"$f":"IF(E20=\"\",\"\",VLOOKUP(E20,'ePrijava in Navodila'!$B$13:$H$164,5,FALSE))","v":""},null,{"$f":"IF(E20=\"\",\"\",VLOOKUP(E20,'ePrijava in Navodila'!$B$13:$H$164,7,FALSE))","v":""},null,null,null,null,null,null,0,null,null,null,null,null,null,null,null,null,null,null,{"$f":"SUM(Y17:Y19)","v":0},{"$f":"SUM(Z17:Z19)","v":0},{"$f":"SUM(AA17:AA19)","v":0}]
[17,null,{"$f":"IF(E21=\"\",\"\",VLOOKUP(E21,'ePrijava in Navodila'!$B$13:$H$164,2,FALSE) & \" \" & VLOOKUP(E21,'ePrijava in Navodila'!$B$13:$H$164,3,FALSE))","v":""},{"$f":"IF(E21=\"\",\"\",VLOOKUP(E21,'ePrijava in Navodila'!$B$13:$H$164,5,FALSE))","v":""},null,{"$f":"IF(E21=\"\",\"\",VLOOKUP(E21,'ePrijava in Navodila'!$B$13:$H$164,7,FALSE))","v":""},null,null,null,null,null,null,0]
[18,null,{"$f":"IF(E22=\"\",\"\",VLOOKUP(E22,'ePrijava in Navodila'!$B$13:$H$164,2,FALSE) & \" \" & VLOOKUP(E22,'ePrijava in Navodila'!$B$13:$H$164,3,FALSE))","v":""},{"$f":"IF(E22=\"\",\"\",VLOOKUP(E22,'ePrijava in Navodila'!$B$13:$H$164,5,FALSE))","v":""},null,{"$f":"IF(E22=\"\",\"\",VLOOKUP(E22,'ePrijava in Navodila'!$B$13:$H$164,7,FALSE))","v":""},null,null,null,null,null,null,0]
[19,null,{"$f":"IF(E23=\"\",\"\",VLOOKUP(E23,'ePrijava in Navodila'!$B$13:$H$164,2,FALSE) & \" \" & VLOOKUP(E23,'ePrijava in Navodila'!$B$13:$H$164,3,FALSE))","v":""},{"$f":"IF(E23=\"\",\"\",VLOOKUP(E23,'ePrijava in Navodila'!$B$13:$H$164,5,FALSE))","v":""},null,{"$f":"IF(E23=\"\",\"\",VLOOKUP(E23,'ePrijava in Navodila'!$B$13:$H$164,7,FALSE))","v":""},null,null,null,null,null,null,0,null,null,null,null,null,{"$f":"IF(R25=\"\",\"\",VLOOKUP(R25,'ePrijava in Navodila'!$B$13:$H$164,7,FALSE))","v":""}]
[20,null,{"$f":"IF(E24=\"\",\"\",VLOOKUP(E24,'ePrijava in Navodila'!$B$13:$H$164,2,FALSE) & \" \" & VLOOKUP(E24,'ePrijava in Navodila'!$B$13:$H$164,3,FALSE))","v":""},{"$f":"IF(E24=\"\",\"\",VLOOKUP(E24,'ePrijava in Navodila'!$B$13:$H$164,5,FALSE))","v":""},null,{"$f":"IF(E24=\"\",\"\",VLOOKUP(E24,'ePrijava in Navodila'!$B$13:$H$164,7,FALSE))","v":""},null,null,null,null,null,null,0,null,null,null,null,"BIB","Priimek in ime","1. ser","2. ser","3. ser","4. ser","1. ser","2. ser","skupno","nc*"]
[21,null,{"$f":"IF(E25=\"\",\"\",VLOOKUP(E25,'ePrijava in Navodila'!$B$13:$H$164,2,FALSE) & \" \" & VLOOKUP(E25,'ePrijava in Navodila'!$B$13:$H$164,3,FALSE))","v":""},{"$f":"IF(E25=\"\",\"\",VLOOKUP(E25,'ePrijava in Navodila'!$B$13:$H$164,5,FALSE))","v":""},null,{"$f":"IF(E25=\"\",\"\",VLOOKUP(E25,'ePrijava in Navodila'!$B$13:$H$164,7,FALSE))","v":""},null,null,null,null,null,null,0,null,null,null,null,null,{"$f":"IF(R25=\"\",\"\",VLOOKUP(R25,'ePrijava in Navodila'!$B$13:$H$164,2,FALSE) & \" \" & VLOOKUP(R25,'ePrijava in Navodila'!$B$13:$H$164,3,FALSE))","v":""},{"$f":"IF(S25=\"\",\"\",VLOOKUP(S25,$C$5:$L$149,5,FALSE))","v":""},{"$f":"IF(S25=\"\",\"\",VLOOKUP(S25,$C$5:$L$149,6,FALSE))","v":""},{"$f":"IF(S25=\"\",\"\",VLOOKUP(S25,$C$5:$L$149,7,FALSE))","v":""},{"$f":"IF(S25=\"\",\"\",VLOOKUP(S25,$C$5:$L$149,8,FALSE))","v":""},{"$f":"IF(S25=\"\",\"\",VLOOKUP(S25,$C$5:$L$149,9,FALSE))","v":""},{"$f":"IF(S25=\"\",\"\",VLOOKUP(S25,$C$5:$L$149,10,FALSE))","v":""},{"$f":"SUM(T25:Y25)","v":0},{"$f":"IF(S25=\"\",\"\",VLOOKUP(S25,$C$5:$N$149,12,FALSE))","v":""}]
[22,null,{"$f":"IF(E26=\"\",\"\",VLOOKUP(E26,'ePrijava in Navodila'!$B$13:$H$164,2,FALSE) & \" \" & VLOOKUP(E26,'ePrijava in Navodila'!$B$13:$H$164,3,FALSE))","v":""},{"$f":"IF(E26=\"\",\"\",VLOOKUP(E26,'ePrijava in Navodila'!$B$13:$H$164,5,FALSE))","v":""},null,{"$f":"IF(E26=\"\",\"\",VLOOKUP(E26,'ePrijava in Navodila'!$B$13:$H$164,7,FALSE))","v":""},null,null,null,null,null,null,0,null,null,null,null,null,{"$f":"IF(R26=\"\",\"\",VLOOKUP(R26,'ePrijava in Navodila'!$B$13:$H$164,2,FALSE) & \" \" & VLOOKUP(R26,'ePrijava in Navodila'!$B$13:$H$164,3,FALSE))","v":""},{"$f":"IF(S26=\"\",\"\",VLOOKUP(S26,$C$5:$L$149,5,FALSE))","v":""},{"$f":"IF(S26=\"\",\"\",VLOOKUP(S26,$C$5:$L$149,6,FALSE))","v":""},{"$f":"IF(S26=\"\",\"\",VLOOKUP(S26,$C$5:$L$149,7,FALSE))","v":""},{"$f":"IF(S26=\"\",\"\",VLOOKUP(S26,$C$5:$L$149,8,FALSE))","v":""},{"$f":"IF(S26=\"\",\"\",VLOOKUP(S26,$C$5:$L$149,9,FALSE))","v":""},{"$f":"IF(S26=\"\",\"\",VLOOKUP(S26,$C$5:$L$149,10,FALSE))","v":""},{"$f":"SUM(T26:Y26)","v":0},{"$f":"IF(S26=\"\",\"\",VLOOKUP(S26,$C$5:$N$149,12,FALSE))","v":""}]
[23,null,{"$f":"IF(E27=\"\",\"\",VLOOKUP(E27,'ePrijava in Navodila'!$B$13:$H$164,2,FALSE) & \" \" & VLOOKUP(E27,'ePrijava in Navodila'!$B$13:$H$164,3,FALSE))","v":""},{"$f":"IF(E27=\"\",\"\",VLOOKUP(E27,'ePrijava in Navodila'!$B$13:$H$164,5,FALSE))","v":""},null,{"$f":"IF(E27=\"\",\"\",VLOOKUP(E27,'ePrijava in Navodila'!$B$13:$H$164,7,FALSE))","v":""},null,null,null,null,null,null,0,null,null,null,null,null,{"$f":"IF(R27=\"\",\"\",VLOOKUP(R27,'ePrijava in Navodila'!$B$13:$H$164,2,FALSE) & \" \" & VLOOKUP(R27,'ePrijava in Navodila'!$B$13:$H$164,3,FALSE))","v":""},{"$f":"IF(S27=\"\",\"\",VLOOKUP(S27,$C$5:$L$149,5,FALSE))","v":""},{"$f":"IF(S27=\"\",\"\",VLOOKUP(S27,$C$5:$L$149,6,FALSE))","v":""},{"$f":"IF(S27=\"\",\"\",VLOOKUP(S27,$C$5:$L$149,7,FALSE))","v":""},{"$f":"IF(S27=\"\",\"\",VLOOKUP(S27,$C$5:$L$149,8,FALSE))","v":""},{"$f":"IF(S27=\"\",\"\",VLOOKUP(S27,$C$5:$L$149,9,FALSE))","v":""},{"$f":"IF(S27=\"\",\"\",VLOOKUP(S27,$C$5:$L$149,10,FALSE))","v":""},{"$f":"SUM(T27:Y27)","v":0},{"$f":"IF(S27=\"\",\"\",VLOOKUP(S27,$C$5:$N$149,12,FALSE))","v":""}]
[24,null,{"$f":"IF(E28=\"\",\"\",VLOOKUP(E28,'ePrijava in Navodila'!$B$13:$H$164,2,FALSE) & \" \" & VLOOKUP(E28,'ePrijava in Navodila'!$B$13:$H$164,3,FALSE))","v":""},{"$f":"IF(E28=\"\",\"\",VLOOKUP(E28,'ePrijava in Navodila'!$B$13:$H$164,5,FALSE))","v":""},null,{"$f":"IF(E28=\"\",\"\",VLOOKUP(E28,'ePrijava in Navodila'!$B$13:$H$164,7,FALSE))","v":""},null,null,null,null,null,null,0,null,null,null,null,null,null,null,null,null,null,null,{"$f":"SUM(Y25:Y27)","v":0},{"$f":"SUM(Z25:Z27)","v":0},{"$f":"SUM(AA25:AA27)","v":0}]
[25,null,{"$f":"IF(E29=\"\",\"\",VLOOKUP(E29,'ePrijava in Navodila'!$B$13:$H$164,2,FALSE) & \" \" & VLOOKUP(E29,'ePrijava in Navodila'!$B$13:$H$164,3,FALSE))","v":""},{"$f":"IF(E29=\"\",\"\",VLOOKUP(E29,'ePrijava in Navodila'!$B$13:$H$164,5,FALSE))","v":""},null,{"$f":"IF(E29=\"\",\"\",VLOOKUP(E29,'ePrijava in Navodila'!$B$13:$H$164,7,FALSE))","v":""},null,null,null,null,null,null,0]
[26,null,{"$f":"IF(E30=\"\",\"\",VLOOKUP(E30,'ePrijava in Navodila'!$B$13:$H$164,2,FALSE) & \" \" & VLOOKUP(E30,'ePrijava in Navodila'!$B$13:$H$164,3,FALSE))","v":""},{"$f":"IF(E30=\"\",\"\",VLOOKUP(E30,'ePrijava in Navodila'!$B$13:$H$164,5,FALSE))","v":""},null,{"$f":"IF(E30=\"\",\"\",VLOOKUP(E30,'ePrijava in Navodila'!$B$13:$H$164,7,FALSE))","v":""},null,null,null,null,null,null,0]
[27,null,{"$f":"IF(E31=\"\",\"\",VLOOKUP(E31,'ePrijava in Navodila'!$B$13:$H$164,2,FALSE) & \" \" & VLOOKUP(E31,'ePrijava in Navodila'!$B$13:$H$164,3,FALSE))","v":""},{"$f":"IF(E31=\"\",\"\",VLOOKUP(E31,'ePrijava in Navodila'!$B$13:$H$164,5,FALSE))","v":""},null,{"$f":"IF(E31=\"\",\"\",VLOOKUP(E31,'ePrijava in Navodila'!$B$13:$H$164,7,FALSE))","v":""},null,null,null,null,null,null,0,null,null,null,null,null,{"$f":"IF(R33=\"\",\"\",VLOOKUP(R33,'ePrijava in Navodila'!$B$13:$H$164,7,FALSE))","v":""}]
[28,null,{"$f":"IF(E32=\"\",\"\",VLOOKUP(E32,'ePrijava in Navodila'!$B$13:$H$164,2,FALSE) & \" \" & VLOOKUP(E32,'ePrijava in Navodila'!$B$13:$H$164,3,FALSE))","v":""},{"$f":"IF(E32=\"\",\"\",VLOOKUP(E32,'ePrijava in Navodila'!$B$13:$H$164,5,FALSE))","v":""},null,{"$f":"IF(E32=\"\",\"\",VLOOKUP(E32,'ePrijava in Navodila'!$B$13:$H$164,7,FALSE))","v":""},null,null,null,null,null,null,0,null,null,null,null,"BIB","Priimek in ime","1. ser","2. ser","3. ser","4. ser","1. ser","2. ser","skupno","nc*"]
[29,null,{"$f":"IF(E33=\"\",\"\",VLOOKUP(E33,'ePrijava in Navodila'!$B$13:$H$164,2,FALSE) & \" \" & VLOOKUP(E33,'ePrijava in Navodila'!$B$13:$H$164,3,FALSE))","v":""},{"$f":"IF(E33=\"\",\"\",VLOOKUP(E33,'ePrijava in Navodila'!$B$13:$H$164,5,FALSE))","v":""},null,{"$f":"IF(E33=\"\",\"\",VLOOKUP(E33,'ePrijava in Navodila'!$B$13:$H$164,7,FALSE))","v":""},null,null,null,null,null,null,0,null,null,null,null,null,{"$f":"IF(R33=\"\",\"\",VLOOKUP(R33,'ePrijava in Navodila'!$B$13:$H$164,2,FALSE) & \" \" & VLOOKUP(R33,'ePrijava in Navodila'!$B$13:$H$164,3,FALSE))","v":""},{"$f":"IF(S33=\"\",\"\",VLOOKUP(S33,$C$5:$L$149,5,FALSE))","v":""},{"$f":"IF(S33=\"\",\"\",VLOOKUP(S33,$C$5:$L$149,6,FALSE))","v":""},{"$f":"IF(S33=\"\",\"\",VLOOKUP(S33,$C$5:$L$149,7,FALSE))","v":""},{"$f":"IF(S33=\"\",\"\",VLOOKUP(S33,$C$5:$L$149,8,FALSE))","v":""},{"$f":"IF(S33=\"\",\"\",VLOOKUP(S33,$C$5:$L$149,9,FALSE))","v":""},{"$f":"IF(S33=\"\",\"\",VLOOKUP(S33,$C$5:$L$149,10,FALSE))","v":""},{"$f":"SUM(T33:Y33)","v":0},{"$f":"IF(S33=\"\",\"\",VLOOKUP(S33,$C$5:$N$149,12,FALSE))","v":""}]
[30,null,{"$f":"IF(E34=\"\",\"\",VLOOKUP(E34,'ePrijava in Navodila'!$B$13:$H$164,2,FALSE) & \" \" & VLOOKUP(E34,'ePrijava in Navodila'!$B$13:$H$164,3,FALSE))","v":""},{"$f":"IF(E34=\"\",\"\",VLOOKUP(E34,'ePrijava in Navodila'!$B$13:$H$164,5,FALSE))","v":""},null,{"$f":"IF(E34=\"\",\"\",VLOOKUP(E34,'ePrijava in Navodila'!$B$13:$H$164,7,FALSE))","v":""},null,null,null,null,null,null,0,null,null,null,null,null,{"$f":"IF(R34=\"\",\"\",VLOOKUP(R34,'ePrijava in Navodila'!$B$13:$H$164,2,FALSE) & \" \" & VLOOKUP(R34,'ePrijava in Navodila'!$B$13:$H$164,3,FALSE))","v":""},{"$f":"IF(S34=\"\",\"\",VLOOKUP(S34,$C$5:$L$149,5,FALSE))","v":""},{"$f":"IF(S34=\"\",\"\",VLOOKUP(S34,$C$5:$L$149,6,FALSE))","v":""},{"$f":"IF(S34=\"\",\"\",VLOOKUP(S34,$C$5:$L$149,7,FALSE))","v":""},{"$f":"IF(S34=\"\",\"\",VLOOKUP(S34,$C$5:$L$149,8,FALSE))","v":""},{"$f":"IF(S34=\"\",\"\",VLOOKUP(S34,$C$5:$L$149,9,FALSE))","v":""},{"$f":"IF(S34=\"\",\"\",VLOOKUP(S34,$C$5:$L$149,10,FALSE))","v":""},{"$f":"SUM(T34:Y34)","v":0},{"$f":"IF(S34=\"\",\"\",VLOOKUP(S34,$C$5:$N$149,12,FALSE))","v":""}]
[31,null,{"$f":"IF(E35=\"\",\"\",VLOOKUP(E35,'ePrijava in Navodila'!$B$13:$H$164,2,FALSE) & \" \" & VLOOKUP(E35,'ePrijava in Navodila'!$B$13:$H$164,3,FALSE))","v":""},{"$f":"IF(E35=\"\",\"\",VLOOKUP(E35,'ePrijava in Navodila'!$B$13:$H$164,5,FALSE))","v":""},null,{"$f":"IF(E35=\"\",\"\",VLOOKUP(E35,'ePrijava in Navodila'!$B$13:$H$164,7,FALSE))","v":""},null,null,null,null,null,null,0,null,null,null,null,null,{"$f":"IF(R35=\"\",\"\",VLOOKUP(R35,'ePrijava in Navodila'!$B$13:$H$164,2,FALSE) & \" \" & VLOOKUP(R35,'ePrijava in Navodila'!$B$13:$H$164,3,FALSE))","v":""},{"$f":"IF(S35=\"\",\"\",VLOOKUP(S35,$C$5:$L$149,5,FALSE))","v":""},{"$f":"IF(S35=\"\",\"\",VLOOKUP(S35,$C$5:$L$149,6,FALSE))","v":""},{"$f":"IF(S35=\"\",\"\",VLOOKUP(S35,$C$5:$L$149,7,FALSE))","v":""},{"$f":"IF(S35=\"\",\"\",VLOOKUP(S35,$C$5:$L$149,8,FALSE))","v":""},{"$f":"IF(S35=\"\",\"\",VLOOKUP(S35,$C$5:$L$149,9,FALSE))","v":""},{"$f":"IF(S35=\"\",\"\",VLOOKUP(S35,$C$5:$L$149,10,FALSE))","v":""},{"$f":"SUM(T35:Y35)","v":0},{"$f":"IF(S35=\"\",\"\",VLOOKUP(S35,$C$5:$N$149,12,FALSE))","v":""}]
[32,null,{"$f":"IF(E36=\"\",\"\",VLOOKUP(E36,'ePrijava in Navodila'!$B$13:$H$164,2,FALSE) & \" \" & VLOOKUP(E36,'ePrijava in Navodila'!$B$13:$H$164,3,FALSE))","v":""},{"$f":"IF(E36=\"\",\"\",VLOOKUP(E36,'ePrijava in Navodila'!$B$13:$H$164,5,FALSE))","v":""},null,{"$f":"IF(E36=\"\",\"\",VLOOKUP(E36,'ePrijava in Navodila'!$B$13:$H$164,7,FALSE))","v":""},null,null,null,null,null,null,0,null,null,null,null,null,null,null,null,null,null,null,{"$f":"SUM(Y33:Y35)","v":0},{"$f":"SUM(Z33:Z35)","v":0},{"$f":"SUM(AA33:AA35)","v":0}]
[33,null,{"$f":"IF(E37=\"\",\"\",VLOOKUP(E37,'ePrijava in Navodila'!$B$13:$H$164,2,FALSE) & \" \" & VLOOKUP(E37,'ePrijava in Navodila'!$B$13:$H$164,3,FALSE))","v":""},{"$f":"IF(E37=\"\",\"\",VLOOKUP(E37,'ePrijava in Navodila'!$B$13:$H$164,5,FALSE))","v":""},null,{"$f":"IF(E37=\"\",\"\",VLOOKUP(E37,'ePrijava in Navodila'!$B$13:$H$164,7,FALSE))","v":""},null,null,null,null,null,null,{"$f":"SUM(G37:L37)","v":0}]
[34,null,{"$f":"IF(E38=\"\",\"\",VLOOKUP(E38,'ePrijava in Navodila'!$B$13:$H$164,2,FALSE) & \" \" & VLOOKUP(E38,'ePrijava in Navodila'!$B$13:$H$164,3,FALSE))","v":""},{"$f":"IF(E38=\"\",\"\",VLOOKUP(E38,'ePrijava in Navodila'!$B$13:$H$164,5,FALSE))","v":""},null,{"$f":"IF(E38=\"\",\"\",VLOOKUP(E38,'ePrijava in Navodila'!$B$13:$H$164,7,FALSE))","v":""},null,null,null,null,null,null,0]
[35,null,{"$f":"IF(E39=\"\",\"\",VLOOKUP(E39,'ePrijava in Navodila'!$B$13:$H$164,2,FALSE) & \" \" & VLOOKUP(E39,'ePrijava in Navodila'!$B$13:$H$164,3,FALSE))","v":""},{"$f":"IF(E39=\"\",\"\",VLOOKUP(E39,'ePrijava in Navodila'!$B$13:$H$164,5,FALSE))","v":""},null,{"$f":"IF(E39=\"\",\"\",VLOOKUP(E39,'ePrijava in Navodila'!$B$13:$H$164,7,FALSE))","v":""},null,null,null,null,null,null,0,null,null,null,null,null,{"$f":"IF(R41=\"\",\"\",VLOOKUP(R41,'ePrijava in Navodila'!$B$13:$H$164,7,FALSE))","v":""}]
[36,null,{"$f":"IF(E40=\"\",\"\",VLOOKUP(E40,'ePrijava in Navodila'!$B$13:$H$164,2,FALSE) & \" \" & VLOOKUP(E40,'ePrijava in Navodila'!$B$13:$H$164,3,FALSE))","v":""},{"$f":"IF(E40=\"\",\"\",VLOOKUP(E40,'ePrijava in Navodila'!$B$13:$H$164,5,FALSE))","v":""},null,{"$f":"IF(E40=\"\",\"\",VLOOKUP(E40,'ePrijava in Navodila'!$B$13:$H$164,7,FALSE))","v":""},null,null,null,null,null,null,0,null,null,null,null,"BIB","Priimek in ime","1. ser","2. ser","3. ser","4. ser","1. ser","2. ser","skupno","nc*"]
[37,null,{"$f":"IF(E41=\"\",\"\",VLOOKUP(E41,'ePrijava in Navodila'!$B$13:$H$164,2,FALSE) & \" \" & VLOOKUP(E41,'ePrijava in Navodila'!$B$13:$H$164,3,FALSE))","v":""},{"$f":"IF(E41=\"\",\"\",VLOOKUP(E41,'ePrijava in Navodila'!$B$13:$H$164,5,FALSE))","v":""},null,{"$f":"IF(E41=\"\",\"\",VLOOKUP(E41,'ePrijava in Navodila'!$B$13:$H$164,7,FALSE))","v":""},null,null,null,null,null,null,0,null,null,null,null,null,{"$f":"IF(R41=\"\",\"\",VLOOKUP(R41,'ePrijava in Navodila'!$B$13:$H$164,2,FALSE) & \" \" & VLOOKUP(R41,'ePrijava in Navodila'!$B$13:$H$164,3,FALSE))","v":""},{"$f":"IF(S41=\"\",\"\",VLOOKUP(S41,$C$5:$L$149,5,FALSE))","v":""},{"$f":"IF(S41=\"\",\"\",VLOOKUP(S41,$C$5:$L$149,6,FALSE))","v":""},{"$f":"IF(S41=\"\",\"\",VLOOKUP(S41,$C$5:$L$149,7,FALSE))","v":""},{"$f":"IF(S41=\"\",\"\",VLOOKUP(S41,$C$5:$L$149,8,FALSE))","v":""},{"$f":"IF(S41=\"\",\"\",VLOOKUP(S41,$C$5:$L$149,9,FALSE))","v":""},{"$f":"IF(S41=\"\",\"\",VLOOKUP(S41,$C$5:$L$149,10,FALSE))","v":""},{"$f":"SUM(T41:Y41)","v":0},{"$f":"IF(S41=\"\",\"\",VLOOKUP(S41,$C$5:$N$149,12,FALSE))","v":""}]
[38,null,{"$f":"IF(E42=\"\",\"\",VLOOKUP(E42,'ePrijava in Navodila'!$B$13:$H$164,2,FALSE) & \" \" & VLOOKUP(E42,'ePrijava in Navodila'!$B$13:$H$164,3,FALSE))","v":""},{"$f":"IF(E42=\"\",\"\",VLOOKUP(E42,'ePrijava in Navodila'!$B$13:$H$164,5,FALSE))","v":""},null,{"$f":"IF(E42=\"\",\"\",VLOOKUP(E42,'ePrijava in Navodila'!$B$13:$H$164,7,FALSE))","v":""},null,null,null,null,null,null,0,null,null,null,null,null,{"$f":"IF(R42=\"\",\"\",VLOOKUP(R42,'ePrijava in Navodila'!$B$13:$H$164,2,FALSE) & \" \" & VLOOKUP(R42,'ePrijava in Navodila'!$B$13:$H$164,3,FALSE))","v":""},{"$f":"IF(S42=\"\",\"\",VLOOKUP(S42,$C$5:$L$149,5,FALSE))","v":""},{"$f":"IF(S42=\"\",\"\",VLOOKUP(S42,$C$5:$L$149,6,FALSE))","v":""},{"$f":"IF(S42=\"\",\"\",VLOOKUP(S42,$C$5:$L$149,7,FALSE))","v":""},{"$f":"IF(S42=\"\",\"\",VLOOKUP(S42,$C$5:$L$149,8,FALSE))","v":""},{"$f":"IF(S42=\"\",\"\",VLOOKUP(S42,$C$5:$L$149,9,FALSE))","v":""},{"$f":"IF(S42=\"\",\"\",VLOOKUP(S42,$C$5:$L$149,10,FALSE))","v":""},{"$f":"SUM(T42:Y42)","v":0},{"$f":"IF(S42=\"\",\"\",VLOOKUP(S42,$C$5:$N$149,12,FALSE))","v":""}]
[39,null,{"$f":"IF(E43=\"\",\"\",VLOOKUP(E43,'ePrijava in Navodila'!$B$13:$H$164,2,FALSE) & \" \" & VLOOKUP(E43,'ePrijava in Navodila'!$B$13:$H$164,3,FALSE))","v":""},{"$f":"IF(E43=\"\",\"\",VLOOKUP(E43,'ePrijava in Navodila'!$B$13:$H$164,5,FALSE))","v":""},null,{"$f":"IF(E43=\"\",\"\",VLOOKUP(E43,'ePrijava in Navodila'!$B$13:$H$164,7,FALSE))","v":""},null,null,null,null,null,null,0,null,null,null,null,null,{"$f":"IF(R43=\"\",\"\",VLOOKUP(R43,'ePrijava in Navodila'!$B$13:$H$164,2,FALSE) & \" \" & VLOOKUP(R43,'ePrijava in Navodila'!$B$13:$H$164,3,FALSE))","v":""},{"$f":"IF(S43=\"\",\"\",VLOOKUP(S43,$C$5:$L$149,5,FALSE))","v":""},{"$f":"IF(S43=\"\",\"\",VLOOKUP(S43,$C$5:$L$149,6,FALSE))","v":""},{"$f":"IF(S43=\"\",\"\",VLOOKUP(S43,$C$5:$L$149,7,FALSE))","v":""},{"$f":"IF(S43=\"\",\"\",VLOOKUP(S43,$C$5:$L$149,8,FALSE))","v":""},{"$f":"IF(S43=\"\",\"\",VLOOKUP(S43,$C$5:$L$149,9,FALSE))","v":""},{"$f":"IF(S43=\"\",\"\",VLOOKUP(S43,$C$5:$L$149,10,FALSE))","v":""},{"$f":"SUM(T43:Y43)","v":0},{"$f":"IF(S43=\"\",\"\",VLOOKUP(S43,$C$5:$N$149,12,FALSE))","v":""}]
[40,null,{"$f":"IF(E44=\"\",\"\",VLOOKUP(E44,'ePrijava in Navodila'!$B$13:$H$164,2,FALSE) & \" \" & VLOOKUP(E44,'ePrijava in Navodila'!$B$13:$H$164,3,FALSE))","v":""},{"$f":"IF(E44=\"\",\"\",VLOOKUP(E44,'ePrijava in Navodila'!$B$13:$H$164,5,FALSE))","v":""},null,{"$f":"IF(E44=\"\",\"\",VLOOKUP(E44,'ePrijava in Navodila'!$B$13:$H$164,7,FALSE))","v":""},null,null,null,null,null,null,0,null,null,null,null,null,null,null,null,null,null,null,{"$f":"SUM(Y41:Y43)","v":0},{"$f":"SUM(Z41:Z43)","v":0},{"$f":"SUM(AA41:AA43)","v":0}]
[41,null,{"$f":"IF(E45=\"\",\"\",VLOOKUP(E45,'ePrijava in Navodila'!$B$13:$H$164,2,FALSE) & \" \" & VLOOKUP(E45,'ePrijava in Navodila'!$B$13:$H$164,3,FALSE))","v":""},{"$f":"IF(E45=\"\",\"\",VLOOKUP(E45,'ePrijava in Navodila'!$B$13:$H$164,5,FALSE))","v":""},null,{"$f":"IF(E45=\"\",\"\",VLOOKUP(E45,'ePrijava in Navodila'!$B$13:$H$164,7,FALSE))","v":""},null,null,null,null,null,null,0]
[42,null,{"$f":"IF(E46=\"\",\"\",VLOOKUP(E46,'ePrijava in Navodila'!$B$13:$H$164,2,FALSE) & \" \" & VLOOKUP(E46,'ePrijava in Navodila'!$B$13:$H$164,3,FALSE))","v":""},{"$f":"IF(E46=\"\",\"\",VLOOKUP(E46,'ePrijava in Navodila'!$B$13:$H$164,5,FALSE))","v":""},null,{"$f":"IF(E46=\"\",\"\",VLOOKUP(E46,'ePrijava in Navodila'!$B$13:$H$164,7,FALSE))","v":""},null,null,null,null,null,null,0]
[43,null,{"$f":"IF(E47=\"\",\"\",VLOOKUP(E47,'ePrijava in Navodila'!$B$13:$H$164,2,FALSE) & \" \" & VLOOKUP(E47,'ePrijava in Navodila'!$B$13:$H$164,3,FALSE))","v":""},{"$f":"IF(E47=\"\",\"\",VLOOKUP(E47,'ePrijava in Navodila'!$B$13:$H$164,5,FALSE))","v":""},null,{"$f":"IF(E47=\"\",\"\",VLOOKUP(E47,'ePrijava in Navodila'!$B$13:$H$164,7,FALSE))","v":""},null,null,null,null,null,null,0,null,null,null,null,null,{"$f":"IF(R49=\"\",\"\",VLOOKUP(R49,'ePrijava in Navodila'!$B$13:$H$164,7,FALSE))","v":""}]
[44,null,{"$f":"IF(E48=\"\",\"\",VLOOKUP(E48,'ePrijava in Navodila'!$B$13:$H$164,2,FALSE) & \" \" & VLOOKUP(E48,'ePrijava in Navodila'!$B$13:$H$164,3,FALSE))","v":""},{"$f":"IF(E48=\"\",\"\",VLOOKUP(E48,'ePrijava in Navodila'!$B$13:$H$164,5,FALSE))","v":""},null,{"$f":"IF(E48=\"\",\"\",VLOOKUP(E48,'ePrijava in Navodila'!$B$13:$H$164,7,FALSE))","v":""},null,null,null,null,null,null,0,null,null,null,null,"BIB","Priimek in ime","1. ser","2. ser","3. ser","4. ser","1. ser","2. ser","skupno","nc*"]
[45,null,{"$f":"IF(E49=\"\",\"\",VLOOKUP(E49,'ePrijava in Navodila'!$B$13:$H$164,2,FALSE) & \" \" & VLOOKUP(E49,'ePrijava in Navodila'!$B$13:$H$164,3,FALSE))","v":""},{"$f":"IF(E49=\"\",\"\",VLOOKUP(E49,'ePrijava in Navodila'!$B$13:$H$164,5,FALSE))","v":""},null,{"$f":"IF(E49=\"\",\"\",VLOOKUP(E49,'ePrijava in Navodila'!$B$13:$H$164,7,FALSE))","v":""},null,null,null,null,null,null,0,null,null,null,null,null,{"$f":"IF(R49=\"\",\"\",VLOOKUP(R49,'ePrijava in Navodila'!$B$13:$H$164,2,FALSE) & \" \" & VLOOKUP(R49,'ePrijava in Navodila'!$B$13:$H$164,3,FALSE))","v":""},{"$f":"IF(S49=\"\",\"\",VLOOKUP(S49,$C$5:$L$149,5,FALSE))","v":""},{"$f":"IF(S49=\"\",\"\",VLOOKUP(S49,$C$5:$L$149,6,FALSE))","v":""},{"$f":"IF(S49=\"\",\"\",VLOOKUP(S49,$C$5:$L$149,7,FALSE))","v":""},{"$f":"IF(S49=\"\",\"\",VLOOKUP(S49,$C$5:$L$149,8,FALSE))","v":""},{"$f":"IF(S49=\"\",\"\",VLOOKUP(S49,$C$5:$L$149,9,FALSE))","v":""},{"$f":"IF(S49=\"\",\"\",VLOOKUP(S49,$C$5:$L$149,10,FALSE))","v":""},{"$f":"SUM(T49:Y49)","v":0},{"$f":"IF(S49=\"\",\"\",VLOOKUP(S49,$C$5:$N$149,12,FALSE))","v":""}]
[46,null,{"$f":"IF(E50=\"\",\"\",VLOOKUP(E50,'ePrijava in Navodila'!$B$13:$H$164,2,FALSE) & \" \" & VLOOKUP(E50,'ePrijava in Navodila'!$B$13:$H$164,3,FALSE))","v":""},{"$f":"IF(E50=\"\",\"\",VLOOKUP(E50,'ePrijava in Navodila'!$B$13:$H$164,5,FALSE))","v":""},null,{"$f":"IF(E50=\"\",\"\",VLOOKUP(E50,'ePrijava in Navodila'!$B$13:$H$164,7,FALSE))","v":""},null,null,null,null,null,null,0,null,null,null,null,null,{"$f":"IF(R50=\"\",\"\",VLOOKUP(R50,'ePrijava in Navodila'!$B$13:$H$164,2,FALSE) & \" \" & VLOOKUP(R50,'ePrijava in Navodila'!$B$13:$H$164,3,FALSE))","v":""},{"$f":"IF(S50=\"\",\"\",VLOOKUP(S50,$C$5:$L$149,5,FALSE))","v":""},{"$f":"IF(S50=\"\",\"\",VLOOKUP(S50,$C$5:$L$149,6,FALSE))","v":""},{"$f":"IF(S50=\"\",\"\",VLOOKUP(S50,$C$5:$L$149,7,FALSE))","v":""},{"$f":"IF(S50=\"\",\"\",VLOOKUP(S50,$C$5:$L$149,8,FALSE))","v":""},{"$f":"IF(S50=\"\",\"\",VLOOKUP(S50,$C$5:$L$149,9,FALSE))","v":""},{"$f":"IF(S50=\"\",\"\",VLOOKUP(S50,$C$5:$L$149,10,FALSE))","v":""},{"$f":"SUM(T50:Y50)","v":0},{"$f":"IF(S50=\"\",\"\",VLOOKUP(S50,$C$5:$N$149,12,FALSE))","v":""}]
[47,null,{"$f":"IF(E51=\"\",\"\",VLOOKUP(E51,'ePrijava in Navodila'!$B$13:$H$164,2,FALSE) & \" \" & VLOOKUP(E51,'ePrijava in Navodila'!$B$13:$H$164,3,FALSE))","v":""},{"$f":"IF(E51=\"\",\"\",VLOOKUP(E51,'ePrijava in Navodila'!$B$13:$H$164,5,FALSE))","v":""},null,{"$f":"IF(E51=\"\",\"\",VLOOKUP(E51,'ePrijava in Navodila'!$B$13:$H$164,7,FALSE))","v":""},null,null,null,null,null,null,0,null,null,null,null,null,{"$f":"IF(R51=\"\",\"\",VLOOKUP(R51,'ePrijava in Navodila'!$B$13:$H$164,2,FALSE) & \" \" & VLOOKUP(R51,'ePrijava in Navodila'!$B$13:$H$164,3,FALSE))","v":""},{"$f":"IF(S51=\"\",\"\",VLOOKUP(S51,$C$5:$L$149,5,FALSE))","v":""},{"$f":"IF(S51=\"\",\"\",VLOOKUP(S51,$C$5:$L$149,6,FALSE))","v":""},{"$f":"IF(S51=\"\",\"\",VLOOKUP(S51,$C$5:$L$149,7,FALSE))","v":""},{"$f":"IF(S51=\"\",\"\",VLOOKUP(S51,$C$5:$L$149,8,FALSE))","v":""},{"$f":"IF(S51=\"\",\"\",VLOOKUP(S51,$C$5:$L$149,9,FALSE))","v":""},{"$f":"IF(S51=\"\",\"\",VLOOKUP(S51,$C$5:$L$149,10,FALSE))","v":""},{"$f":"SUM(T51:Y51)","v":0},{"$f":"IF(S51=\"\",\"\",VLOOKUP(S51,$C$5:$N$149,12,FALSE))","v":""}]
[48,null,{"$f":"IF(E52=\"\",\"\",VLOOKUP(E52,'ePrijava in Navodila'!$B$13:$H$164,2,FALSE) & \" \" & VLOOKUP(E52,'ePrijava in Navodila'!$B$13:$H$164,3,FALSE))","v":""},{"$f":"IF(E52=\"\",\"\",VLOOKUP(E52,'ePrijava in Navodila'!$B$13:$H$164,5,FALSE))","v":""},null,{"$f":"IF(E52=\"\",\"\",VLOOKUP(E52,'ePrijava in Navodila'!$B$13:$H$164,7,FALSE))","v":""},null,null,null,null,null,null,0,null,null,null,null,null,null,null,null,null,null,null,{"$f":"SUM(Y49:Y51)","v":0},{"$f":"SUM(Z49:Z51)","v":0},{"$f":"SUM(AA49:AA51)","v":0}]
[49,null,{"$f":"IF(E53=\"\",\"\",VLOOKUP(E53,'ePrijava in Navodila'!$B$13:$H$164,2,FALSE) & \" \" & VLOOKUP(E53,'ePrijava in Navodila'!$B$13:$H$164,3,FALSE))","v":""},{"$f":"IF(E53=\"\",\"\",VLOOKUP(E53,'ePrijava in Navodila'!$B$13:$H$164,5,FALSE))","v":""},null,{"$f":"IF(E53=\"\",\"\",VLOOKUP(E53,'ePrijava in Navodila'!$B$13:$H$164,7,FALSE))","v":""},null,null,null,null,null,null,0]
[50,null,{"$f":"IF(E54=\"\",\"\",VLOOKUP(E54,'ePrijava in Navodila'!$B$13:$H$164,2,FALSE) & \" \" & VLOOKUP(E54,'ePrijava in Navodila'!$B$13:$H$164,3,FALSE))","v":""},{"$f":"IF(E54=\"\",\"\",VLOOKUP(E54,'ePrijava in Navodila'!$B$13:$H$164,5,FALSE))","v":""},null,{"$f":"IF(E54=\"\",\"\",VLOOKUP(E54,'ePrijava in Navodila'!$B$13:$H$164,7,FALSE))","v":""},null,null,null,null,null,null,0]
[51,null,{"$f":"IF(E55=\"\",\"\",VLOOKUP(E55,'ePrijava in Navodila'!$B$13:$H$164,2,FALSE) & \" \" & VLOOKUP(E55,'ePrijava in Navodila'!$B$13:$H$164,3,FALSE))","v":""},{"$f":"IF(E55=\"\",\"\",VLOOKUP(E55,'ePrijava in Navodila'!$B$13:$H$164,5,FALSE))","v":""},null,{"$f":"IF(E55=\"\",\"\",VLOOKUP(E55,'ePrijava in Navodila'!$B$13:$H$164,7,FALSE))","v":""},null,null,null,null,null,null,0,null,null,null,null,null,{"$f":"IF(R57=\"\",\"\",VLOOKUP(R57,'ePrijava in Navodila'!$B$13:$H$164,7,FALSE))","v":""}]
[52,null,{"$f":"IF(E56=\"\",\"\",VLOOKUP(E56,'ePrijava in Navodila'!$B$13:$H$164,2,FALSE) & \" \" & VLOOKUP(E56,'ePrijava in Navodila'!$B$13:$H$164,3,FALSE))","v":""},{"$f":"IF(E56=\"\",\"\",VLOOKUP(E56,'ePrijava in Navodila'!$B$13:$H$164,5,FALSE))","v":""},null,{"$f":"IF(E56=\"\",\"\",VLOOKUP(E56,'ePrijava in Navodila'!$B$13:$H$164,7,FALSE))","v":""},null,null,null,null,null,null,0,null,null,null,null,"BIB","Priimek in ime","1. ser","2. ser","3. ser","4. ser","1. ser","2. ser","skupno","nc*"]
[53,null,{"$f":"IF(E57=\"\",\"\",VLOOKUP(E57,'ePrijava in Navodila'!$B$13:$H$164,2,FALSE) & \" \" & VLOOKUP(E57,'ePrijava in Navodila'!$B$13:$H$164,3,FALSE))","v":""},{"$f":"IF(E57=\"\",\"\",VLOOKUP(E57,'ePrijava in Navodila'!$B$13:$H$164,5,FALSE))","v":""},null,{"$f":"IF(E57=\"\",\"\",VLOOKUP(E57,'ePrijava in Navodila'!$B$13:$H$164,7,FALSE))","v":""},null,null,null,null,null,null,0,null,null,null,null,null,{"$f":"IF(R57=\"\",\"\",VLOOKUP(R57,'ePrijava in Navodila'!$B$13:$H$164,2,FALSE) & \" \" & VLOOKUP(R57,'ePrijava in Navodila'!$B$13:$H$164,3,FALSE))","v":""},{"$f":"IF(S57=\"\",\"\",VLOOKUP(S57,$C$5:$L$149,5,FALSE))","v":""},{"$f":"IF(S57=\"\",\"\",VLOOKUP(S57,$C$5:$L$149,6,FALSE))","v":""},{"$f":"IF(S57=\"\",\"\",VLOOKUP(S57,$C$5:$L$149,7,FALSE))","v":""},{"$f":"IF(S57=\"\",\"\",VLOOKUP(S57,$C$5:$L$149,8,FALSE))","v":""},{"$f":"IF(S57=\"\",\"\",VLOOKUP(S57,$C$5:$L$149,9,FALSE))","v":""},{"$f":"IF(S57=\"\",\"\",VLOOKUP(S57,$C$5:$L$149,10,FALSE))","v":""},{"$f":"SUM(T57:Y57)","v":0},{"$f":"IF(S57=\"\",\"\",VLOOKUP(S57,$C$5:$N$149,12,FALSE))","v":""}]
[54,null,{"$f":"IF(E58=\"\",\"\",VLOOKUP(E58,'ePrijava in Navodila'!$B$13:$H$164,2,FALSE) & \" \" & VLOOKUP(E58,'ePrijava in Navodila'!$B$13:$H$164,3,FALSE))","v":""},{"$f":"IF(E58=\"\",\"\",VLOOKUP(E58,'ePrijava in Navodila'!$B$13:$H$164,5,FALSE))","v":""},null,{"$f":"IF(E58=\"\",\"\",VLOOKUP(E58,'ePrijava in Navodila'!$B$13:$H$164,7,FALSE))","v":""},null,null,null,null,null,null,0,null,null,null,null,null,{"$f":"IF(R58=\"\",\"\",VLOOKUP(R58,'ePrijava in Navodila'!$B$13:$H$164,2,FALSE) & \" \" & VLOOKUP(R58,'ePrijava in Navodila'!$B$13:$H$164,3,FALSE))","v":""},{"$f":"IF(S58=\"\",\"\",VLOOKUP(S58,$C$5:$L$149,5,FALSE))","v":""},{"$f":"IF(S58=\"\",\"\",VLOOKUP(S58,$C$5:$L$149,6,FALSE))","v":""},{"$f":"IF(S58=\"\",\"\",VLOOKUP(S58,$C$5:$L$149,7,FALSE))","v":""},{"$f":"IF(S58=\"\",\"\",VLOOKUP(S58,$C$5:$L$149,8,FALSE))","v":""},{"$f":"IF(S58=\"\",\"\",VLOOKUP(S58,$C$5:$L$149,9,FALSE))","v":""},{"$f":"IF(S58=\"\",\"\",VLOOKUP(S58,$C$5:$L$149,10,FALSE))","v":""},{"$f":"SUM(T58:Y58)","v":0},{"$f":"IF(S58=\"\",\"\",VLOOKUP(S58,$C$5:$N$149,12,FALSE))","v":""}]
[55,null,{"$f":"IF(E59=\"\",\"\",VLOOKUP(E59,'ePrijava in Navodila'!$B$13:$H$164,2,FALSE) & \" \" & VLOOKUP(E59,'ePrijava in Navodila'!$B$13:$H$164,3,FALSE))","v":""},{"$f":"IF(E59=\"\",\"\",VLOOKUP(E59,'ePrijava in Navodila'!$B$13:$H$164,5,FALSE))","v":""},null,{"$f":"IF(E59=\"\",\"\",VLOOKUP(E59,'ePrijava in Navodila'!$B$13:$H$164,7,FALSE))","v":""},null,null,null,null,null,null,0,null,null,null,null,null,{"$f":"IF(R59=\"\",\"\",VLOOKUP(R59,'ePrijava in Navodila'!$B$13:$H$164,2,FALSE) & \" \" & VLOOKUP(R59,'ePrijava in Navodila'!$B$13:$H$164,3,FALSE))","v":""},{"$f":"IF(S59=\"\",\"\",VLOOKUP(S59,$C$5:$L$149,5,FALSE))","v":""},{"$f":"IF(S59=\"\",\"\",VLOOKUP(S59,$C$5:$L$149,6,FALSE))","v":""},{"$f":"IF(S59=\"\",\"\",VLOOKUP(S59,$C$5:$L$149,7,FALSE))","v":""},{"$f":"IF(S59=\"\",\"\",VLOOKUP(S59,$C$5:$L$149,8,FALSE))","v":""},{"$f":"IF(S59=\"\",\"\",VLOOKUP(S59,$C$5:$L$149,9,FALSE))","v":""},{"$f":"IF(S59=\"\",\"\",VLOOKUP(S59,$C$5:$L$149,10,FALSE))","v":""},{"$f":"SUM(T59:Y59)","v":0},{"$f":"IF(S59=\"\",\"\",VLOOKUP(S59,$C$5:$N$149,12,FALSE))","v":""}]
[56,null,{"$f":"IF(E60=\"\",\"\",VLOOKUP(E60,'ePrijava in Navodila'!$B$13:$H$164,2,FALSE) & \" \" & VLOOKUP(E60,'ePrijava in Navodila'!$B$13:$H$164,3,FALSE))","v":""},{"$f":"IF(E60=\"\",\"\",VLOOKUP(E60,'ePrijava in Navodila'!$B$13:$H$164,5,FALSE))","v":""},null,{"$f":"IF(E60=\"\",\"\",VLOOKUP(E60,'ePrijava in Navodila'!$B$13:$H$164,7,FALSE))","v":""},null,null,null,null,null,null,0,null,null,null,null,null,null,null,null,null,null,null,{"$f":"SUM(Y57:Y59)","v":0},{"$f":"SUM(Z57:Z59)","v":0},{"$f":"SUM(AA57:AA59)","v":0}]
[57,null,{"$f":"IF(E61=\"\",\"\",VLOOKUP(E61,'ePrijava in Navodila'!$B$13:$H$164,2,FALSE) & \" \" & VLOOKUP(E61,'ePrijava in Navodila'!$B$13:$H$164,3,FALSE))","v":""},{"$f":"IF(E61=\"\",\"\",VLOOKUP(E61,'ePrijava in Navodila'!$B$13:$H$164,5,FALSE))","v":""},null,{"$f":"IF(E61=\"\",\"\",VLOOKUP(E61,'ePrijava in Navodila'!$B$13:$H$164,7,FALSE))","v":""},null,null,null,null,null,null,0]
[58,null,{"$f":"IF(E62=\"\",\"\",VLOOKUP(E62,'ePrijava in Navodila'!$B$13:$H$164,2,FALSE) & \" \" & VLOOKUP(E62,'ePrijava in Navodila'!$B$13:$H$164,3,FALSE))","v":""},{"$f":"IF(E62=\"\",\"\",VLOOKUP(E62,'ePrijava in Navodila'!$B$13:$H$164,5,FALSE))","v":""},null,{"$f":"IF(E62=\"\",\"\",VLOOKUP(E62,'ePrijava in Navodila'!$B$13:$H$164,7,FALSE))","v":""},null,null,null,null,null,null,{"$f":"SUM(G62:L62)","v":0}]
[59,null,{"$f":"IF(E63=\"\",\"\",VLOOKUP(E63,'ePrijava in Navodila'!$B$13:$H$164,2,FALSE) & \" \" & VLOOKUP(E63,'ePrijava in Navodila'!$B$13:$H$164,3,FALSE))","v":""},{"$f":"IF(E63=\"\",\"\",VLOOKUP(E63,'ePrijava in Navodila'!$B$13:$H$164,5,FALSE))","v":""},null,{"$f":"IF(E63=\"\",\"\",VLOOKUP(E63,'ePrijava in Navodila'!$B$13:$H$164,7,FALSE))","v":""},null,null,null,null,null,null,0]
[60,null,{"$f":"IF(E64=\"\",\"\",VLOOKUP(E64,'ePrijava in Navodila'!$B$13:$H$164,2,FALSE) & \" \" & VLOOKUP(E64,'ePrijava in Navodila'!$B$13:$H$164,3,FALSE))","v":""},{"$f":"IF(E64=\"\",\"\",VLOOKUP(E64,'ePrijava in Navodila'!$B$13:$H$164,5,FALSE))","v":""},null,{"$f":"IF(E64=\"\",\"\",VLOOKUP(E64,'ePrijava in Navodila'!$B$13:$H$164,7,FALSE))","v":""},null,null,null,null,null,null,0]
[61,null,{"$f":"IF(E65=\"\",\"\",VLOOKUP(E65,'ePrijava in Navodila'!$B$13:$H$164,2,FALSE) & \" \" & VLOOKUP(E65,'ePrijava in Navodila'!$B$13:$H$164,3,FALSE))","v":""},{"$f":"IF(E65=\"\",\"\",VLOOKUP(E65,'ePrijava in Navodila'!$B$13:$H$164,5,FALSE))","v":""},null,{"$f":"IF(E65=\"\",\"\",VLOOKUP(E65,'ePrijava in Navodila'!$B$13:$H$164,7,FALSE))","v":""},null,null,null,null,null,null,0]
[62,null,{"$f":"IF(E66=\"\",\"\",VLOOKUP(E66,'ePrijava in Navodila'!$B$13:$H$164,2,FALSE) & \" \" & VLOOKUP(E66,'ePrijava in Navodila'!$B$13:$H$164,3,FALSE))","v":""},{"$f":"IF(E66=\"\",\"\",VLOOKUP(E66,'ePrijava in Navodila'!$B$13:$H$164,5,FALSE))","v":""},null,{"$f":"IF(E66=\"\",\"\",VLOOKUP(E66,'ePrijava in Navodila'!$B$13:$H$164,7,FALSE))","v":""},null,null,null,null,null,null,0]
[63,null,{"$f":"IF(E67=\"\",\"\",VLOOKUP(E67,'ePrijava in Navodila'!$B$13:$H$164,2,FALSE) & \" \" & VLOOKUP(E67,'ePrijava in Navodila'!$B$13:$H$164,3,FALSE))","v":""},{"$f":"IF(E67=\"\",\"\",VLOOKUP(E67,'ePrijava in Navodila'!$B$13:$H$164,5,FALSE))","v":""},null,{"$f":"IF(E67=\"\",\"\",VLOOKUP(E67,'ePrijava in Navodila'!$B$13:$H$164,7,FALSE))","v":""},null,null,null,null,null,null,0]
[64,null,{"$f":"IF(E68=\"\",\"\",VLOOKUP(E68,'ePrijava in Navodila'!$B$13:$H$164,2,FALSE) & \" \" & VLOOKUP(E68,'ePrijava in Navodila'!$B$13:$H$164,3,FALSE))","v":""},{"$f":"IF(E68=\"\",\"\",VLOOKUP(E68,'ePrijava in Navodila'!$B$13:$H$164,5,FALSE))","v":""},null,{"$f":"IF(E68=\"\",\"\",VLOOKUP(E68,'ePrijava in Navodila'!$B$13:$H$164,7,FALSE))","v":""},null,null,null,null,null,null,0]
[65,null,{"$f":"IF(E69=\"\",\"\",VLOOKUP(E69,'ePrijava in Navodila'!$B$13:$H$164,2,FALSE) & \" \" & VLOOKUP(E69,'ePrijava in Navodila'!$B$13:$H$164,3,FALSE))","v":""},{"$f":"IF(E69=\"\",\"\",VLOOKUP(E69,'ePrijava in Navodila'!$B$13:$H$164,5,FALSE))","v":""},null,{"$f":"IF(E69=\"\",\"\",VLOOKUP(E69,'ePrijava in Navodila'!$B$13:$H$164,7,FALSE))","v":""},null,null,null,null,null,null,0]
[66,null,{"$f":"IF(E70=\"\",\"\",VLOOKUP(E70,'ePrijava in Navodila'!$B$13:$H$164,2,FALSE) & \" \" & VLOOKUP(E70,'ePrijava in Navodila'!$B$13:$H$164,3,FALSE))","v":""},{"$f":"IF(E70=\"\",\"\",VLOOKUP(E70,'ePrijava in Navodila'!$B$13:$H$164,5,FALSE))","v":""},null,{"$f":"IF(E70=\"\",\"\",VLOOKUP(E70,'ePrijava in Navodila'!$B$13:$H$164,7,FALSE))","v":""},null,null,null,null,null,null,0]
[67,null,{"$f":"IF(E71=\"\",\"\",VLOOKUP(E71,'ePrijava in Navodila'!$B$13:$H$164,2,FALSE) & \" \" & VLOOKUP(E71,'ePrijava in Navodila'!$B$13:$H$164,3,FALSE))","v":""},{"$f":"IF(E71=\"\",\"\",VLOOKUP(E71,'ePrijava in Navodila'!$B$13:$H$164,5,FALSE))","v":""},null,{"$f":"IF(E71=\"\",\"\",VLOOKUP(E71,'ePrijava in Navodila'!$B$13:$H$164,7,FALSE))","v":""},null,null,null,null,null,null,0]
[68,null,{"$f":"IF(E72=\"\",\"\",VLOOKUP(E72,'ePrijava in Navodila'!$B$13:$H$164,2,FALSE) & \" \" & VLOOKUP(E72,'ePrijava in Navodila'!$B$13:$H$164,3,FALSE))","v":""},{"$f":"IF(E72=\"\",\"\",VLOOKUP(E72,'ePrijava in Navodila'!$B$13:$H$164,5,FALSE))","v":""},null,{"$f":"IF(E72=\"\",\"\",VLOOKUP(E72,'ePrijava in Navodila'!$B$13:$H$164,7,FALSE))","v":""},null,null,null,null,null,null,0]
[69,null,{"$f":"IF(E73=\"\",\"\",VLOOKUP(E73,'ePrijava in Navodila'!$B$13:$H$164,2,FALSE) & \" \" & VLOOKUP(E73,'ePrijava in Navodila'!$B$13:$H$164,3,FALSE))","v":""},{"$f":"IF(E73=\"\",\"\",VLOOKUP(E73,'ePrijava in Navodila'!$B$13:$H$164,5,FALSE))","v":""},null,{"$f":"IF(E73=\"\",\"\",VLOOKUP(E73,'ePrijava in Navodila'!$B$13:$H$164,7,FALSE))","v":""},null,null,null,null,null,null,0]
[70,null,{"$f":"IF(E74=\"\",\"\",VLOOKUP(E74,'ePrijava in Navodila'!$B$13:$H$164,2,FALSE) & \" \" & VLOOKUP(E74,'ePrijava in Navodila'!$B$13:$H$164,3,FALSE))","v":""},{"$f":"IF(E74=\"\",\"\",VLOOKUP(E74,'ePrijava in Navodila'!$B$13:$H$164,5,FALSE))","v":""},null,{"$f":"IF(E74=\"\",\"\",VLOOKUP(E74,'ePrijava in Navodila'!$B$13:$H$164,7,FALSE))","v":""},null,null,null,null,null,null,0]
[71,null,{"$f":"IF(E75=\"\",\"\",VLOOKUP(E75,'ePrijava in Navodila'!$B$13:$H$164,2,FALSE) & \" \" & VLOOKUP(E75,'ePrijava in Navodila'!$B$13:$H$164,3,FALSE))","v":""},{"$f":"IF(E75=\"\",\"\",VLOOKUP(E75,'ePrijava in Navodila'!$B$13:$H$164,5,FALSE))","v":""},null,{"$f":"IF(E75=\"\",\"\",VLOOKUP(E75,'ePrijava in Navodila'!$B$13:$H$164,7,FALSE))","v":""},null,null,null,null,null,null,0]
[72,null,{"$f":"IF(E76=\"\",\"\",VLOOKUP(E76,'ePrijava in Navodila'!$B$13:$H$164,2,FALSE) & \" \" & VLOOKUP(E76,'ePrijava in Navodila'!$B$13:$H$164,3,FALSE))","v":""},{"$f":"IF(E76=\"\",\"\",VLOOKUP(E76,'ePrijava in Navodila'!$B$13:$H$164,5,FALSE))","v":""},null,{"$f":"IF(E76=\"\",\"\",VLOOKUP(E76,'ePrijava in Navodila'!$B$13:$H$164,7,FALSE))","v":""},null,null,null,null,null,null,0]
[73,null,{"$f":"IF(E77=\"\",\"\",VLOOKUP(E77,'ePrijava in Navodila'!$B$13:$H$164,2,FALSE) & \" \" & VLOOKUP(E77,'ePrijava in Navodila'!$B$13:$H$164,3,FALSE))","v":""},{"$f":"IF(E77=\"\",\"\",VLOOKUP(E77,'ePrijava in Navodila'!$B$13:$H$164,5,FALSE))","v":""},null,{"$f":"IF(E77=\"\",\"\",VLOOKUP(E77,'ePrijava in Navodila'!$B$13:$H$164,7,FALSE))","v":""},null,null,null,null,null,null,0]
[74,null,{"$f":"IF(E78=\"\",\"\",VLOOKUP(E78,'ePrijava in Navodila'!$B$13:$H$164,2,FALSE) & \" \" & VLOOKUP(E78,'ePrijava in Navodila'!$B$13:$H$164,3,FALSE))","v":""},{"$f":"IF(E78=\"\",\"\",VLOOKUP(E78,'ePrijava in Navodila'!$B$13:$H$164,5,FALSE))","v":""},null,{"$f":"IF(E78=\"\",\"\",VLOOKUP(E78,'ePrijava in Navodila'!$B$13:$H$164,7,FALSE))","v":""},null,null,null,null,null,null,0]
[75,null,{"$f":"IF(E79=\"\",\"\",VLOOKUP(E79,'ePrijava in Navodila'!$B$13:$H$164,2,FALSE) & \" \" & VLOOKUP(E79,'ePrijava in Navodila'!$B$13:$H$164,3,FALSE))","v":""},{"$f":"IF(E79=\"\",\"\",VLOOKUP(E79,'ePrijava in Navodila'!$B$13:$H$164,5,FALSE))","v":""},null,{"$f":"IF(E79=\"\",\"\",VLOOKUP(E79,'ePrijava in Navodila'!$B$13:$H$164,7,FALSE))","v":""},null,null,null,null,null,null,0]
[76,null,{"$f":"IF(E80=\"\",\"\",VLOOKUP(E80,'ePrijava in Navodila'!$B$13:$H$164,2,FALSE) & \" \" & VLOOKUP(E80,'ePrijava in Navodila'!$B$13:$H$164,3,FALSE))","v":""},{"$f":"IF(E80=\"\",\"\",VLOOKUP(E80,'ePrijava in Navodila'!$B$13:$H$164,5,FALSE))","v":""},null,{"$f":"IF(E80=\"\",\"\",VLOOKUP(E80,'ePrijava in Navodila'!$B$13:$H$164,7,FALSE))","v":""},null,null,null,null,null,null,0]
[77,null,{"$f":"IF(E81=\"\",\"\",VLOOKUP(E81,'ePrijava in Navodila'!$B$13:$H$164,2,FALSE) & \" \" & VLOOKUP(E81,'ePrijava in Navodila'!$B$13:$H$164,3,FALSE))","v":""},{"$f":"IF(E81=\"\",\"\",VLOOKUP(E81,'ePrijava in Navodila'!$B$13:$H$164,5,FALSE))","v":""},null,{"$f":"IF(E81=\"\",\"\",VLOOKUP(E81,'ePrijava in Navodila'!$B$13:$H$164,7,FALSE))","v":""},null,null,null,null,null,null,0]
[78,null,{"$f":"IF(E82=\"\",\"\",VLOOKUP(E82,'ePrijava in Navodila'!$B$13:$H$164,2,FALSE) & \" \" & VLOOKUP(E82,'ePrijava in Navodila'!$B$13:$H$164,3,FALSE))","v":""},{"$f":"IF(E82=\"\",\"\",VLOOKUP(E82,'ePrijava in Navodila'!$B$13:$H$164,5,FALSE))","v":""},null,{"$f":"IF(E82=\"\",\"\",VLOOKUP(E82,'ePrijava in Navodila'!$B$13:$H$164,7,FALSE))","v":""},null,null,null,null,null,null,0]
[79,null,{"$f":"IF(E83=\"\",\"\",VLOOKUP(E83,'ePrijava in Navodila'!$B$13:$H$164,2,FALSE) & \" \" & VLOOKUP(E83,'ePrijava in Navodila'!$B$13:$H$164,3,FALSE))","v":""},{"$f":"IF(E83=\"\",\"\",VLOOKUP(E83,'ePrijava in Navodila'!$B$13:$H$164,5,FALSE))","v":""},null,{"$f":"IF(E83=\"\",\"\",VLOOKUP(E83,'ePrijava in Navodila'!$B$13:$H$164,7,FALSE))","v":""},null,null,null,null,null,null,0]
[80,null,{"$f":"IF(E84=\"\",\"\",VLOOKUP(E84,'ePrijava in Navodila'!$B$13:$H$164,2,FALSE) & \" \" & VLOOKUP(E84,'ePrijava in Navodila'!$B$13:$H$164,3,FALSE))","v":""},{"$f":"IF(E84=\"\",\"\",VLOOKUP(E84,'ePrijava in Navodila'!$B$13:$H$164,5,FALSE))","v":""},null,{"$f":"IF(E84=\"\",\"\",VLOOKUP(E84,'ePrijava in Navodila'!$B$13:$H$164,7,FALSE))","v":""},null,null,null,null,null,null,0]
[81,null,{"$f":"IF(E85=\"\",\"\",VLOOKUP(E85,'ePrijava in Navodila'!$B$13:$H$164,2,FALSE) & \" \" & VLOOKUP(E85,'ePrijava in Navodila'!$B$13:$H$164,3,FALSE))","v":""},{"$f":"IF(E85=\"\",\"\",VLOOKUP(E85,'ePrijava in Navodila'!$B$13:$H$164,5,FALSE))","v":""},null,{"$f":"IF(E85=\"\",\"\",VLOOKUP(E85,'ePrijava in Navodila'!$B$13:$H$164,7,FALSE))","v":""},null,null,null,null,null,null,0]
[82,null,{"$f":"IF(E86=\"\",\"\",VLOOKUP(E86,'ePrijava in Navodila'!$B$13:$H$164,2,FALSE) & \" \" & VLOOKUP(E86,'ePrijava in Navodila'!$B$13:$H$164,3,FALSE))","v":""},{"$f":"IF(E86=\"\",\"\",VLOOKUP(E86,'ePrijava in Navodila'!$B$13:$H$164,5,FALSE))","v":""},null,{"$f":"IF(E86=\"\",\"\",VLOOKUP(E86,'ePrijava in Navodila'!$B$13:$H$164,7,FALSE))","v":""},null,null,null,null,null,null,0]
[83,null,{"$f":"IF(E87=\"\",\"\",VLOOKUP(E87,'ePrijava in Navodila'!$B$13:$H$164,2,FALSE) & \" \" & VLOOKUP(E87,'ePrijava in Navodila'!$B$13:$H$164,3,FALSE))","v":""},{"$f":"IF(E87=\"\",\"\",VLOOKUP(E87,'ePrijava in Navodila'!$B$13:$H$164,5,FALSE))","v":""},null,{"$f":"IF(E87=\"\",\"\",VLOOKUP(E87,'ePrijava in Navodila'!$B$13:$H$164,7,FALSE))","v":""},null,null,null,null,null,null,0]
[84,null,{"$f":"IF(E88=\"\",\"\",VLOOKUP(E88,'ePrijava in Navodila'!$B$13:$H$164,2,FALSE) & \" \" & VLOOKUP(E88,'ePrijava in Navodila'!$B$13:$H$164,3,FALSE))","v":""},{"$f":"IF(E88=\"\",\"\",VLOOKUP(E88,'ePrijava in Navodila'!$B$13:$H$164,5,FALSE))","v":""},null,{"$f":"IF(E88=\"\",\"\",VLOOKUP(E88,'ePrijava in Navodila'!$B$13:$H$164,7,FALSE))","v":""},null,null,null,null,null,null,0]
[85,null,{"$f":"IF(E89=\"\",\"\",VLOOKUP(E89,'ePrijava in Navodila'!$B$13:$H$164,2,FALSE) & \" \" & VLOOKUP(E89,'ePrijava in Navodila'!$B$13:$H$164,3,FALSE))","v":""},{"$f":"IF(E89=\"\",\"\",VLOOKUP(E89,'ePrijava in Navodila'!$B$13:$H$164,5,FALSE))","v":""},null,{"$f":"IF(E89=\"\",\"\",VLOOKUP(E89,'ePrijava in Navodila'!$B$13:$H$164,7,FALSE))","v":""},null,null,null,null,null,null,0]
[86,null,{"$f":"IF(E90=\"\",\"\",VLOOKUP(E90,'ePrijava in Navodila'!$B$13:$H$164,2,FALSE) & \" \" & VLOOKUP(E90,'ePrijava in Navodila'!$B$13:$H$164,3,FALSE))","v":""},{"$f":"IF(E90=\"\",\"\",VLOOKUP(E90,'ePrijava in Navodila'!$B$13:$H$164,5,FALSE))","v":""},null,{"$f":"IF(E90=\"\",\"\",VLOOKUP(E90,'ePrijava in Navodila'!$B$13:$H$164,7,FALSE))","v":""},null,null,null,null,null,null,0]
[87,null,{"$f":"IF(E91=\"\",\"\",VLOOKUP(E91,'ePrijava in Navodila'!$B$13:$H$164,2,FALSE) & \" \" & VLOOKUP(E91,'ePrijava in Navodila'!$B$13:$H$164,3,FALSE))","v":""},{"$f":"IF(E91=\"\",\"\",VLOOKUP(E91,'ePrijava in Navodila'!$B$13:$H$164,5,FALSE))","v":""},null,{"$f":"IF(E91=\"\",\"\",VLOOKUP(E91,'ePrijava in Navodila'!$B$13:$H$164,7,FALSE))","v":""},null,null,null,null,null,null,0]
[88,null,{"$f":"IF(E92=\"\",\"\",VLOOKUP(E92,'ePrijava in Navodila'!$B$13:$H$164,2,FALSE) & \" \" & VLOOKUP(E92,'ePrijava in Navodila'!$B$13:$H$164,3,FALSE))","v":""},{"$f":"IF(E92=\"\",\"\",VLOOKUP(E92,'ePrijava in Navodila'!$B$13:$H$164,5,FALSE))","v":""},null,{"$f":"IF(E92=\"\",\"\",VLOOKUP(E92,'ePrijava in Navodila'!$B$13:$H$164,7,FALSE))","v":""},null,null,null,null,null,null,0]
[89,null,{"$f":"IF(E93=\"\",\"\",VLOOKUP(E93,'ePrijava in Navodila'!$B$13:$H$164,2,FALSE) & \" \" & VLOOKUP(E93,'ePrijava in Navodila'!$B$13:$H$164,3,FALSE))","v":""},{"$f":"IF(E93=\"\",\"\",VLOOKUP(E93,'ePrijava in Navodila'!$B$13:$H$164,5,FALSE))","v":""},null,{"$f":"IF(E93=\"\",\"\",VLOOKUP(E93,'ePrijava in Navodila'!$B$13:$H$164,7,FALSE))","v":""},null,null,null,null,null,null,0]
[90,null,{"$f":"IF(E94=\"\",\"\",VLOOKUP(E94,'ePrijava in Navodila'!$B$13:$H$164,2,FALSE) & \" \" & VLOOKUP(E94,'ePrijava in Navodila'!$B$13:$H$164,3,FALSE))","v":""},{"$f":"IF(E94=\"\",\"\",VLOOKUP(E94,'ePrijava in Navodila'!$B$13:$H$164,5,FALSE))","v":""},null,{"$f":"IF(E94=\"\",\"\",VLOOKUP(E94,'ePrijava in Navodila'!$B$13:$H$164,7,FALSE))","v":""},null,null,null,null,null,null,0]
[91,null,{"$f":"IF(E95=\"\",\"\",VLOOKUP(E95,'ePrijava in Navodila'!$B$13:$H$164,2,FALSE) & \" \" & VLOOKUP(E95,'ePrijava in Navodila'!$B$13:$H$164,3,FALSE))","v":""},{"$f":"IF(E95=\"\",\"\",VLOOKUP(E95,'ePrijava in Navodila'!$B$13:$H$164,5,FALSE))","v":""},null,{"$f":"IF(E95=\"\",\"\",VLOOKUP(E95,'ePrijava in Navodila'!$B$13:$H$164,7,FALSE))","v":""},null,null,null,null,null,null,0]
[92,null,{"$f":"IF(E96=\"\",\"\",VLOOKUP(E96,'ePrijava in Navodila'!$B$13:$H$164,2,FALSE) & \" \" & VLOOKUP(E96,'ePrijava in Navodila'!$B$13:$H$164,3,FALSE))","v":""},{"$f":"IF(E96=\"\",\"\",VLOOKUP(E96,'ePrijava in Navodila'!$B$13:$H$164,5,FALSE))","v":""},null,{"$f":"IF(E96=\"\",\"\",VLOOKUP(E96,'ePrijava in Navodila'!$B$13:$H$164,7,FALSE))","v":""},null,null,null,null,null,null,0]
[93,null,{"$f":"IF(E97=\"\",\"\",VLOOKUP(E97,'ePrijava in Navodila'!$B$13:$H$164,2,FALSE) & \" \" & VLOOKUP(E97,'ePrijava in Navodila'!$B$13:$H$164,3,FALSE))","v":""},{"$f":"IF(E97=\"\",\"\",VLOOKUP(E97,'ePrijava in Navodila'!$B$13:$H$164,5,FALSE))","v":""},null,{"$f":"IF(E97=\"\",\"\",VLOOKUP(E97,'ePrijava in Navodila'!$B$13:$H$164,7,FALSE))","v":""},null,null,null,null,null,null,0]
[94,null,{"$f":"IF(E98=\"\",\"\",VLOOKUP(E98,'ePrijava in Navodila'!$B$13:$H$164,2,FALSE) & \" \" & VLOOKUP(E98,'ePrijava in Navodila'!$B$13:$H$164,3,FALSE))","v":""},{"$f":"IF(E98=\"\",\"\",VLOOKUP(E98,'ePrijava in Navodila'!$B$13:$H$164,5,FALSE))","v":""},null,{"$f":"IF(E98=\"\",\"\",VLOOKUP(E98,'ePrijava in Navodila'!$B$13:$H$164,7,FALSE))","v":""},null,null,null,null,null,null,0]
[95,null,{"$f":"IF(E99=\"\",\"\",VLOOKUP(E99,'ePrijava in Navodila'!$B$13:$H$164,2,FALSE) & \" \" & VLOOKUP(E99,'ePrijava in Navodila'!$B$13:$H$164,3,FALSE))","v":""},{"$f":"IF(E99=\"\",\"\",VLOOKUP(E99,'ePrijava in Navodila'!$B$13:$H$164,5,FALSE))","v":""},null,{"$f":"IF(E99=\"\",\"\",VLOOKUP(E99,'ePrijava in Navodila'!$B$13:$H$164,7,FALSE))","v":""},null,null,null,null,null,null,0]
[96,null,{"$f":"IF(E100=\"\",\"\",VLOOKUP(E100,'ePrijava in Navodila'!$B$13:$H$164,2,FALSE) & \" \" & VLOOKUP(E100,'ePrijava in Navodila'!$B$13:$H$164,3,FALSE))","v":""},{"$f":"IF(E100=\"\",\"\",VLOOKUP(E100,'ePrijava in Navodila'!$B$13:$H$164,5,FALSE))","v":""},null,{"$f":"IF(E100=\"\",\"\",VLOOKUP(E100,'ePrijava in Navodila'!$B$13:$H$164,7,FALSE))","v":""},null,null,null,null,null,null,0]
[]
[]
[]
[]
["mesto",null,"U15 (starejše deklice)"]
[]
[]
[null,null,"Priimek in ime","Roj.","BIB","Društvo, klub","1. ser","2. ser","3. ser","4. ser","1. ser","2. ser","skupno","nc*"]
[null,null,null,"skrita"]
[1,null,{"$f":"IF(E110=\"\",\"\",VLOOKUP(E110,'ePrijava in Navodila'!$B$13:$H$164,2,FALSE) & \" \" & VLOOKUP(E110,'ePrijava in Navodila'!$B$13:$H$164,3,FALSE))","v":""},{"$f":"IF(E110=\"\",\"\",VLOOKUP(E110,'ePrijava in Navodila'!$B$13:$H$164,5,FALSE))","v":""},null,{"$f":"IF(E110=\"\",\"\",VLOOKUP(E110,'ePrijava in Navodila'!$B$13:$H$164,7,FALSE))","v":""},null,null,null,null,null,null,{"$f":"SUM(G110:L110)","v":0}]
[2,null,{"$f":"IF(E111=\"\",\"\",VLOOKUP(E111,'ePrijava in Navodila'!$B$13:$H$164,2,FALSE) & \" \" & VLOOKUP(E111,'ePrijava in Navodila'!$B$13:$H$164,3,FALSE))","v":""},{"$f":"IF(E111=\"\",\"\",VLOOKUP(E111,'ePrijava in Navodila'!$B$13:$H$164,5,FALSE))","v":""},null,{"$f":"IF(E111=\"\",\"\",VLOOKUP(E111,'ePrijava in Navodila'!$B$13:$H$164,7,FALSE))","v":""},null,null,null,null,null,null,0]
[3,null,{"$f":"IF(E112=\"\",\"\",VLOOKUP(E112,'ePrijava in Navodila'!$B$13:$H$164,2,FALSE) & \" \" & VLOOKUP(E112,'ePrijava in Navodila'!$B$13:$H$164,3,FALSE))","v":""},{"$f":"IF(E112=\"\",\"\",VLOOKUP(E112,'ePrijava in Navodila'!$B$13:$H$164,5,FALSE))","v":""},null,{"$f":"IF(E112=\"\",\"\",VLOOKUP(E112,'ePrijava in Navodila'!$B$13:$H$164,7,FALSE))","v":""},null,null,null,null,null,null,0]
[4,null,{"$f":"IF(E113=\"\",\"\",VLOOKUP(E113,'ePrijava in Navodila'!$B$13:$H$164,2,FALSE) & \" \" & VLOOKUP(E113,'ePrijava in Navodila'!$B$13:$H$164,3,FALSE))","v":""},{"$f":"IF(E113=\"\",\"\",VLOOKUP(E113,'ePrijava in Navodila'!$B$13:$H$164,5,FALSE))","v":""},null,{"$f":"IF(E113=\"\",\"\",VLOOKUP(E113,'ePrijava in Navodila'!$B$13:$H$164,7,FALSE))","v":""},null,null,null,null,null,null,0]
[5,null,{"$f":"IF(E114=\"\",\"\",VLOOKUP(E114,'ePrijava in Navodila'!$B$13:$H$164,2,FALSE) & \" \" & VLOOKUP(E114,'ePrijava in Navodila'!$B$13:$H$164,3,FALSE))","v":""},{"$f":"IF(E114=\"\",\"\",VLOOKUP(E114,'ePrijava in Navodila'!$B$13:$H$164,5,FALSE))","v":""},null,{"$f":"IF(E114=\"\",\"\",VLOOKUP(E114,'ePrijava in Navodila'!$B$13:$H$164,7,FALSE))","v":""},null,null,null,null,null,null,0]
[6,null,{"$f":"IF(E115=\"\",\"\",VLOOKUP(E115,'ePrijava in Navodila'!$B$13:$H$164,2,FALSE) & \" \" & VLOOKUP(E115,'ePrijava in Navodila'!$B$13:$H$164,3,FALSE))","v":""},{"$f":"IF(E115=\"\",\"\",VLOOKUP(E115,'ePrijava in Navodila'!$B$13:$H$164,5,FALSE))","v":""},null,{"$f":"IF(E115=\"\",\"\",VLOOKUP(E115,'ePrijava in Navodila'!$B$13:$H$164,7,FALSE))","v":""},null,null,null,null,null,null,0]
[7,null,{"$f":"IF(E116=\"\",\"\",VLOOKUP(E116,'ePrijava in Navodila'!$B$13:$H$164,2,FALSE) & \" \" & VLOOKUP(E116,'ePrijava in Navodila'!$B$13:$H$164,3,FALSE))","v":""},{"$f":"IF(E116=\"\",\"\",VLOOKUP(E116,'ePrijava in Navodila'!$B$13:$H$164,5,FALSE))","v":""},null,{"$f":"IF(E116=\"\",\"\",VLOOKUP(E116,'ePrijava in Navodila'!$B$13:$H$164,7,FALSE))","v":""},null,null,null,null,null,null,0]
[8,null,{"$f":"IF(E117=\"\",\"\",VLOOKUP(E117,'ePrijava in Navodila'!$B$13:$H$164,2,FALSE) & \" \" & VLOOKUP(E117,'ePrijava in Navodila'!$B$13:$H$164,3,FALSE))","v":""},{"$f":"IF(E117=\"\",\"\",VLOOKUP(E117,'ePrijava in Navodila'!$B$13:$H$164,5,FALSE))","v":""},null,{"$f":"IF(E117=\"\",\"\",VLOOKUP(E117,'ePrijava in Navodila'!$B$13:$H$164,7,FALSE))","v":""},null,null,null,null,null,null,0]
[9,null,{"$f":"IF(E118=\"\",\"\",VLOOKUP(E118,'ePrijava in Navodila'!$B$13:$H$164,2,FALSE) & \" \" & VLOOKUP(E118,'ePrijava in Navodila'!$B$13:$H$164,3,FALSE))","v":""},{"$f":"IF(E118=\"\",\"\",VLOOKUP(E118,'ePrijava in Navodila'!$B$13:$H$164,5,FALSE))","v":""},null,{"$f":"IF(E118=\"\",\"\",VLOOKUP(E118,'ePrijava in Navodila'!$B$13:$H$164,7,FALSE))","v":""},null,null,null,null,null,null,0]
[10,null,{"$f":"IF(E119=\"\",\"\",VLOOKUP(E119,'ePrijava in Navodila'!$B$13:$H$164,2,FALSE) & \" \" & VLOOKUP(E119,'ePrijava in Navodila'!$B$13:$H$164,3,FALSE))","v":""},{"$f":"IF(E119=\"\",\"\",VLOOKUP(E119,'ePrijava in Navodila'!$B$13:$H$164,5,FALSE))","v":""},null,{"$f":"IF(E119=\"\",\"\",VLOOKUP(E119,'ePrijava in Navodila'!$B$13:$H$164,7,FALSE))","v":""},null,null,null,null,null,null,0]
[11,null,{"$f":"IF(E120=\"\",\"\",VLOOKUP(E120,'ePrijava in Navodila'!$B$13:$H$164,2,FALSE) & \" \" & VLOOKUP(E120,'ePrijava in Navodila'!$B$13:$H$164,3,FALSE))","v":""},{"$f":"IF(E120=\"\",\"\",VLOOKUP(E120,'ePrijava in Navodila'!$B$13:$H$164,5,FALSE))","v":""},null,{"$f":"IF(E120=\"\",\"\",VLOOKUP(E120,'ePrijava in Navodila'!$B$13:$H$164,7,FALSE))","v":""},null,null,null,null,null,null,0]
[12,null,{"$f":"IF(E121=\"\",\"\",VLOOKUP(E121,'ePrijava in Navodila'!$B$13:$H$164,2,FALSE) & \" \" & VLOOKUP(E121,'ePrijava in Navodila'!$B$13:$H$164,3,FALSE))","v":""},{"$f":"IF(E121=\"\",\"\",VLOOKUP(E121,'ePrijava in Navodila'!$B$13:$H$164,5,FALSE))","v":""},null,{"$f":"IF(E121=\"\",\"\",VLOOKUP(E121,'ePrijava in Navodila'!$B$13:$H$164,7,FALSE))","v":""},null,null,null,null,null,null,0]
[13,null,{"$f":"IF(E122=\"\",\"\",VLOOKUP(E122,'ePrijava in Navodila'!$B$13:$H$164,2,FALSE) & \" \" & VLOOKUP(E122,'ePrijava in Navodila'!$B$13:$H$164,3,FALSE))","v":""},{"$f":"IF(E122=\"\",\"\",VLOOKUP(E122,'ePrijava in Navodila'!$B$13:$H$164,5,FALSE))","v":""},null,{"$f":"IF(E122=\"\",\"\",VLOOKUP(E122,'ePrijava in Navodila'!$B$13:$H$164,7,FALSE))","v":""},null,null,null,null,null,null,0]
[14,null,{"$f":"IF(E123=\"\",\"\",VLOOKUP(E123,'ePrijava in Navodila'!$B$13:$H$164,2,FALSE) & \" \" & VLOOKUP(E123,'ePrijava in Navodila'!$B$13:$H$164,3,FALSE))","v":""},{"$f":"IF(E123=\"\",\"\",VLOOKUP(E123,'ePrijava in Navodila'!$B$13:$H$164,5,FALSE))","v":""},null,{"$f":"IF(E123=\"\",\"\",VLOOKUP(E123,'ePrijava in Navodila'!$B$13:$H$164,7,FALSE))","v":""},null,null,null,null,null,null,0]
[15,null,{"$f":"IF(E124=\"\",\"\",VLOOKUP(E124,'ePrijava in Navodila'!$B$13:$H$164,2,FALSE) & \" \" & VLOOKUP(E124,'ePrijava in Navodila'!$B$13:$H$164,3,FALSE))","v":""},{"$f":"IF(E124=\"\",\"\",VLOOKUP(E124,'ePrijava in Navodila'!$B$13:$H$164,5,FALSE))","v":""},null,{"$f":"IF(E124=\"\",\"\",VLOOKUP(E124,'ePrijava in Navodila'!$B$13:$H$164,7,FALSE))","v":""},null,null,null,null,null,null,0]
[16,null,{"$f":"IF(E125=\"\",\"\",VLOOKUP(E125,'ePrijava in Navodila'!$B$13:$H$164,2,FALSE) & \" \" & VLOOKUP(E125,'ePrijava in Navodila'!$B$13:$H$164,3,FALSE))","v":""},{"$f":"IF(E125=\"\",\"\",VLOOKUP(E125,'ePrijava in Navodila'!$B$13:$H$164,5,FALSE))","v":""},null,{"$f":"IF(E125=\"\",\"\",VLOOKUP(E125,'ePrijava in Navodila'!$B$13:$H$164,7,FALSE))","v":""},null,null,null,null,null,null,0]
[17,null,{"$f":"IF(E126=\"\",\"\",VLOOKUP(E126,'ePrijava in Navodila'!$B$13:$H$164,2,FALSE) & \" \" & VLOOKUP(E126,'ePrijava in Navodila'!$B$13:$H$164,3,FALSE))","v":""},{"$f":"IF(E126=\"\",\"\",VLOOKUP(E126,'ePrijava in Navodila'!$B$13:$H$164,5,FALSE))","v":""},null,{"$f":"IF(E126=\"\",\"\",VLOOKUP(E126,'ePrijava in Navodila'!$B$13:$H$164,7,FALSE))","v":""},null,null,null,null,null,null,0]
[18,null,{"$f":"IF(E127=\"\",\"\",VLOOKUP(E127,'ePrijava in Navodila'!$B$13:$H$164,2,FALSE) & \" \" & VLOOKUP(E127,'ePrijava in Navodila'!$B$13:$H$164,3,FALSE))","v":""},{"$f":"IF(E127=\"\",\"\",VLOOKUP(E127,'ePrijava in Navodila'!$B$13:$H$164,5,FALSE))","v":""},null,{"$f":"IF(E127=\"\",\"\",VLOOKUP(E127,'ePrijava in Navodila'!$B$13:$H$164,7,FALSE))","v":""},null,null,null,null,null,null,0]
[19,null,{"$f":"IF(E128=\"\",\"\",VLOOKUP(E128,'ePrijava in Navodila'!$B$13:$H$164,2,FALSE) & \" \" & VLOOKUP(E128,'ePrijava in Navodila'!$B$13:$H$164,3,FALSE))","v":""},{"$f":"IF(E128=\"\",\"\",VLOOKUP(E128,'ePrijava in Navodila'!$B$13:$H$164,5,FALSE))","v":""},null,{"$f":"IF(E128=\"\",\"\",VLOOKUP(E128,'ePrijava in Navodila'!$B$13:$H$164,7,FALSE))","v":""},null,null,null,null,null,null,0]
[20,null,{"$f":"IF(E129=\"\",\"\",VLOOKUP(E129,'ePrijava in Navodila'!$B$13:$H$164,2,FALSE) & \" \" & VLOOKUP(E129,'ePrijava in Navodila'!$B$13:$H$164,3,FALSE))","v":""},{"$f":"IF(E129=\"\",\"\",VLOOKUP(E129,'ePrijava in Navodila'!$B$13:$H$164,5,FALSE))","v":""},null,{"$f":"IF(E129=\"\",\"\",VLOOKUP(E129,'ePrijava in Navodila'!$B$13:$H$164,7,FALSE))","v":""},null,null,null,null,null,null,0]
[21,null,{"$f":"IF(E130=\"\",\"\",VLOOKUP(E130,'ePrijava in Navodila'!$B$13:$H$164,2,FALSE) & \" \" & VLOOKUP(E130,'ePrijava in Navodila'!$B$13:$H$164,3,FALSE))","v":""},{"$f":"IF(E130=\"\",\"\",VLOOKUP(E130,'ePrijava in Navodila'!$B$13:$H$164,5,FALSE))","v":""},null,{"$f":"IF(E130=\"\",\"\",VLOOKUP(E130,'ePrijava in Navodila'!$B$13:$H$164,7,FALSE))","v":""},null,null,null,null,null,null,0]
[22,null,{"$f":"IF(E131=\"\",\"\",VLOOKUP(E131,'ePrijava in Navodila'!$B$13:$H$164,2,FALSE) & \" \" & VLOOKUP(E131,'ePrijava in Navodila'!$B$13:$H$164,3,FALSE))","v":""},{"$f":"IF(E131=\"\",\"\",VLOOKUP(E131,'ePrijava in Navodila'!$B$13:$H$164,5,FALSE))","v":""},null,{"$f":"IF(E131=\"\",\"\",VLOOKUP(E131,'ePrijava in Navodila'!$B$13:$H$164,7,FALSE))","v":""},null,null,null,null,null,null,0]
[23,null,{"$f":"IF(E132=\"\",\"\",VLOOKUP(E132,'ePrijava in Navodila'!$B$13:$H$164,2,FALSE) & \" \" & VLOOKUP(E132,'ePrijava in Navodila'!$B$13:$H$164,3,FALSE))","v":""},{"$f":"IF(E132=\"\",\"\",VLOOKUP(E132,'ePrijava in Navodila'!$B$13:$H$164,5,FALSE))","v":""},null,{"$f":"IF(E132=\"\",\"\",VLOOKUP(E132,'ePrijava in Navodila'!$B$13:$H$164,7,FALSE))","v":""},null,null,null,null,null,null,0]
[24,null,{"$f":"IF(E133=\"\",\"\",VLOOKUP(E133,'ePrijava in Navodila'!$B$13:$H$164,2,FALSE) & \" \" & VLOOKUP(E133,'ePrijava in Navodila'!$B$13:$H$164,3,FALSE))","v":""},{"$f":"IF(E133=\"\",\"\",VLOOKUP(E133,'ePrijava in Navodila'!$B$13:$H$164,5,FALSE))","v":""},null,{"$f":"IF(E133=\"\",\"\",VLOOKUP(E133,'ePrijava in Navodila'!$B$13:$H$164,7,FALSE))","v":""},null,null,null,null,null,null,0]
[25,null,{"$f":"IF(E134=\"\",\"\",VLOOKUP(E134,'ePrijava in Navodila'!$B$13:$H$164,2,FALSE) & \" \" & VLOOKUP(E134,'ePrijava in Navodila'!$B$13:$H$164,3,FALSE))","v":""},{"$f":"IF(E134=\"\",\"\",VLOOKUP(E134,'ePrijava in Navodila'!$B$13:$H$164,5,FALSE))","v":""},null,{"$f":"IF(E134=\"\",\"\",VLOOKUP(E134,'ePrijava in Navodila'!$B$13:$H$164,7,FALSE))","v":""},null,null,null,null,null,null,0]
[26,null,{"$f":"IF(E135=\"\",\"\",VLOOKUP(E135,'ePrijava in Navodila'!$B$13:$H$164,2,FALSE) & \" \" & VLOOKUP(E135,'ePrijava in Navodila'!$B$13:$H$164,3,FALSE))","v":""},{"$f":"IF(E135=\"\",\"\",VLOOKUP(E135,'ePrijava in Navodila'!$B$13:$H$164,5,FALSE))","v":""},null,{"$f":"IF(E135=\"\",\"\",VLOOKUP(E135,'ePrijava in Navodila'!$B$13:$H$164,7,FALSE))","v":""},null,null,null,null,null,null,0]
[27,null,{"$f":"IF(E136=\"\",\"\",VLOOKUP(E136,'ePrijava in Navodila'!$B$13:$H$164,2,FALSE) & \" \" & VLOOKUP(E136,'ePrijava in Navodila'!$B$13:$H$164,3,FALSE))","v":""},{"$f":"IF(E136=\"\",\"\",VLOOKUP(E136,'ePrijava in Navodila'!$B$13:$H$164,5,FALSE))","v":""},null,{"$f":"IF(E136=\"\",\"\",VLOOKUP(E136,'ePrijava in Navodila'!$B$13:$H$164,7,FALSE))","v":""},null,null,null,null,null,null,0]
[28,null,{"$f":"IF(E137=\"\",\"\",VLOOKUP(E137,'ePrijava in Navodila'!$B$13:$H$164,2,FALSE) & \" \" & VLOOKUP(E137,'ePrijava in Navodila'!$B$13:$H$164,3,FALSE))","v":""},{"$f":"IF(E137=\"\",\"\",VLOOKUP(E137,'ePrijava in Navodila'!$B$13:$H$164,5,FALSE))","v":""},null,{"$f":"IF(E137=\"\",\"\",VLOOKUP(E137,'ePrijava in Navodila'!$B$13:$H$164,7,FALSE))","v":""},null,null,null,null,null,null,0]
[29,null,{"$f":"IF(E138=\"\",\"\",VLOOKUP(E138,'ePrijava in Navodila'!$B$13:$H$164,2,FALSE) & \" \" & VLOOKUP(E138,'ePrijava in Navodila'!$B$13:$H$164,3,FALSE))","v":""},{"$f":"IF(E138=\"\",\"\",VLOOKUP(E138,'ePrijava in Navodila'!$B$13:$H$164,5,FALSE))","v":""},null,{"$f":"IF(E138=\"\",\"\",VLOOKUP(E138,'ePrijava in Navodila'!$B$13:$H$164,7,FALSE))","v":""},null,null,null,null,null,null,0]
[30,null,{"$f":"IF(E139=\"\",\"\",VLOOKUP(E139,'ePrijava in Navodila'!$B$13:$H$164,2,FALSE) & \" \" & VLOOKUP(E139,'ePrijava in Navodila'!$B$13:$H$164,3,FALSE))","v":""},{"$f":"IF(E139=\"\",\"\",VLOOKUP(E139,'ePrijava in Navodila'!$B$13:$H$164,5,FALSE))","v":""},null,{"$f":"IF(E139=\"\",\"\",VLOOKUP(E139,'ePrijava in Navodila'!$B$13:$H$164,7,FALSE))","v":""},null,null,null,null,null,null,0]
[31,null,{"$f":"IF(E140=\"\",\"\",VLOOKUP(E140,'ePrijava in Navodila'!$B$13:$H$164,2,FALSE) & \" \" & VLOOKUP(E140,'ePrijava in Navodila'!$B$13:$H$164,3,FALSE))","v":""},{"$f":"IF(E140=\"\",\"\",VLOOKUP(E140,'ePrijava in Navodila'!$B$13:$H$164,5,FALSE))","v":""},null,{"$f":"IF(E140=\"\",\"\",VLOOKUP(E140,'ePrijava in Navodila'!$B$13:$H$164,7,FALSE))","v":""},null,null,null,null,null,null,{"$f":"SUM(G140:L140)","v":0}]
[32,null,{"$f":"IF(E141=\"\",\"\",VLOOKUP(E141,'ePrijava in Navodila'!$B$13:$H$164,2,FALSE) & \" \" & VLOOKUP(E141,'ePrijava in Navodila'!$B$13:$H$164,3,FALSE))","v":""},{"$f":"IF(E141=\"\",\"\",VLOOKUP(E141,'ePrijava in Navodila'!$B$13:$H$164,5,FALSE))","v":""},null,{"$f":"IF(E141=\"\",\"\",VLOOKUP(E141,'ePrijava in Navodila'!$B$13:$H$164,7,FALSE))","v":""},null,null,null,null,null,null,0]
[33,null,{"$f":"IF(E142=\"\",\"\",VLOOKUP(E142,'ePrijava in Navodila'!$B$13:$H$164,2,FALSE) & \" \" & VLOOKUP(E142,'ePrijava in Navodila'!$B$13:$H$164,3,FALSE))","v":""},{"$f":"IF(E142=\"\",\"\",VLOOKUP(E142,'ePrijava in Navodila'!$B$13:$H$164,5,FALSE))","v":""},null,{"$f":"IF(E142=\"\",\"\",VLOOKUP(E142,'ePrijava in Navodila'!$B$13:$H$164,7,FALSE))","v":""},null,null,null,null,null,null,0]
[34,null,{"$f":"IF(E143=\"\",\"\",VLOOKUP(E143,'ePrijava in Navodila'!$B$13:$H$164,2,FALSE) & \" \" & VLOOKUP(E143,'ePrijava in Navodila'!$B$13:$H$164,3,FALSE))","v":""},{"$f":"IF(E143=\"\",\"\",VLOOKUP(E143,'ePrijava in Navodila'!$B$13:$H$164,5,FALSE))","v":""},null,{"$f":"IF(E143=\"\",\"\",VLOOKUP(E143,'ePrijava in Navodila'!$B$13:$H$164,7,FALSE))","v":""},null,null,null,null,null,null,0]
[35,null,{"$f":"IF(E144=\"\",\"\",VLOOKUP(E144,'ePrijava in Navodila'!$B$13:$H$164,2,FALSE) & \" \" & VLOOKUP(E144,'ePrijava in Navodila'!$B$13:$H$164,3,FALSE))","v":""},{"$f":"IF(E144=\"\",\"\",VLOOKUP(E144,'ePrijava in Navodila'!$B$13:$H$164,5,FALSE))","v":""},null,{"$f":"IF(E144=\"\",\"\",VLOOKUP(E144,'ePrijava in Navodila'!$B$13:$H$164,7,FALSE))","v":""},null,null,null,null,null,null,0]
[36,null,{"$f":"IF(E145=\"\",\"\",VLOOKUP(E145,'ePrijava in Navodila'!$B$13:$H$164,2,FALSE) & \" \" & VLOOKUP(E145,'ePrijava in Navodila'!$B$13:$H$164,3,FALSE))","v":""},{"$f":"IF(E145=\"\",\"\",VLOOKUP(E145,'ePrijava in Navodila'!$B$13:$H$164,5,FALSE))","v":""},null,{"$f":"IF(E145=\"\",\"\",VLOOKUP(E145,'ePrijava in Navodila'!$B$13:$H$164,7,FALSE))","v":""},null,null,null,null,null,null,0]
[37,null,{"$f":"IF(E146=\"\",\"\",VLOOKUP(E146,'ePrijava in Navodila'!$B$13:$H$164,2,FALSE) & \" \" & VLOOKUP(E146,'ePrijava in Navodila'!$B$13:$H$164,3,FALSE))","v":""},{"$f":"IF(E146=\"\",\"\",VLOOKUP(E146,'ePrijava in Navodila'!$B$13:$H$164,5,FALSE))","v":""},null,{"$f":"IF(E146=\"\",\"\",VLOOKUP(E146,'ePrijava in Navodila'!$B$13:$H$164,7,FALSE))","v":""},null,null,null,null,null,null,0]
[38,null,{"$f":"IF(E147=\"\",\"\",VLOOKUP(E147,'ePrijava in Navodila'!$B$13:$H$164,2,FALSE) & \" \" & VLOOKUP(E147,'ePrijava in Navodila'!$B$13:$H$164,3,FALSE))","v":""},{"$f":"IF(E147=\"\",\"\",VLOOKUP(E147,'ePrijava in Navodila'!$B$13:$H$164,5,FALSE))","v":""},null,{"$f":"IF(E147=\"\",\"\",VLOOKUP(E147,'ePrijava in Navodila'!$B$13:$H$164,7,FALSE))","v":""},null,null,null,null,null,null,0]
[39,null,{"$f":"IF(E148=\"\",\"\",VLOOKUP(E148,'ePrijava in Navodila'!$B$13:$H$164,2,FALSE) & \" \" & VLOOKUP(E148,'ePrijava in Navodila'!$B$13:$H$164,3,FALSE))","v":""},{"$f":"IF(E148=\"\",\"\",VLOOKUP(E148,'ePrijava in Navodila'!$B$13:$H$164,5,FALSE))","v":""},null,{"$f":"IF(E148=\"\",\"\",VLOOKUP(E148,'ePrijava in Navodila'!$B$13:$H$164,7,FALSE))","v":""},null,null,null,null,null,null,0]
[40,null,{"$f":"IF(E149=\"\",\"\",VLOOKUP(E149,'ePrijava in Navodila'!$B$13:$H$164,2,FALSE) & \" \" & VLOOKUP(E149,'ePrijava in Navodila'!$B$13:$H$164,3,FALSE))","v":""},{"$f":"IF(E149=\"\",\"\",VLOOKUP(E149,'ePrijava in Navodila'!$B$13:$H$164,5,FALSE))","v":""},null,{"$f":"IF(E149=\"\",\"\",VLOOKUP(E149,'ePrijava in Navodila'!$B$13:$H$164,7,FALSE))","v":""},null,null,null,null,null,null,0]

{"sheet":"U11-PI","index":5,"n_rows":149,"n_cols":27,"rows_kept":149,"cut":false,"hidden":false,"merged":[[104,0,108,0],[104,1,108,1],[104,2,105,12],[0,2,0,12],[0,18,2,37],[1,0,3,0],[1,1,3,1],[1,2,1,12],[103,4,103,5]]}
[null,null,"POKAL PRIJATELJSTVA ZRAČNA PIŠTOLA - NASLON",null,null,null,null,null,null,null,null,null,null,null,null,null,null,null,"Iz evidence in zavihka ePrijava in Navodila se za tekmovalca v seznam za rezultate v stolpec E vpiše BIB številka pri \"moških\" od vrstice 5 dalje, za \"ženske\"pa od vrstice 110 dalje. Po vpisu BIB bo preneslo vse podatke v ta seznam, kjer se nato vpisujejo rezultati. Vpiše se rezultat serije v K in L  ter nc*. Prav tako se za upoštevanje rezultata ekipno vpišejo samo BIB številke v stolpcu R za vse tri člane ekipe, ki je lahko mešana. Prenos ostalih podatkov je samodejen.  Posamezno se lahko razvrsti, ekipno ostane nerazvrščeno. Dokument mora imeti omogočen makro."]
["mesto",null,"U11 (mlajši dečki)"]
[]
[null,null,"Priimek in ime","Roj.skrita","BIB","Društvo, klub","1. ser","2. ser","3. ser","4. ser","1. ser","2. ser","skupno","nc*"]
[1,null,{"$f":"IF(E5=\"\",\"\",VLOOKUP(E5,'ePrijava in Navodila'!$B$13:$H$164,2,FALSE) & \" \" & VLOOKUP(E5,'ePrijava in Navodila'!$B$13:$H$164,3,FALSE))","v":""},{"$f":"IF(E5=\"\",\"\",VLOOKUP(E5,'ePrijava in Navodila'!$B$13:$H$164,5,FALSE))","v":""},null,{"$f":"IF(E5=\"\",\"\",VLOOKUP(E5,'ePrijava in Navodila'!$B$13:$H$164,7,FALSE))","v":""},null,null,null,null,null,null,{"$f":"SUM(G5:L5)","v":0},null,null,null,null,null,"EKIPNO: "]
[2,null,{"$f":"IF(E6=\"\",\"\",VLOOKUP(E6,'ePrijava in Navodila'!$B$13:$H$164,2,FALSE) & \" \" & VLOOKUP(E6,'ePrijava in Navodila'!$B$13:$H$164,3,FALSE))","v":""},{"$f":"IF(E6=\"\",\"\",VLOOKUP(E6,'ePrijava in Navodila'!$B$13:$H$164,5,FALSE))","v":""},null,{"$f":"IF(E6=\"\",\"\",VLOOKUP(E6,'ePrijava in Navodila'!$B$13:$H$164,7,FALSE))","v":""},null,null,null,null,null,null,0]
[3,null,{"$f":"IF(E7=\"\",\"\",VLOOKUP(E7,'ePrijava in Navodila'!$B$13:$H$164,2,FALSE) & \" \" & VLOOKUP(E7,'ePrijava in Navodila'!$B$13:$H$164,3,FALSE))","v":""},{"$f":"IF(E7=\"\",\"\",VLOOKUP(E7,'ePrijava in Navodila'!$B$13:$H$164,5,FALSE))","v":""},null,{"$f":"IF(E7=\"\",\"\",VLOOKUP(E7,'ePrijava in Navodila'!$B$13:$H$164,7,FALSE))","v":""},null,null,null,null,null,null,0,null,null,null,null,null,{"$f":"IF(R9=\"\",\"\",VLOOKUP(R9,'ePrijava in Navodila'!$B$13:$H$164,7,FALSE))","v":""}]
[4,null,{"$f":"IF(E8=\"\",\"\",VLOOKUP(E8,'ePrijava in Navodila'!$B$13:$H$164,2,FALSE) & \" \" & VLOOKUP(E8,'ePrijava in Navodila'!$B$13:$H$164,3,FALSE))","v":""},{"$f":"IF(E8=\"\",\"\",VLOOKUP(E8,'ePrijava in Navodila'!$B$13:$H$164,5,FALSE))","v":""},null,{"$f":"IF(E8=\"\",\"\",VLOOKUP(E8,'ePrijava in Navodila'!$B$13:$H$164,7,FALSE))","v":""},null,null,null,null,null,null,0,null,null,null,null,"BIB","Priimek in ime","1. ser","2. ser","3. ser","4. ser","1. ser","2. ser","skupno","nc*"]
[5,null,{"$f":"IF(E9=\"\",\"\",VLOOKUP(E9,'ePrijava in Navodila'!$B$13:$H$164,2,FALSE) & \" \" & VLOOKUP(E9,'ePrijava in Navodila'!$B$13:$H$164,3,FALSE))","v":""},{"$f":"IF(E9=\"\",\"\",VLOOKUP(E9,'ePrijava in Navodila'!$B$13:$H$164,5,FALSE))","v":""},null,{"$f":"IF(E9=\"\",\"\",VLOOKUP(E9,'ePrijava in Navodila'!$B$13:$H$164,7,FALSE))","v":""},null,null,null,null,null,null,0,null,null,null,null,null,{"$f":"IF(R9=\"\",\"\",VLOOKUP(R9,'ePrijava in Navodila'!$B$13:$H$164,2,FALSE) & \" \" & VLOOKUP(R9,'ePrijava in Navodila'!$B$13:$H$164,3,FALSE))","v":""},{"$f":"IF(S9=\"\",\"\",VLOOKUP(S9,$C$5:$L$149,5,FALSE))","v":""},{"$f":"IF(S9=\"\",\"\",VLOOKUP(S9,$C$5:$L$149,6,FALSE))","v":""},{"$f":"IF(S9=\"\",\"\",VLOOKUP(S9,$C$5:$L$149,7,FALSE))","v":""},{"$f":"IF(S9=\"\",\"\",VLOOKUP(S9,$C$5:$L$149,8,FALSE))","v":""},{"$f":"IF(S9=\"\",\"\",VLOOKUP(S9,$C$5:$L$149,9,FALSE))","v":""},{"$f":"IF(S9=\"\",\"\",VLOOKUP(S9,$C$5:$L$149,10,FALSE))","v":""},{"$f":"SUM(T9:Y9)","v":0},{"$f":"IF(S9=\"\",\"\",VLOOKUP(S9,$C$5:$N$149,12,FALSE))","v":""}]
[6,null,{"$f":"IF(E10=\"\",\"\",VLOOKUP(E10,'ePrijava in Navodila'!$B$13:$H$164,2,FALSE) & \" \" & VLOOKUP(E10,'ePrijava in Navodila'!$B$13:$H$164,3,FALSE))","v":""},{"$f":"IF(E10=\"\",\"\",VLOOKUP(E10,'ePrijava in Navodila'!$B$13:$H$164,5,FALSE))","v":""},null,{"$f":"IF(E10=\"\",\"\",VLOOKUP(E10,'ePrijava in Navodila'!$B$13:$H$164,7,FALSE))","v":""},null,null,null,null,null,null,0,null,null,null,null,null,{"$f":"IF(R10=\"\",\"\",VLOOKUP(R10,'ePrijava in Navodila'!$B$13:$H$164,2,FALSE) & \" \" & VLOOKUP(R10,'ePrijava in Navodila'!$B$13:$H$164,3,FALSE))","v":""},{"$f":"IF(S10=\"\",\"\",VLOOKUP(S10,$C$5:$L$149,5,FALSE))","v":""},{"$f":"IF(S10=\"\",\"\",VLOOKUP(S10,$C$5:$L$149,6,FALSE))","v":""},{"$f":"IF(S10=\"\",\"\",VLOOKUP(S10,$C$5:$L$149,7,FALSE))","v":""},{"$f":"IF(S10=\"\",\"\",VLOOKUP(S10,$C$5:$L$149,8,FALSE))","v":""},{"$f":"IF(S10=\"\",\"\",VLOOKUP(S10,$C$5:$L$149,9,FALSE))","v":""},{"$f":"IF(S10=\"\",\"\",VLOOKUP(S10,$C$5:$L$149,10,FALSE))","v":""},{"$f":"SUM(T10:Y10)","v":0},{"$f":"IF(S10=\"\",\"\",VLOOKUP(S10,$C$5:$N$149,12,FALSE))","v":""}]
[7,null,{"$f":"IF(E11=\"\",\"\",VLOOKUP(E11,'ePrijava in Navodila'!$B$13:$H$164,2,FALSE) & \" \" & VLOOKUP(E11,'ePrijava in Navodila'!$B$13:$H$164,3,FALSE))","v":""},{"$f":"IF(E11=\"\",\"\",VLOOKUP(E11,'ePrijava in Navodila'!$B$13:$H$164,5,FALSE))","v":""},null,{"$f":"IF(E11=\"\",\"\",VLOOKUP(E11,'ePrijava in Navodila'!$B$13:$H$164,7,FALSE))","v":""},null,null,null,null,null,null,0,null,null,null,null,null,{"$f":"IF(R11=\"\",\"\",VLOOKUP(R11,'ePrijava in Navodila'!$B$13:$H$164,2,FALSE) & \" \" & VLOOKUP(R11,'ePrijava in Navodila'!$B$13:$H$164,3,FALSE))","v":""},{"$f":"IF(S11=\"\",\"\",VLOOKUP(S11,$C$5:$L$149,5,FALSE))","v":""},{"$f":"IF(S11=\"\",\"\",VLOOKUP(S11,$C$5:$L$149,6,FALSE))","v":""},{"$f":"IF(S11=\"\",\"\",VLOOKUP(S11,$C$5:$L$149,7,FALSE))","v":""},{"$f":"IF(S11=\"\",\"\",VLOOKUP(S11,$C$5:$L$149,8,FALSE))","v":""},{"$f":"IF(S11=\"\",\"\",VLOOKUP(S11,$C$5:$L$149,9,FALSE))","v":""},{"$f":"IF(S11=\"\",\"\",VLOOKUP(S11,$C$5:$L$149,10,FALSE))","v":""},{"$f":"SUM(T11:Y11)","v":0},{"$f":"IF(S11=\"\",\"\",VLOOKUP(S11,$C$5:$N$149,12,FALSE))","v":""}]
[8,null,{"$f":"IF(E12=\"\",\"\",VLOOKUP(E12,'ePrijava in Navodila'!$B$13:$H$164,2,FALSE) & \" \" & VLOOKUP(E12,'ePrijava in Navodila'!$B$13:$H$164,3,FALSE))","v":""},{"$f":"IF(E12=\"\",\"\",VLOOKUP(E12,'ePrijava in Navodila'!$B$13:$H$164,5,FALSE))","v":""},null,{"$f":"IF(E12=\"\",\"\",VLOOKUP(E12,'ePrijava in Navodila'!$B$13:$H$164,7,FALSE))","v":""},null,null,null,null,null,null,0,null,null,null,null,null,null,null,null,null,null,null,{"$f":"SUM(Y9:Y11)","v":0},{"$f":"SUM(Z9:Z11)","v":0},{"$f":"SUM(AA9:AA11)","v":0}]
[9,null,{"$f":"IF(E13=\"\",\"\",VLOOKUP(E13,'ePrijava in Navodila'!$B$13:$H$164,2,FALSE) & \" \" & VLOOKUP(E13,'ePrijava in Navodila'!$B$13:$H$164,3,FALSE))","v":""},{"$f":"IF(E13=\"\",\"\",VLOOKUP(E13,'ePrijava in Navodila'!$B$13:$H$164,5,FALSE))","v":""},null,{"$f":"IF(E13=\"\",\"\",VLOOKUP(E13,'ePrijava in Navodila'!$B$13:$H$164,7,FALSE))","v":""},null,null,null,null,null,null,0]
[10,null,{"$f":"IF(E14=\"\",\"\",VLOOKUP(E14,'ePrijava in Navodila'!$B$13:$H$164,2,FALSE) & \" \" & VLOOKUP(E14,'ePrijava in Navodila'!$B$13:$H$164,3,FALSE))","v":""},{"$f":"IF(E14=\"\",\"\",VLOOKUP(E14,'ePrijava in Navodila'!$B$13:$H$164,5,FALSE))","v":""},null,{"$f":"IF(E14=\"\",\"\",VLOOKUP(E14,'ePrijava in Navodila'!$B$13:$H$164,7,FALSE))","v":""},null,null,null,null,null,null,0]
[11,null,{"$f":"IF(E15=\"\",\"\",VLOOKUP(E15,'ePrijava in Navodila'!$B$13:$H$164,2,FALSE) & \" \" & VLOOKUP(E15,'ePrijava in Navodila'!$B$13:$H$164,3,FALSE))","v":""},{"$f":"IF(E15=\"\",\"\",VLOOKUP(E15,'ePrijava in Navodila'!$B$13:$H$164,5,FALSE))","v":""},null,{"$f":"IF(E15=\"\",\"\",VLOOKUP(E15,'ePrijava in Navodila'!$B$13:$H$164,7,FALSE))","v":""},null,null,null,null,null,null,0,null,null,null,null,null,{"$f":"IF(R17=\"\",\"\",VLOOKUP(R17,'ePrijava in Navodila'!$B$13:$H$164,7,FALSE))","v":""}]
[12,null,{"$f":"IF(E16=\"\",\"\",VLOOKUP(E16,'ePrijava in Navodila'!$B$13:$H$164,2,FALSE) & \" \" & VLOOKUP(E16,'ePrijava in Navodila'!$B$13:$H$164,3,FALSE))","v":""},{"$f":"IF(E16=\"\",\"\",VLOOKUP(E16,'ePrijava in Navodila'!$B$13:$H$164,5,FALSE))","v":""},null,{"$f":"IF(E16=\"\",\"\",VLOOKUP(E16,'ePrijava in Navodila'!$B$13:$H$164,7,FALSE))","v":""},null,null,null,null,null,null,0,null,null,null,null,"BIB","Priimek in ime","1. ser","2. ser","3. ser","4. ser","1. ser","2. ser","skupno","nc*"]
[13,null,{"$f":"IF(E17=\"\",\"\",VLOOKUP(E17,'ePrijava in Navodila'!$B$13:$H$164,2,FALSE) & \" \" & VLOOKUP(E17,'ePrijava in Navodila'!$B$13:$H$164,3,FALSE))","v":""},{"$f":"IF(E17=\"\",\"\",VLOOKUP(E17,'ePrijava in Navodila'!$B$13:$H$164,5,FALSE))","v":""},null,{"$f":"IF(E17=\"\",\"\",VLOOKUP(E17,'ePrijava in Navodila'!$B$13:$H$164,7,FALSE))","v":""},null,null,null,null,null,null,0,null,null,null,null,null,{"$f":"IF(R17=\"\",\"\",VLOOKUP(R17,'ePrijava in Navodila'!$B$13:$H$164,2,FALSE) & \" \" & VLOOKUP(R17,'ePrijava in Navodila'!$B$13:$H$164,3,FALSE))","v":""},{"$f":"IF(S17=\"\",\"\",VLOOKUP(S17,$C$5:$L$149,5,FALSE))","v":""},{"$f":"IF(S17=\"\",\"\",VLOOKUP(S17,$C$5:$L$149,6,FALSE))","v":""},{"$f":"IF(S17=\"\",\"\",VLOOKUP(S17,$C$5:$L$149,7,FALSE))","v":""},{"$f":"IF(S17=\"\",\"\",VLOOKUP(S17,$C$5:$L$149,8,FALSE))","v":""},{"$f":"IF(S17=\"\",\"\",VLOOKUP(S17,$C$5:$L$149,9,FALSE))","v":""},{"$f":"IF(S17=\"\",\"\",VLOOKUP(S17,$C$5:$L$149,10,FALSE))","v":""},{"$f":"SUM(T17:Y17)","v":0},{"$f":"IF(S17=\"\",\"\",VLOOKUP(S17,$C$5:$N$149,12,FALSE))","v":""}]
[14,null,{"$f":"IF(E18=\"\",\"\",VLOOKUP(E18,'ePrijava in Navodila'!$B$13:$H$164,2,FALSE) & \" \" & VLOOKUP(E18,'ePrijava in Navodila'!$B$13:$H$164,3,FALSE))","v":""},{"$f":"IF(E18=\"\",\"\",VLOOKUP(E18,'ePrijava in Navodila'!$B$13:$H$164,5,FALSE))","v":""},null,{"$f":"IF(E18=\"\",\"\",VLOOKUP(E18,'ePrijava in Navodila'!$B$13:$H$164,7,FALSE))","v":""},null,null,null,null,null,null,0,null,null,null,null,null,{"$f":"IF(R18=\"\",\"\",VLOOKUP(R18,'ePrijava in Navodila'!$B$13:$H$164,2,FALSE) & \" \" & VLOOKUP(R18,'ePrijava in Navodila'!$B$13:$H$164,3,FALSE))","v":""},{"$f":"IF(S18=\"\",\"\",VLOOKUP(S18,$C$5:$L$149,5,FALSE))","v":""},{"$f":"IF(S18=\"\",\"\",VLOOKUP(S18,$C$5:$L$149,6,FALSE))","v":""},{"$f":"IF(S18=\"\",\"\",VLOOKUP(S18,$C$5:$L$149,7,FALSE))","v":""},{"$f":"IF(S18=\"\",\"\",VLOOKUP(S18,$C$5:$L$149,8,FALSE))","v":""},{"$f":"IF(S18=\"\",\"\",VLOOKUP(S18,$C$5:$L$149,9,FALSE))","v":""},{"$f":"IF(S18=\"\",\"\",VLOOKUP(S18,$C$5:$L$149,10,FALSE))","v":""},{"$f":"SUM(T18:Y18)","v":0},{"$f":"IF(S18=\"\",\"\",VLOOKUP(S18,$C$5:$N$149,12,FALSE))","v":""}]
[15,null,{"$f":"IF(E19=\"\",\"\",VLOOKUP(E19,'ePrijava in Navodila'!$B$13:$H$164,2,FALSE) & \" \" & VLOOKUP(E19,'ePrijava in Navodila'!$B$13:$H$164,3,FALSE))","v":""},{"$f":"IF(E19=\"\",\"\",VLOOKUP(E19,'ePrijava in Navodila'!$B$13:$H$164,5,FALSE))","v":""},null,{"$f":"IF(E19=\"\",\"\",VLOOKUP(E19,'ePrijava in Navodila'!$B$13:$H$164,7,FALSE))","v":""},null,null,null,null,null,null,0,null,null,null,null,null,{"$f":"IF(R19=\"\",\"\",VLOOKUP(R19,'ePrijava in Navodila'!$B$13:$H$164,2,FALSE) & \" \" & VLOOKUP(R19,'ePrijava in Navodila'!$B$13:$H$164,3,FALSE))","v":""},{"$f":"IF(S19=\"\",\"\",VLOOKUP(S19,$C$5:$L$149,5,FALSE))","v":""},{"$f":"IF(S19=\"\",\"\",VLOOKUP(S19,$C$5:$L$149,6,FALSE))","v":""},{"$f":"IF(S19=\"\",\"\",VLOOKUP(S19,$C$5:$L$149,7,FALSE))","v":""},{"$f":"IF(S19=\"\",\"\",VLOOKUP(S19,$C$5:$L$149,8,FALSE))","v":""},{"$f":"IF(S19=\"\",\"\",VLOOKUP(S19,$C$5:$L$149,9,FALSE))","v":""},{"$f":"IF(S19=\"\",\"\",VLOOKUP(S19,$C$5:$L$149,10,FALSE))","v":""},{"$f":"SUM(T19:Y19)","v":0},{"$f":"IF(S19=\"\",\"\",VLOOKUP(S19,$C$5:$N$149,12,FALSE))","v":""}]
[16,null,{"$f":"IF(E20=\"\",\"\",VLOOKUP(E20,'ePrijava in Navodila'!$B$13:$H$164,2,FALSE) & \" \" & VLOOKUP(E20,'ePrijava in Navodila'!$B$13:$H$164,3,FALSE))","v":""},{"$f":"IF(E20=\"\",\"\",VLOOKUP(E20,'ePrijava in Navodila'!$B$13:$H$164,5,FALSE))","v":""},null,{"$f":"IF(E20=\"\",\"\",VLOOKUP(E20,'ePrijava in Navodila'!$B$13:$H$164,7,FALSE))","v":""},null,null,null,null,null,null,0,null,null,null,null,null,null,null,null,null,null,null,{"$f":"SUM(Y17:Y19)","v":0},{"$f":"SUM(Z17:Z19)","v":0},{"$f":"SUM(AA17:AA19)","v":0}]
[17,null,{"$f":"IF(E21=\"\",\"\",VLOOKUP(E21,'ePrijava in Navodila'!$B$13:$H$164,2,FALSE) & \" \" & VLOOKUP(E21,'ePrijava in Navodila'!$B$13:$H$164,3,FALSE))","v":""},{"$f":"IF(E21=\"\",\"\",VLOOKUP(E21,'ePrijava in Navodila'!$B$13:$H$164,5,FALSE))","v":""},null,{"$f":"IF(E21=\"\",\"\",VLOOKUP(E21,'ePrijava in Navodila'!$B$13:$H$164,7,FALSE))","v":""},null,null,null,null,null,null,0]
[18,null,{"$f":"IF(E22=\"\",\"\",VLOOKUP(E22,'ePrijava in Navodila'!$B$13:$H$164,2,FALSE) & \" \" & VLOOKUP(E22,'ePrijava in Navodila'!$B$13:$H$164,3,FALSE))","v":""},{"$f":"IF(E22=\"\",\"\",VLOOKUP(E22,'ePrijava in Navodila'!$B$13:$H$164,5,FALSE))","v":""},null,{"$f":"IF(E22=\"\",\"\",VLOOKUP(E22,'ePrijava in Navodila'!$B$13:$H$164,7,FALSE))","v":""},null,null,null,null,null,null,0]
[19,null,{"$f":"IF(E23=\"\",\"\",VLOOKUP(E23,'ePrijava in Navodila'!$B$13:$H$164,2,FALSE) & \" \" & VLOOKUP(E23,'ePrijava in Navodila'!$B$13:$H$164,3,FALSE))","v":""},{"$f":"IF(E23=\"\",\"\",VLOOKUP(E23,'ePrijava in Navodila'!$B$13:$H$164,5,FALSE))","v":""},null,{"$f":"IF(E23=\"\",\"\",VLOOKUP(E23,'ePrijava in Navodila'!$B$13:$H$164,7,FALSE))","v":""},null,null,null,null,null,null,0,null,null,null,null,null,{"$f":"IF(R25=\"\",\"\",VLOOKUP(R25,'ePrijava in Navodila'!$B$13:$H$164,7,FALSE))","v":""}]
[20,null,{"$f":"IF(E24=\"\",\"\",VLOOKUP(E24,'ePrijava in Navodila'!$B$13:$H$164,2,FALSE) & \" \" & VLOOKUP(E24,'ePrijava in Navodila'!$B$13:$H$164,3,FALSE))","v":""},{"$f":"IF(E24=\"\",\"\",VLOOKUP(E24,'ePrijava in Navodila'!$B$13:$H$164,5,FALSE))","v":""},null,{"$f":"IF(E24=\"\",\"\",VLOOKUP(E24,'ePrijava in Navodila'!$B$13:$H$164,7,FALSE))","v":""},null,null,null,null,null,null,0,null,null,null,null,"BIB","Priimek in ime","1. ser","2. ser","3. ser","4. ser","1. ser","2. ser","skupno","nc*"]
[21,null,{"$f":"IF(E25=\"\",\"\",VLOOKUP(E25,'ePrijava in Navodila'!$B$13:$H$164,2,FALSE) & \" \" & VLOOKUP(E25,'ePrijava in Navodila'!$B$13:$H$164,3,FALSE))","v":""},{"$f":"IF(E25=\"\",\"\",VLOOKUP(E25,'ePrijava in Navodila'!$B$13:$H$164,5,FALSE))","v":""},null,{"$f":"IF(E25=\"\",\"\",VLOOKUP(E25,'ePrijava in Navodila'!$B$13:$H$164,7,FALSE))","v":""},null,null,null,null,null,null,0,null,null,null,null,null,{"$f":"IF(R25=\"\",\"\",VLOOKUP(R25,'ePrijava in Navodila'!$B$13:$H$164,2,FALSE) & \" \" & VLOOKUP(R25,'ePrijava in Navodila'!$B$13:$H$164,3,FALSE))","v":""},{"$f":"IF(S25=\"\",\"\",VLOOKUP(S25,$C$5:$L$149,5,FALSE))","v":""},{"$f":"IF(S25=\"\",\"\",VLOOKUP(S25,$C$5:$L$149,6,FALSE))","v":""},{"$f":"IF(S25=\"\",\"\",VLOOKUP(S25,$C$5:$L$149,7,FALSE))","v":""},{"$f":"IF(S25=\"\",\"\",VLOOKUP(S25,$C$5:$L$149,8,FALSE))","v":""},{"$f":"IF(S25=\"\",\"\",VLOOKUP(S25,$C$5:$L$149,9,FALSE))","v":""},{"$f":"IF(S25=\"\",\"\",VLOOKUP(S25,$C$5:$L$149,10,FALSE))","v":""},{"$f":"SUM(T25:Y25)","v":0},{"$f":"IF(S25=\"\",\"\",VLOOKUP(S25,$C$5:$N$149,12,FALSE))","v":""}]
[22,null,{"$f":"IF(E26=\"\",\"\",VLOOKUP(E26,'ePrijava in Navodila'!$B$13:$H$164,2,FALSE) & \" \" & VLOOKUP(E26,'ePrijava in Navodila'!$B$13:$H$164,3,FALSE))","v":""},{"$f":"IF(E26=\"\",\"\",VLOOKUP(E26,'ePrijava in Navodila'!$B$13:$H$164,5,FALSE))","v":""},null,{"$f":"IF(E26=\"\",\"\",VLOOKUP(E26,'ePrijava in Navodila'!$B$13:$H$164,7,FALSE))","v":""},null,null,null,null,null,null,0,null,null,null,null,null,{"$f":"IF(R26=\"\",\"\",VLOOKUP(R26,'ePrijava in Navodila'!$B$13:$H$164,2,FALSE) & \" \" & VLOOKUP(R26,'ePrijava in Navodila'!$B$13:$H$164,3,FALSE))","v":""},{"$f":"IF(S26=\"\",\"\",VLOOKUP(S26,$C$5:$L$149,5,FALSE))","v":""},{"$f":"IF(S26=\"\",\"\",VLOOKUP(S26,$C$5:$L$149,6,FALSE))","v":""},{"$f":"IF(S26=\"\",\"\",VLOOKUP(S26,$C$5:$L$149,7,FALSE))","v":""},{"$f":"IF(S26=\"\",\"\",VLOOKUP(S26,$C$5:$L$149,8,FALSE))","v":""},{"$f":"IF(S26=\"\",\"\",VLOOKUP(S26,$C$5:$L$149,9,FALSE))","v":""},{"$f":"IF(S26=\"\",\"\",VLOOKUP(S26,$C$5:$L$149,10,FALSE))","v":""},{"$f":"SUM(T26:Y26)","v":0},{"$f":"IF(S26=\"\",\"\",VLOOKUP(S26,$C$5:$N$149,12,FALSE))","v":""}]
[23,null,{"$f":"IF(E27=\"\",\"\",VLOOKUP(E27,'ePrijava in Navodila'!$B$13:$H$164,2,FALSE) & \" \" & VLOOKUP(E27,'ePrijava in Navodila'!$B$13:$H$164,3,FALSE))","v":""},{"$f":"IF(E27=\"\",\"\",VLOOKUP(E27,'ePrijava in Navodila'!$B$13:$H$164,5,FALSE))","v":""},null,{"$f":"IF(E27=\"\",\"\",VLOOKUP(E27,'ePrijava in Navodila'!$B$13:$H$164,7,FALSE))","v":""},null,null,null,null,null,null,0,null,null,null,null,null,{"$f":"IF(R27=\"\",\"\",VLOOKUP(R27,'ePrijava in Navodila'!$B$13:$H$164,2,FALSE) & \" \" & VLOOKUP(R27,'ePrijava in Navodila'!$B$13:$H$164,3,FALSE))","v":""},{"$f":"IF(S27=\"\",\"\",VLOOKUP(S27,$C$5:$L$149,5,FALSE))","v":""},{"$f":"IF(S27=\"\",\"\",VLOOKUP(S27,$C$5:$L$149,6,FALSE))","v":""},{"$f":"IF(S27=\"\",\"\",VLOOKUP(S27,$C$5:$L$149,7,FALSE))","v":""},{"$f":"IF(S27=\"\",\"\",VLOOKUP(S27,$C$5:$L$149,8,FALSE))","v":""},{"$f":"IF(S27=\"\",\"\",VLOOKUP(S27,$C$5:$L$149,9,FALSE))","v":""},{"$f":"IF(S27=\"\",\"\",VLOOKUP(S27,$C$5:$L$149,10,FALSE))","v":""},{"$f":"SUM(T27:Y27)","v":0},{"$f":"IF(S27=\"\",\"\",VLOOKUP(S27,$C$5:$N$149,12,FALSE))","v":""}]
[24,null,{"$f":"IF(E28=\"\",\"\",VLOOKUP(E28,'ePrijava in Navodila'!$B$13:$H$164,2,FALSE) & \" \" & VLOOKUP(E28,'ePrijava in Navodila'!$B$13:$H$164,3,FALSE))","v":""},{"$f":"IF(E28=\"\",\"\",VLOOKUP(E28,'ePrijava in Navodila'!$B$13:$H$164,5,FALSE))","v":""},null,{"$f":"IF(E28=\"\",\"\",VLOOKUP(E28,'ePrijava in Navodila'!$B$13:$H$164,7,FALSE))","v":""},null,null,null,null,null,null,0,null,null,null,null,null,null,null,null,null,null,null,{"$f":"SUM(Y25:Y27)","v":0},{"$f":"SUM(Z25:Z27)","v":0},{"$f":"SUM(AA25:AA27)","v":0}]
[25,null,{"$f":"IF(E29=\"\",\"\",VLOOKUP(E29,'ePrijava in Navodila'!$B$13:$H$164,2,FALSE) & \" \" & VLOOKUP(E29,'ePrijava in Navodila'!$B$13:$H$164,3,FALSE))","v":""},{"$f":"IF(E29=\"\",\"\",VLOOKUP(E29,'ePrijava in Navodila'!$B$13:$H$164,5,FALSE))","v":""},null,{"$f":"IF(E29=\"\",\"\",VLOOKUP(E29,'ePrijava in Navodila'!$B$13:$H$164,7,FALSE))","v":""},null,null,null,null,null,null,0]
[26,null,{"$f":"IF(E30=\"\",\"\",VLOOKUP(E30,'ePrijava in Navodila'!$B$13:$H$164,2,FALSE) & \" \" & VLOOKUP(E30,'ePrijava in Navodila'!$B$13:$H$164,3,FALSE))","v":""},{"$f":"IF(E30=\"\",\"\",VLOOKUP(E30,'ePrijava in Navodila'!$B$13:$H$164,5,FALSE))","v":""},null,{"$f":"IF(E30=\"\",\"\",VLOOKUP(E30,'ePrijava in Navodila'!$B$13:$H$164,7,FALSE))","v":""},null,null,null,null,null,null,0]
[27,null,{"$f":"IF(E31=\"\",\"\",VLOOKUP(E31,'ePrijava in Navodila'!$B$13:$H$164,2,FALSE) & \" \" & VLOOKUP(E31,'ePrijava in Navodila'!$B$13:$H$164,3,FALSE))","v":""},{"$f":"IF(E31=\"\",\"\",VLOOKUP(E31,'ePrijava in Navodila'!$B$13:$H$164,5,FALSE))","v":""},null,{"$f":"IF(E31=\"\",\"\",VLOOKUP(E31,'ePrijava in Navodila'!$B$13:$H$164,7,FALSE))","v":""},null,null,null,null,null,null,0,null,null,null,null,null,{"$f":"IF(R33=\"\",\"\",VLOOKUP(R33,'ePrijava in Navodila'!$B$13:$H$164,7,FALSE))","v":""}]
[28,null,{"$f":"IF(E32=\"\",\"\",VLOOKUP(E32,'ePrijava in Navodila'!$B$13:$H$164,2,FALSE) & \" \" & VLOOKUP(E32,'ePrijava in Navodila'!$B$13:$H$164,3,FALSE))","v":""},{"$f":"IF(E32=\"\",\"\",VLOOKUP(E32,'ePrijava in Navodila'!$B$13:$H$164,5,FALSE))","v":""},null,{"$f":"IF(E32=\"\",\"\",VLOOKUP(E32,'ePrijava in Navodila'!$B$13:$H$164,7,FALSE))","v":""},null,null,null,null,null,null,0,null,null,null,null,"BIB","Priimek in ime","1. ser","2. ser","3. ser","4. ser","1. ser","2. ser","skupno","nc*"]
[29,null,{"$f":"IF(E33=\"\",\"\",VLOOKUP(E33,'ePrijava in Navodila'!$B$13:$H$164,2,FALSE) & \" \" & VLOOKUP(E33,'ePrijava in Navodila'!$B$13:$H$164,3,FALSE))","v":""},{"$f":"IF(E33=\"\",\"\",VLOOKUP(E33,'ePrijava in Navodila'!$B$13:$H$164,5,FALSE))","v":""},null,{"$f":"IF(E33=\"\",\"\",VLOOKUP(E33,'ePrijava in Navodila'!$B$13:$H$164,7,FALSE))","v":""},null,null,null,null,null,null,0,null,null,null,null,null,{"$f":"IF(R33=\"\",\"\",VLOOKUP(R33,'ePrijava in Navodila'!$B$13:$H$164,2,FALSE) & \" \" & VLOOKUP(R33,'ePrijava in Navodila'!$B$13:$H$164,3,FALSE))","v":""},{"$f":"IF(S33=\"\",\"\",VLOOKUP(S33,$C$5:$L$149,5,FALSE))","v":""},{"$f":"IF(S33=\"\",\"\",VLOOKUP(S33,$C$5:$L$149,6,FALSE))","v":""},{"$f":"IF(S33=\"\",\"\",VLOOKUP(S33,$C$5:$L$149,7,FALSE))","v":""},{"$f":"IF(S33=\"\",\"\",VLOOKUP(S33,$C$5:$L$149,8,FALSE))","v":""},{"$f":"IF(S33=\"\",\"\",VLOOKUP(S33,$C$5:$L$149,9,FALSE))","v":""},{"$f":"IF(S33=\"\",\"\",VLOOKUP(S33,$C$5:$L$149,10,FALSE))","v":""},{"$f":"SUM(T33:Y33)","v":0},{"$f":"IF(S33=\"\",\"\",VLOOKUP(S33,$C$5:$N$149,12,FALSE))","v":""}]
[30,null,{"$f":"IF(E34=\"\",\"\",VLOOKUP(E34,'ePrijava in Navodila'!$B$13:$H$164,2,FALSE) & \" \" & VLOOKUP(E34,'ePrijava in Navodila'!$B$13:$H$164,3,FALSE))","v":""},{"$f":"IF(E34=\"\",\"\",VLOOKUP(E34,'ePrijava in Navodila'!$B$13:$H$164,5,FALSE))","v":""},null,{"$f":"IF(E34=\"\",\"\",VLOOKUP(E34,'ePrijava in Navodila'!$B$13:$H$164,7,FALSE))","v":""},null,null,null,null,null,null,0,null,null,null,null,null,{"$f":"IF(R34=\"\",\"\",VLOOKUP(R34,'ePrijava in Navodila'!$B$13:$H$164,2,FALSE) & \" \" & VLOOKUP(R34,'ePrijava in Navodila'!$B$13:$H$164,3,FALSE))","v":""},{"$f":"IF(S34=\"\",\"\",VLOOKUP(S34,$C$5:$L$149,5,FALSE))","v":""},{"$f":"IF(S34=\"\",\"\",VLOOKUP(S34,$C$5:$L$149,6,FALSE))","v":""},{"$f":"IF(S34=\"\",\"\",VLOOKUP(S34,$C$5:$L$149,7,FALSE))","v":""},{"$f":"IF(S34=\"\",\"\",VLOOKUP(S34,$C$5:$L$149,8,FALSE))","v":""},{"$f":"IF(S34=\"\",\"\",VLOOKUP(S34,$C$5:$L$149,9,FALSE))","v":""},{"$f":"IF(S34=\"\",\"\",VLOOKUP(S34,$C$5:$L$149,10,FALSE))","v":""},{"$f":"SUM(T34:Y34)","v":0},{"$f":"IF(S34=\"\",\"\",VLOOKUP(S34,$C$5:$N$149,12,FALSE))","v":""}]
[31,null,{"$f":"IF(E35=\"\",\"\",VLOOKUP(E35,'ePrijava in Navodila'!$B$13:$H$164,2,FALSE) & \" \" & VLOOKUP(E35,'ePrijava in Navodila'!$B$13:$H$164,3,FALSE))","v":""},{"$f":"IF(E35=\"\",\"\",VLOOKUP(E35,'ePrijava in Navodila'!$B$13:$H$164,5,FALSE))","v":""},null,{"$f":"IF(E35=\"\",\"\",VLOOKUP(E35,'ePrijava in Navodila'!$B$13:$H$164,7,FALSE))","v":""},null,null,null,null,null,null,0,null,null,null,null,null,{"$f":"IF(R35=\"\",\"\",VLOOKUP(R35,'ePrijava in Navodila'!$B$13:$H$164,2,FALSE) & \" \" & VLOOKUP(R35,'ePrijava in Navodila'!$B$13:$H$164,3,FALSE))","v":""},{"$f":"IF(S35=\"\",\"\",VLOOKUP(S35,$C$5:$L$149,5,FALSE))","v":""},{"$f":"IF(S35=\"\",\"\",VLOOKUP(S35,$C$5:$L$149,6,FALSE))","v":""},{"$f":"IF(S35=\"\",\"\",VLOOKUP(S35,$C$5:$L$149,7,FALSE))","v":""},{"$f":"IF(S35=\"\",\"\",VLOOKUP(S35,$C$5:$L$149,8,FALSE))","v":""},{"$f":"IF(S35=\"\",\"\",VLOOKUP(S35,$C$5:$L$149,9,FALSE))","v":""},{"$f":"IF(S35=\"\",\"\",VLOOKUP(S35,$C$5:$L$149,10,FALSE))","v":""},{"$f":"SUM(T35:Y35)","v":0},{"$f":"IF(S35=\"\",\"\",VLOOKUP(S35,$C$5:$N$149,12,FALSE))","v":""}]
[32,null,{"$f":"IF(E36=\"\",\"\",VLOOKUP(E36,'ePrijava in Navodila'!$B$13:$H$164,2,FALSE) & \" \" & VLOOKUP(E36,'ePrijava in Navodila'!$B$13:$H$164,3,FALSE))","v":""},{"$f":"IF(E36=\"\",\"\",VLOOKUP(E36,'ePrijava in Navodila'!$B$13:$H$164,5,FALSE))","v":""},null,{"$f":"IF(E36=\"\",\"\",VLOOKUP(E36,'ePrijava in Navodila'!$B$13:$H$164,7,FALSE))","v":""},null,null,null,null,null,null,0,null,null,null,null,null,null,null,null,null,null,null,{"$f":"SUM(Y33:Y35)","v":0},{"$f":"SUM(Z33:Z35)","v":0},{"$f":"SUM(AA33:AA35)","v":0}]
[33,null,{"$f":"IF(E37=\"\",\"\",VLOOKUP(E37,'ePrijava in Navodila'!$B$13:$H$164,2,FALSE) & \" \" & VLOOKUP(E37,'ePrijava in Navodila'!$B$13:$H$164,3,FALSE))","v":""},{"$f":"IF(E37=\"\",\"\",VLOOKUP(E37,'ePrijava in Navodila'!$B$13:$H$164,5,FALSE))","v":""},null,{"$f":"IF(E37=\"\",\"\",VLOOKUP(E37,'ePrijava in Navodila'!$B$13:$H$164,7,FALSE))","v":""},null,null,null,null,null,null,0]
[34,null,{"$f":"IF(E38=\"\",\"\",VLOOKUP(E38,'ePrijava in Navodila'!$B$13:$H$164,2,FALSE) & \" \" & VLOOKUP(E38,'ePrijava in Navodila'!$B$13:$H$164,3,FALSE))","v":""},{"$f":"IF(E38=\"\",\"\",VLOOKUP(E38,'ePrijava in Navodila'!$B$13:$H$164,5,FALSE))","v":""},null,{"$f":"IF(E38=\"\",\"\",VLOOKUP(E38,'ePrijava in Navodila'!$B$13:$H$164,7,FALSE))","v":""},null,null,null,null,null,null,0]
[35,null,{"$f":"IF(E39=\"\",\"\",VLOOKUP(E39,'ePrijava in Navodila'!$B$13:$H$164,2,FALSE) & \" \" & VLOOKUP(E39,'ePrijava in Navodila'!$B$13:$H$164,3,FALSE))","v":""},{"$f":"IF(E39=\"\",\"\",VLOOKUP(E39,'ePrijava in Navodila'!$B$13:$H$164,5,FALSE))","v":""},null,{"$f":"IF(E39=\"\",\"\",VLOOKUP(E39,'ePrijava in Navodila'!$B$13:$H$164,7,FALSE))","v":""},null,null,null,null,null,null,0,null,null,null,null,null,{"$f":"IF(R41=\"\",\"\",VLOOKUP(R41,'ePrijava in Navodila'!$B$13:$H$164,7,FALSE))","v":""}]
[36,null,{"$f":"IF(E40=\"\",\"\",VLOOKUP(E40,'ePrijava in Navodila'!$B$13:$H$164,2,FALSE) & \" \" & VLOOKUP(E40,'ePrijava in Navodila'!$B$13:$H$164,3,FALSE))","v":""},{"$f":"IF(E40=\"\",\"\",VLOOKUP(E40,'ePrijava in Navodila'!$B$13:$H$164,5,FALSE))","v":""},null,{"$f":"IF(E40=\"\",\"\",VLOOKUP(E40,'ePrijava in Navodila'!$B$13:$H$164,7,FALSE))","v":""},null,null,null,null,null,null,0,null,null,null,null,"BIB","Priimek in ime","1. ser","2. ser","3. ser","4. ser","1. ser","2. ser","skupno","nc*"]
[37,null,{"$f":"IF(E41=\"\",\"\",VLOOKUP(E41,'ePrijava in Navodila'!$B$13:$H$164,2,FALSE) & \" \" & VLOOKUP(E41,'ePrijava in Navodila'!$B$13:$H$164,3,FALSE))","v":""},{"$f":"IF(E41=\"\",\"\",VLOOKUP(E41,'ePrijava in Navodila'!$B$13:$H$164,5,FALSE))","v":""},null,{"$f":"IF(E41=\"\",\"\",VLOOKUP(E41,'ePrijava in Navodila'!$B$13:$H$164,7,FALSE))","v":""},null,null,null,null,null,null,0,null,null,null,null,null,{"$f":"IF(R41=\"\",\"\",VLOOKUP(R41,'ePrijava in Navodila'!$B$13:$H$164,2,FALSE) & \" \" & VLOOKUP(R41,'ePrijava in Navodila'!$B$13:$H$164,3,FALSE))","v":""},{"$f":"IF(S41=\"\",\"\",VLOOKUP(S41,$C$5:$L$149,5,FALSE))","v":""},{"$f":"IF(S41=\"\",\"\",VLOOKUP(S41,$C$5:$L$149,6,FALSE))","v":""},{"$f":"IF(S41=\"\",\"\",VLOOKUP(S41,$C$5:$L$149,7,FALSE))","v":""},{"$f":"IF(S41=\"\",\"\",VLOOKUP(S41,$C$5:$L$149,8,FALSE))","v":""},{"$f":"IF(S41=\"\",\"\",VLOOKUP(S41,$C$5:$L$149,9,FALSE))","v":""},{"$f":"IF(S41=\"\",\"\",VLOOKUP(S41,$C$5:$L$149,10,FALSE))","v":""},{"$f":"SUM(T41:Y41)","v":0},{"$f":"IF(S41=\"\",\"\",VLOOKUP(S41,$C$5:$N$149,12,FALSE))","v":""}]
[38,null,{"$f":"IF(E42=\"\",\"\",VLOOKUP(E42,'ePrijava in Navodila'!$B$13:$H$164,2,FALSE) & \" \" & VLOOKUP(E42,'ePrijava in Navodila'!$B$13:$H$164,3,FALSE))","v":""},{"$f":"IF(E42=\"\",\"\",VLOOKUP(E42,'ePrijava in Navodila'!$B$13:$H$164,5,FALSE))","v":""},null,{"$f":"IF(E42=\"\",\"\",VLOOKUP(E42,'ePrijava in Navodila'!$B$13:$H$164,7,FALSE))","v":""},null,null,null,null,null,null,0,null,null,null,null,null,{"$f":"IF(R42=\"\",\"\",VLOOKUP(R42,'ePrijava in Navodila'!$B$13:$H$164,2,FALSE) & \" \" & VLOOKUP(R42,'ePrijava in Navodila'!$B$13:$H$164,3,FALSE))","v":""},{"$f":"IF(S42=\"\",\"\",VLOOKUP(S42,$C$5:$L$149,5,FALSE))","v":""},{"$f":"IF(S42=\"\",\"\",VLOOKUP(S42,$C$5:$L$149,6,FALSE))","v":""},{"$f":"IF(S42=\"\",\"\",VLOOKUP(S42,$C$5:$L$149,7,FALSE))","v":""},{"$f":"IF(S42=\"\",\"\",VLOOKUP(S42,$C$5:$L$149,8,FALSE))","v":""},{"$f":"IF(S42=\"\",\"\",VLOOKUP(S42,$C$5:$L$149,9,FALSE))","v":""},{"$f":"IF(S42=\"\",\"\",VLOOKUP(S42,$C$5:$L$149,10,FALSE))","v":""},{"$f":"SUM(T42:Y42)","v":0},{"$f":"IF(S42=\"\",\"\",VLOOKUP(S42,$C$5:$N$149,12,FALSE))","v":""}]
[39,null,{"$f":"IF(E43=\"\",\"\",VLOOKUP(E43,'ePrijava in Navodila'!$B$13:$H$164,2,FALSE) & \" \" & VLOOKUP(E43,'ePrijava in Navodila'!$B$13:$H$164,3,FALSE))","v":""},{"$f":"IF(E43=\"\",\"\",VLOOKUP(E43,'ePrijava in Navodila'!$B$13:$H$164,5,FALSE))","v":""},null,{"$f":"IF(E43=\"\",\"\",VLOOKUP(E43,'ePrijava in Navodila'!$B$13:$H$164,7,FALSE))","v":""},null,null,null,null,null,null,0,null,null,null,null,null,{"$f":"IF(R43=\"\",\"\",VLOOKUP(R43,'ePrijava in Navodila'!$B$13:$H$164,2,FALSE) & \" \" & VLOOKUP(R43,'ePrijava in Navodila'!$B$13:$H$164,3,FALSE))","v":""},{"$f":"IF(S43=\"\",\"\",VLOOKUP(S43,$C$5:$L$149,5,FALSE))","v":""},{"$f":"IF(S43=\"\",\"\",VLOOKUP(S43,$C$5:$L$149,6,FALSE))","v":""},{"$f":"IF(S43=\"\",\"\",VLOOKUP(S43,$C$5:$L$149,7,FALSE))","v":""},{"$f":"IF(S43=\"\",\"\",VLOOKUP(S43,$C$5:$L$149,8,FALSE))","v":""},{"$f":"IF(S43=\"\",\"\",VLOOKUP(S43,$C$5:$L$149,9,FALSE))","v":""},{"$f":"IF(S43=\"\",\"\",VLOOKUP(S43,$C$5:$L$149,10,FALSE))","v":""},{"$f":"SUM(T43:Y43)","v":0},{"$f":"IF(S43=\"\",\"\",VLOOKUP(S43,$C$5:$N$149,12,FALSE))","v":""}]
[40,null,{"$f":"IF(E44=\"\",\"\",VLOOKUP(E44,'ePrijava in Navodila'!$B$13:$H$164,2,FALSE) & \" \" & VLOOKUP(E44,'ePrijava in Navodila'!$B$13:$H$164,3,FALSE))","v":""},{"$f":"IF(E44=\"\",\"\",VLOOKUP(E44,'ePrijava in Navodila'!$B$13:$H$164,5,FALSE))","v":""},null,{"$f":"IF(E44=\"\",\"\",VLOOKUP(E44,'ePrijava in Navodila'!$B$13:$H$164,7,FALSE))","v":""},null,null,null,null,null,null,0,null,null,null,null,null,null,null,null,null,null,null,{"$f":"SUM(Y41:Y43)","v":0},{"$f":"SUM(Z41:Z43)","v":0},{"$f":"SUM(AA41:AA43)","v":0}]
[41,null,{"$f":"IF(E45=\"\",\"\",VLOOKUP(E45,'ePrijava in Navodila'!$B$13:$H$164,2,FALSE) & \" \" & VLOOKUP(E45,'ePrijava in Navodila'!$B$13:$H$164,3,FALSE))","v":""},{"$f":"IF(E45=\"\",\"\",VLOOKUP(E45,'ePrijava in Navodila'!$B$13:$H$164,5,FALSE))","v":""},null,{"$f":"IF(E45=\"\",\"\",VLOOKUP(E45,'ePrijava in Navodila'!$B$13:$H$164,7,FALSE))","v":""},null,null,null,null,null,null,0]
[42,null,{"$f":"IF(E46=\"\",\"\",VLOOKUP(E46,'ePrijava in Navodila'!$B$13:$H$164,2,FALSE) & \" \" & VLOOKUP(E46,'ePrijava in Navodila'!$B$13:$H$164,3,FALSE))","v":""},{"$f":"IF(E46=\"\",\"\",VLOOKUP(E46,'ePrijava in Navodila'!$B$13:$H$164,5,FALSE))","v":""},null,{"$f":"IF(E46=\"\",\"\",VLOOKUP(E46,'ePrijava in Navodila'!$B$13:$H$164,7,FALSE))","v":""},null,null,null,null,null,null,0]
[43,null,{"$f":"IF(E47=\"\",\"\",VLOOKUP(E47,'ePrijava in Navodila'!$B$13:$H$164,2,FALSE) & \" \" & VLOOKUP(E47,'ePrijava in Navodila'!$B$13:$H$164,3,FALSE))","v":""},{"$f":"IF(E47=\"\",\"\",VLOOKUP(E47,'ePrijava in Navodila'!$B$13:$H$164,5,FALSE))","v":""},null,{"$f":"IF(E47=\"\",\"\",VLOOKUP(E47,'ePrijava in Navodila'!$B$13:$H$164,7,FALSE))","v":""},null,null,null,null,null,null,0,null,null,null,null,null,{"$f":"IF(R49=\"\",\"\",VLOOKUP(R49,'ePrijava in Navodila'!$B$13:$H$164,7,FALSE))","v":""}]
[44,null,{"$f":"IF(E48=\"\",\"\",VLOOKUP(E48,'ePrijava in Navodila'!$B$13:$H$164,2,FALSE) & \" \" & VLOOKUP(E48,'ePrijava in Navodila'!$B$13:$H$164,3,FALSE))","v":""},{"$f":"IF(E48=\"\",\"\",VLOOKUP(E48,'ePrijava in Navodila'!$B$13:$H$164,5,FALSE))","v":""},null,{"$f":"IF(E48=\"\",\"\",VLOOKUP(E48,'ePrijava in Navodila'!$B$13:$H$164,7,FALSE))","v":""},null,null,null,null,null,null,0,null,null,null,null,"BIB","Priimek in ime","1. ser","2. ser","3. ser","4. ser","1. ser","2. ser","skupno","nc*"]
[45,null,{"$f":"IF(E49=\"\",\"\",VLOOKUP(E49,'ePrijava in Navodila'!$B$13:$H$164,2,FALSE) & \" \" & VLOOKUP(E49,'ePrijava in Navodila'!$B$13:$H$164,3,FALSE))","v":""},{"$f":"IF(E49=\"\",\"\",VLOOKUP(E49,'ePrijava in Navodila'!$B$13:$H$164,5,FALSE))","v":""},null,{"$f":"IF(E49=\"\",\"\",VLOOKUP(E49,'ePrijava in Navodila'!$B$13:$H$164,7,FALSE))","v":""},null,null,null,null,null,null,0,null,null,null,null,null,{"$f":"IF(R49=\"\",\"\",VLOOKUP(R49,'ePrijava in Navodila'!$B$13:$H$164,2,FALSE) & \" \" & VLOOKUP(R49,'ePrijava in Navodila'!$B$13:$H$164,3,FALSE))","v":""},{"$f":"IF(S49=\"\",\"\",VLOOKUP(S49,$C$5:$L$149,5,FALSE))","v":""},{"$f":"IF(S49=\"\",\"\",VLOOKUP(S49,$C$5:$L$149,6,FALSE))","v":""},{"$f":"IF(S49=\"\",\"\",VLOOKUP(S49,$C$5:$L$149,7,FALSE))","v":""},{"$f":"IF(S49=\"\",\"\",VLOOKUP(S49,$C$5:$L$149,8,FALSE))","v":""},{"$f":"IF(S49=\"\",\"\",VLOOKUP(S49,$C$5:$L$149,9,FALSE))","v":""},{"$f":"IF(S49=\"\",\"\",VLOOKUP(S49,$C$5:$L$149,10,FALSE))","v":""},{"$f":"SUM(T49:Y49)","v":0},{"$f":"IF(S49=\"\",\"\",VLOOKUP(S49,$C$5:$N$149,12,FALSE))","v":""}]
[46,null,{"$f":"IF(E50=\"\",\"\",VLOOKUP(E50,'ePrijava in Navodila'!$B$13:$H$164,2,FALSE) & \" \" & VLOOKUP(E50,'ePrijava in Navodila'!$B$13:$H$164,3,FALSE))","v":""},{"$f":"IF(E50=\"\",\"\",VLOOKUP(E50,'ePrijava in Navodila'!$B$13:$H$164,5,FALSE))","v":""},null,{"$f":"IF(E50=\"\",\"\",VLOOKUP(E50,'ePrijava in Navodila'!$B$13:$H$164,7,FALSE))","v":""},null,null,null,null,null,null,0,null,null,null,null,null,{"$f":"IF(R50=\"\",\"\",VLOOKUP(R50,'ePrijava in Navodila'!$B$13:$H$164,2,FALSE) & \" \" & VLOOKUP(R50,'ePrijava in Navodila'!$B$13:$H$164,3,FALSE))","v":""},{"$f":"IF(S50=\"\",\"\",VLOOKUP(S50,$C$5:$L$149,5,FALSE))","v":""},{"$f":"IF(S50=\"\",\"\",VLOOKUP(S50,$C$5:$L$149,6,FALSE))","v":""},{"$f":"IF(S50=\"\",\"\",VLOOKUP(S50,$C$5:$L$149,7,FALSE))","v":""},{"$f":"IF(S50=\"\",\"\",VLOOKUP(S50,$C$5:$L$149,8,FALSE))","v":""},{"$f":"IF(S50=\"\",\"\",VLOOKUP(S50,$C$5:$L$149,9,FALSE))","v":""},{"$f":"IF(S50=\"\",\"\",VLOOKUP(S50,$C$5:$L$149,10,FALSE))","v":""},{"$f":"SUM(T50:Y50)","v":0},{"$f":"IF(S50=\"\",\"\",VLOOKUP(S50,$C$5:$N$149,12,FALSE))","v":""}]
[47,null,{"$f":"IF(E51=\"\",\"\",VLOOKUP(E51,'ePrijava in Navodila'!$B$13:$H$164,2,FALSE) & \" \" & VLOOKUP(E51,'ePrijava in Navodila'!$B$13:$H$164,3,FALSE))","v":""},{"$f":"IF(E51=\"\",\"\",VLOOKUP(E51,'ePrijava in Navodila'!$B$13:$H$164,5,FALSE))","v":""},null,{"$f":"IF(E51=\"\",\"\",VLOOKUP(E51,'ePrijava in Navodila'!$B$13:$H$164,7,FALSE))","v":""},null,null,null,null,null,null,0,null,null,null,null,null,{"$f":"IF(R51=\"\",\"\",VLOOKUP(R51,'ePrijava in Navodila'!$B$13:$H$164,2,FALSE) & \" \" & VLOOKUP(R51,'ePrijava in Navodila'!$B$13:$H$164,3,FALSE))","v":""},{"$f":"IF(S51=\"\",\"\",VLOOKUP(S51,$C$5:$L$149,5,FALSE))","v":""},{"$f":"IF(S51=\"\",\"\",VLOOKUP(S51,$C$5:$L$149,6,FALSE))","v":""},{"$f":"IF(S51=\"\",\"\",VLOOKUP(S51,$C$5:$L$149,7,FALSE))","v":""},{"$f":"IF(S51=\"\",\"\",VLOOKUP(S51,$C$5:$L$149,8,FALSE))","v":""},{"$f":"IF(S51=\"\",\"\",VLOOKUP(S51,$C$5:$L$149,9,FALSE))","v":""},{"$f":"IF(S51=\"\",\"\",VLOOKUP(S51,$C$5:$L$149,10,FALSE))","v":""},{"$f":"SUM(T51:Y51)","v":0},{"$f":"IF(S51=\"\",\"\",VLOOKUP(S51,$C$5:$N$149,12,FALSE))","v":""}]
[48,null,{"$f":"IF(E52=\"\",\"\",VLOOKUP(E52,'ePrijava in Navodila'!$B$13:$H$164,2,FALSE) & \" \" & VLOOKUP(E52,'ePrijava in Navodila'!$B$13:$H$164,3,FALSE))","v":""},{"$f":"IF(E52=\"\",\"\",VLOOKUP(E52,'ePrijava in Navodila'!$B$13:$H$164,5,FALSE))","v":""},null,{"$f":"IF(E52=\"\",\"\",VLOOKUP(E52,'ePrijava in Navodila'!$B$13:$H$164,7,FALSE))","v":""},null,null,null,null,null,null,0,null,null,null,null,null,null,null,null,null,null,null,{"$f":"SUM(Y49:Y51)","v":0},{"$f":"SUM(Z49:Z51)","v":0},{"$f":"SUM(AA49:AA51)","v":0}]
[49,null,{"$f":"IF(E53=\"\",\"\",VLOOKUP(E53,'ePrijava in Navodila'!$B$13:$H$164,2,FALSE) & \" \" & VLOOKUP(E53,'ePrijava in Navodila'!$B$13:$H$164,3,FALSE))","v":""},{"$f":"IF(E53=\"\",\"\",VLOOKUP(E53,'ePrijava in Navodila'!$B$13:$H$164,5,FALSE))","v":""},null,{"$f":"IF(E53=\"\",\"\",VLOOKUP(E53,'ePrijava in Navodila'!$B$13:$H$164,7,FALSE))","v":""},null,null,null,null,null,null,0]
[50,null,{"$f":"IF(E54=\"\",\"\",VLOOKUP(E54,'ePrijava in Navodila'!$B$13:$H$164,2,FALSE) & \" \" & VLOOKUP(E54,'ePrijava in Navodila'!$B$13:$H$164,3,FALSE))","v":""},{"$f":"IF(E54=\"\",\"\",VLOOKUP(E54,'ePrijava in Navodila'!$B$13:$H$164,5,FALSE))","v":""},null,{"$f":"IF(E54=\"\",\"\",VLOOKUP(E54,'ePrijava in Navodila'!$B$13:$H$164,7,FALSE))","v":""},null,null,null,null,null,null,0]
[51,null,{"$f":"IF(E55=\"\",\"\",VLOOKUP(E55,'ePrijava in Navodila'!$B$13:$H$164,2,FALSE) & \" \" & VLOOKUP(E55,'ePrijava in Navodila'!$B$13:$H$164,3,FALSE))","v":""},{"$f":"IF(E55=\"\",\"\",VLOOKUP(E55,'ePrijava in Navodila'!$B$13:$H$164,5,FALSE))","v":""},null,{"$f":"IF(E55=\"\",\"\",VLOOKUP(E55,'ePrijava in Navodila'!$B$13:$H$164,7,FALSE))","v":""},null,null,null,null,null,null,0,null,null,null,null,null,{"$f":"IF(R57=\"\",\"\",VLOOKUP(R57,'ePrijava in Navodila'!$B$13:$H$164,7,FALSE))","v":""}]
[52,null,{"$f":"IF(E56=\"\",\"\",VLOOKUP(E56,'ePrijava in Navodila'!$B$13:$H$164,2,FALSE) & \" \" & VLOOKUP(E56,'ePrijava in Navodila'!$B$13:$H$164,3,FALSE))","v":""},{"$f":"IF(E56=\"\",\"\",VLOOKUP(E56,'ePrijava in Navodila'!$B$13:$H$164,5,FALSE))","v":""},null,{"$f":"IF(E56=\"\",\"\",VLOOKUP(E56,'ePrijava in Navodila'!$B$13:$H$164,7,FALSE))","v":""},null,null,null,null,null,null,0,null,null,null,null,"BIB","Priimek in ime","1. ser","2. ser","3. ser","4. ser","1. ser","2. ser","skupno","nc*"]
[53,null,{"$f":"IF(E57=\"\",\"\",VLOOKUP(E57,'ePrijava in Navodila'!$B$13:$H$164,2,FALSE) & \" \" & VLOOKUP(E57,'ePrijava in Navodila'!$B$13:$H$164,3,FALSE))","v":""},{"$f":"IF(E57=\"\",\"\",VLOOKUP(E57,'ePrijava in Navodila'!$B$13:$H$164,5,FALSE))","v":""},null,{"$f":"IF(E57=\"\",\"\",VLOOKUP(E57,'ePrijava in Navodila'!$B$13:$H$164,7,FALSE))","v":""},null,null,null,null,null,null,0,null,null,null,null,null,{"$f":"IF(R57=\"\",\"\",VLOOKUP(R57,'ePrijava in Navodila'!$B$13:$H$164,2,FALSE) & \" \" & VLOOKUP(R57,'ePrijava in Navodila'!$B$13:$H$164,3,FALSE))","v":""},{"$f":"IF(S57=\"\",\"\",VLOOKUP(S57,$C$5:$L$149,5,FALSE))","v":""},{"$f":"IF(S57=\"\",\"\",VLOOKUP(S57,$C$5:$L$149,6,FALSE))","v":""},{"$f":"IF(S57=\"\",\"\",VLOOKUP(S57,$C$5:$L$149,7,FALSE))","v":""},{"$f":"IF(S57=\"\",\"\",VLOOKUP(S57,$C$5:$L$149,8,FALSE))","v":""},{"$f":"IF(S57=\"\",\"\",VLOOKUP(S57,$C$5:$L$149,9,FALSE))","v":""},{"$f":"IF(S57=\"\",\"\",VLOOKUP(S57,$C$5:$L$149,10,FALSE))","v":""},{"$f":"SUM(T57:Y57)","v":0},{"$f":"IF(S57=\"\",\"\",VLOOKUP(S57,$C$5:$N$149,12,FALSE))","v":""}]
[54,null,{"$f":"IF(E58=\"\",\"\",VLOOKUP(E58,'ePrijava in Navodila'!$B$13:$H$164,2,FALSE) & \" \" & VLOOKUP(E58,'ePrijava in Navodila'!$B$13:$H$164,3,FALSE))","v":""},{"$f":"IF(E58=\"\",\"\",VLOOKUP(E58,'ePrijava in Navodila'!$B$13:$H$164,5,FALSE))","v":""},null,{"$f":"IF(E58=\"\",\"\",VLOOKUP(E58,'ePrijava in Navodila'!$B$13:$H$164,7,FALSE))","v":""},null,null,null,null,null,null,0,null,null,null,null,null,{"$f":"IF(R58=\"\",\"\",VLOOKUP(R58,'ePrijava in Navodila'!$B$13:$H$164,2,FALSE) & \" \" & VLOOKUP(R58,'ePrijava in Navodila'!$B$13:$H$164,3,FALSE))","v":""},{"$f":"IF(S58=\"\",\"\",VLOOKUP(S58,$C$5:$L$149,5,FALSE))","v":""},{"$f":"IF(S58=\"\",\"\",VLOOKUP(S58,$C$5:$L$149,6,FALSE))","v":""},{"$f":"IF(S58=\"\",\"\",VLOOKUP(S58,$C$5:$L$149,7,FALSE))","v":""},{"$f":"IF(S58=\"\",\"\",VLOOKUP(S58,$C$5:$L$149,8,FALSE))","v":""},{"$f":"IF(S58=\"\",\"\",VLOOKUP(S58,$C$5:$L$149,9,FALSE))","v":""},{"$f":"IF(S58=\"\",\"\",VLOOKUP(S58,$C$5:$L$149,10,FALSE))","v":""},{"$f":"SUM(T58:Y58)","v":0},{"$f":"IF(S58=\"\",\"\",VLOOKUP(S58,$C$5:$N$149,12,FALSE))","v":""}]
[55,null,{"$f":"IF(E59=\"\",\"\",VLOOKUP(E59,'ePrijava in Navodila'!$B$13:$H$164,2,FALSE) & \" \" & VLOOKUP(E59,'ePrijava in Navodila'!$B$13:$H$164,3,FALSE))","v":""},{"$f":"IF(E59=\"\",\"\",VLOOKUP(E59,'ePrijava in Navodila'!$B$13:$H$164,5,FALSE))","v":""},null,{"$f":"IF(E59=\"\",\"\",VLOOKUP(E59,'ePrijava in Navodila'!$B$13:$H$164,7,FALSE))","v":""},null,null,null,null,null,null,0,null,null,null,null,null,{"$f":"IF(R59=\"\",\"\",VLOOKUP(R59,'ePrijava in Navodila'!$B$13:$H$164,2,FALSE) & \" \" & VLOOKUP(R59,'ePrijava in Navodila'!$B$13:$H$164,3,FALSE))","v":""},{"$f":"IF(S59=\"\",\"\",VLOOKUP(S59,$C$5:$L$149,5,FALSE))","v":""},{"$f":"IF(S59=\"\",\"\",VLOOKUP(S59,$C$5:$L$149,6,FALSE))","v":""},{"$f":"IF(S59=\"\",\"\",VLOOKUP(S59,$C$5:$L$149,7,FALSE))","v":""},{"$f":"IF(S59=\"\",\"\",VLOOKUP(S59,$C$5:$L$149,8,FALSE))","v":""},{"$f":"IF(S59=\"\",\"\",VLOOKUP(S59,$C$5:$L$149,9,FALSE))","v":""},{"$f":"IF(S59=\"\",\"\",VLOOKUP(S59,$C$5:$L$149,10,FALSE))","v":""},{"$f":"SUM(T59:Y59)","v":0},{"$f":"IF(S59=\"\",\"\",VLOOKUP(S59,$C$5:$N$149,12,FALSE))","v":""}]
[56,null,{"$f":"IF(E60=\"\",\"\",VLOOKUP(E60,'ePrijava in Navodila'!$B$13:$H$164,2,FALSE) & \" \" & VLOOKUP(E60,'ePrijava in Navodila'!$B$13:$H$164,3,FALSE))","v":""},{"$f":"IF(E60=\"\",\"\",VLOOKUP(E60,'ePrijava in Navodila'!$B$13:$H$164,5,FALSE))","v":""},null,{"$f":"IF(E60=\"\",\"\",VLOOKUP(E60,'ePrijava in Navodila'!$B$13:$H$164,7,FALSE))","v":""},null,null,null,null,null,null,0,null,null,null,null,null,null,null,null,null,null,null,{"$f":"SUM(Y57:Y59)","v":0},{"$f":"SUM(Z57:Z59)","v":0},{"$f":"SUM(AA57:AA59)","v":0}]
[57,null,{"$f":"IF(E61=\"\",\"\",VLOOKUP(E61,'ePrijava in Navodila'!$B$13:$H$164,2,FALSE) & \" \" & VLOOKUP(E61,'ePrijava in Navodila'!$B$13:$H$164,3,FALSE))","v":""},{"$f":"IF(E61=\"\",\"\",VLOOKUP(E61,'ePrijava in Navodila'!$B$13:$H$164,5,FALSE))","v":""},null,{"$f":"IF(E61=\"\",\"\",VLOOKUP(E61,'ePrijava in Navodila'!$B$13:$H$164,7,FALSE))","v":""},null,null,null,null,null,null,0]
[58,null,{"$f":"IF(E62=\"\",\"\",VLOOKUP(E62,'ePrijava in Navodila'!$B$13:$H$164,2,FALSE) & \" \" & VLOOKUP(E62,'ePrijava in Navodila'!$B$13:$H$164,3,FALSE))","v":""},{"$f":"IF(E62=\"\",\"\",VLOOKUP(E62,'ePrijava in Navodila'!$B$13:$H$164,5,FALSE))","v":""},null,{"$f":"IF(E62=\"\",\"\",VLOOKUP(E62,'ePrijava in Navodila'!$B$13:$H$164,7,FALSE))","v":""},null,null,null,null,null,null,0]
[59,null,{"$f":"IF(E63=\"\",\"\",VLOOKUP(E63,'ePrijava in Navodila'!$B$13:$H$164,2,FALSE) & \" \" & VLOOKUP(E63,'ePrijava in Navodila'!$B$13:$H$164,3,FALSE))","v":""},{"$f":"IF(E63=\"\",\"\",VLOOKUP(E63,'ePrijava in Navodila'!$B$13:$H$164,5,FALSE))","v":""},null,{"$f":"IF(E63=\"\",\"\",VLOOKUP(E63,'ePrijava in Navodila'!$B$13:$H$164,7,FALSE))","v":""},null,null,null,null,null,null,0,null,null,null,null,null,{"$f":"IF(R65=\"\",\"\",VLOOKUP(R65,'ePrijava in Navodila'!$B$13:$H$164,7,FALSE))","v":""}]
[60,null,{"$f":"IF(E64=\"\",\"\",VLOOKUP(E64,'ePrijava in Navodila'!$B$13:$H$164,2,FALSE) & \" \" & VLOOKUP(E64,'ePrijava in Navodila'!$B$13:$H$164,3,FALSE))","v":""},{"$f":"IF(E64=\"\",\"\",VLOOKUP(E64,'ePrijava in Navodila'!$B$13:$H$164,5,FALSE))","v":""},null,{"$f":"IF(E64=\"\",\"\",VLOOKUP(E64,'ePrijava in Navodila'!$B$13:$H$164,7,FALSE))","v":""},null,null,null,null,null,null,0,null,null,null,null,"BIB","Priimek in ime","1. ser","2. ser","3. ser","4. ser","1. ser","2. ser","skupno","nc*"]
[61,null,{"$f":"IF(E65=\"\",\"\",VLOOKUP(E65,'ePrijava in Navodila'!$B$13:$H$164,2,FALSE) & \" \" & VLOOKUP(E65,'ePrijava in Navodila'!$B$13:$H$164,3,FALSE))","v":""},{"$f":"IF(E65=\"\",\"\",VLOOKUP(E65,'ePrijava in Navodila'!$B$13:$H$164,5,FALSE))","v":""},null,{"$f":"IF(E65=\"\",\"\",VLOOKUP(E65,'ePrijava in Navodila'!$B$13:$H$164,7,FALSE))","v":""},null,null,null,null,null,null,0,null,null,null,null,null,{"$f":"IF(R65=\"\",\"\",VLOOKUP(R65,'ePrijava in Navodila'!$B$13:$H$164,2,FALSE) & \" \" & VLOOKUP(R65,'ePrijava in Navodila'!$B$13:$H$164,3,FALSE))","v":""},{"$f":"IF(S65=\"\",\"\",VLOOKUP(S65,$C$5:$L$149,5,FALSE))","v":""},{"$f":"IF(S65=\"\",\"\",VLOOKUP(S65,$C$5:$L$149,6,FALSE))","v":""},{"$f":"IF(S65=\"\",\"\",VLOOKUP(S65,$C$5:$L$149,7,FALSE))","v":""},{"$f":"IF(S65=\"\",\"\",VLOOKUP(S65,$C$5:$L$149,8,FALSE))","v":""},{"$f":"IF(S65=\"\",\"\",VLOOKUP(S65,$C$5:$L$149,9,FALSE))","v":""},{"$f":"IF(S65=\"\",\"\",VLOOKUP(S65,$C$5:$L$149,10,FALSE))","v":""},{"$f":"SUM(T65:Y65)","v":0},{"$f":"IF(S65=\"\",\"\",VLOOKUP(S65,$C$5:$N$149,12,FALSE))","v":""}]
[62,null,{"$f":"IF(E66=\"\",\"\",VLOOKUP(E66,'ePrijava in Navodila'!$B$13:$H$164,2,FALSE) & \" \" & VLOOKUP(E66,'ePrijava in Navodila'!$B$13:$H$164,3,FALSE))","v":""},{"$f":"IF(E66=\"\",\"\",VLOOKUP(E66,'ePrijava in Navodila'!$B$13:$H$164,5,FALSE))","v":""},null,{"$f":"IF(E66=\"\",\"\",VLOOKUP(E66,'ePrijava in Navodila'!$B$13:$H$164,7,FALSE))","v":""},null,null,null,null,null,null,0,null,null,null,null,null,{"$f":"IF(R66=\"\",\"\",VLOOKUP(R66,'ePrijava in Navodila'!$B$13:$H$164,2,FALSE) & \" \" & VLOOKUP(R66,'ePrijava in Navodila'!$B$13:$H$164,3,FALSE))","v":""},{"$f":"IF(S66=\"\",\"\",VLOOKUP(S66,$C$5:$L$149,5,FALSE))","v":""},{"$f":"IF(S66=\"\",\"\",VLOOKUP(S66,$C$5:$L$149,6,FALSE))","v":""},{"$f":"IF(S66=\"\",\"\",VLOOKUP(S66,$C$5:$L$149,7,FALSE))","v":""},{"$f":"IF(S66=\"\",\"\",VLOOKUP(S66,$C$5:$L$149,8,FALSE))","v":""},{"$f":"IF(S66=\"\",\"\",VLOOKUP(S66,$C$5:$L$149,9,FALSE))","v":""},{"$f":"IF(S66=\"\",\"\",VLOOKUP(S66,$C$5:$L$149,10,FALSE))","v":""},{"$f":"SUM(T66:Y66)","v":0},{"$f":"IF(S66=\"\",\"\",VLOOKUP(S66,$C$5:$N$149,12,FALSE))","v":""}]
[63,null,{"$f":"IF(E67=\"\",\"\",VLOOKUP(E67,'ePrijava in Navodila'!$B$13:$H$164,2,FALSE) & \" \" & VLOOKUP(E67,'ePrijava in Navodila'!$B$13:$H$164,3,FALSE))","v":""},{"$f":"IF(E67=\"\",\"\",VLOOKUP(E67,'ePrijava in Navodila'!$B$13:$H$164,5,FALSE))","v":""},null,{"$f":"IF(E67=\"\",\"\",VLOOKUP(E67,'ePrijava in Navodila'!$B$13:$H$164,7,FALSE))","v":""},null,null,null,null,null,null,0,null,null,null,null,null,{"$f":"IF(R67=\"\",\"\",VLOOKUP(R67,'ePrijava in Navodila'!$B$13:$H$164,2,FALSE) & \" \" & VLOOKUP(R67,'ePrijava in Navodila'!$B$13:$H$164,3,FALSE))","v":""},{"$f":"IF(S67=\"\",\"\",VLOOKUP(S67,$C$5:$L$149,5,FALSE))","v":""},{"$f":"IF(S67=\"\",\"\",VLOOKUP(S67,$C$5:$L$149,6,FALSE))","v":""},{"$f":"IF(S67=\"\",\"\",VLOOKUP(S67,$C$5:$L$149,7,FALSE))","v":""},{"$f":"IF(S67=\"\",\"\",VLOOKUP(S67,$C$5:$L$149,8,FALSE))","v":""},{"$f":"IF(S67=\"\",\"\",VLOOKUP(S67,$C$5:$L$149,9,FALSE))","v":""},{"$f":"IF(S67=\"\",\"\",VLOOKUP(S67,$C$5:$L$149,10,FALSE))","v":""},{"$f":"SUM(T67:Y67)","v":0},{"$f":"IF(S67=\"\",\"\",VLOOKUP(S67,$C$5:$N$149,12,FALSE))","v":""}]
[64,null,{"$f":"IF(E68=\"\",\"\",VLOOKUP(E68,'ePrijava in Navodila'!$B$13:$H$164,2,FALSE) & \" \" & VLOOKUP(E68,'ePrijava in Navodila'!$B$13:$H$164,3,FALSE))","v":""},{"$f":"IF(E68=\"\",\"\",VLOOKUP(E68,'ePrijava in Navodila'!$B$13:$H$164,5,FALSE))","v":""},null,{"$f":"IF(E68=\"\",\"\",VLOOKUP(E68,'ePrijava in Navodila'!$B$13:$H$164,7,FALSE))","v":""},null,null,null,null,null,null,0,null,null,null,null,null,null,null,null,null,null,null,{"$f":"SUM(Y65:Y67)","v":0},{"$f":"SUM(Z65:Z67)","v":0},{"$f":"SUM(AA65:AA67)","v":0}]
[65,null,{"$f":"IF(E69=\"\",\"\",VLOOKUP(E69,'ePrijava in Navodila'!$B$13:$H$164,2,FALSE) & \" \" & VLOOKUP(E69,'ePrijava in Navodila'!$B$13:$H$164,3,FALSE))","v":""},{"$f":"IF(E69=\"\",\"\",VLOOKUP(E69,'ePrijava in Navodila'!$B$13:$H$164,5,FALSE))","v":""},null,{"$f":"IF(E69=\"\",\"\",VLOOKUP(E69,'ePrijava in Navodila'!$B$13:$H$164,7,FALSE))","v":""},null,null,null,null,null,null,{"$f":"SUM(G69:L69)","v":0}]
[66,null,{"$f":"IF(E70=\"\",\"\",VLOOKUP(E70,'ePrijava in Navodila'!$B$13:$H$164,2,FALSE) & \" \" & VLOOKUP(E70,'ePrijava in Navodila'!$B$13:$H$164,3,FALSE))","v":""},{"$f":"IF(E70=\"\",\"\",VLOOKUP(E70,'ePrijava in Navodila'!$B$13:$H$164,5,FALSE))","v":""},null,{"$f":"IF(E70=\"\",\"\",VLOOKUP(E70,'ePrijava in Navodila'!$B$13:$H$164,7,FALSE))","v":""},null,null,null,null,null,null,0]
[67,null,{"$f":"IF(E71=\"\",\"\",VLOOKUP(E71,'ePrijava in Navodila'!$B$13:$H$164,2,FALSE) & \" \" & VLOOKUP(E71,'ePrijava in Navodila'!$B$13:$H$164,3,FALSE))","v":""},{"$f":"IF(E71=\"\",\"\",VLOOKUP(E71,'ePrijava in Navodila'!$B$13:$H$164,5,FALSE))","v":""},null,{"$f":"IF(E71=\"\",\"\",VLOOKUP(E71,'ePrijava in Navodila'!$B$13:$H$164,7,FALSE))","v":""},null,null,null,null,null,null,0]
[68,null,{"$f":"IF(E72=\"\",\"\",VLOOKUP(E72,'ePrijava in Navodila'!$B$13:$H$164,2,FALSE) & \" \" & VLOOKUP(E72,'ePrijava in Navodila'!$B$13:$H$164,3,FALSE))","v":""},{"$f":"IF(E72=\"\",\"\",VLOOKUP(E72,'ePrijava in Navodila'!$B$13:$H$164,5,FALSE))","v":""},null,{"$f":"IF(E72=\"\",\"\",VLOOKUP(E72,'ePrijava in Navodila'!$B$13:$H$164,7,FALSE))","v":""},null,null,null,null,null,null,0]
[69,null,{"$f":"IF(E73=\"\",\"\",VLOOKUP(E73,'ePrijava in Navodila'!$B$13:$H$164,2,FALSE) & \" \" & VLOOKUP(E73,'ePrijava in Navodila'!$B$13:$H$164,3,FALSE))","v":""},{"$f":"IF(E73=\"\",\"\",VLOOKUP(E73,'ePrijava in Navodila'!$B$13:$H$164,5,FALSE))","v":""},null,{"$f":"IF(E73=\"\",\"\",VLOOKUP(E73,'ePrijava in Navodila'!$B$13:$H$164,7,FALSE))","v":""},null,null,null,null,null,null,0]
[70,null,{"$f":"IF(E74=\"\",\"\",VLOOKUP(E74,'ePrijava in Navodila'!$B$13:$H$164,2,FALSE) & \" \" & VLOOKUP(E74,'ePrijava in Navodila'!$B$13:$H$164,3,FALSE))","v":""},{"$f":"IF(E74=\"\",\"\",VLOOKUP(E74,'ePrijava in Navodila'!$B$13:$H$164,5,FALSE))","v":""},null,{"$f":"IF(E74=\"\",\"\",VLOOKUP(E74,'ePrijava in Navodila'!$B$13:$H$164,7,FALSE))","v":""},null,null,null,null,null,null,0]
[71,null,{"$f":"IF(E75=\"\",\"\",VLOOKUP(E75,'ePrijava in Navodila'!$B$13:$H$164,2,FALSE) & \" \" & VLOOKUP(E75,'ePrijava in Navodila'!$B$13:$H$164,3,FALSE))","v":""},{"$f":"IF(E75=\"\",\"\",VLOOKUP(E75,'ePrijava in Navodila'!$B$13:$H$164,5,FALSE))","v":""},null,{"$f":"IF(E75=\"\",\"\",VLOOKUP(E75,'ePrijava in Navodila'!$B$13:$H$164,7,FALSE))","v":""},null,null,null,null,null,null,0]
[72,null,{"$f":"IF(E76=\"\",\"\",VLOOKUP(E76,'ePrijava in Navodila'!$B$13:$H$164,2,FALSE) & \" \" & VLOOKUP(E76,'ePrijava in Navodila'!$B$13:$H$164,3,FALSE))","v":""},{"$f":"IF(E76=\"\",\"\",VLOOKUP(E76,'ePrijava in Navodila'!$B$13:$H$164,5,FALSE))","v":""},null,{"$f":"IF(E76=\"\",\"\",VLOOKUP(E76,'ePrijava in Navodila'!$B$13:$H$164,7,FALSE))","v":""},null,null,null,null,null,null,0]
[73,null,{"$f":"IF(E77=\"\",\"\",VLOOKUP(E77,'ePrijava in Navodila'!$B$13:$H$164,2,FALSE) & \" \" & VLOOKUP(E77,'ePrijava in Navodila'!$B$13:$H$164,3,FALSE))","v":""},{"$f":"IF(E77=\"\",\"\",VLOOKUP(E77,'ePrijava in Navodila'!$B$13:$H$164,5,FALSE))","v":""},null,{"$f":"IF(E77=\"\",\"\",VLOOKUP(E77,'ePrijava in Navodila'!$B$13:$H$164,7,FALSE))","v":""},null,null,null,null,null,null,0]
[74,null,{"$f":"IF(E78=\"\",\"\",VLOOKUP(E78,'ePrijava in Navodila'!$B$13:$H$164,2,FALSE) & \" \" & VLOOKUP(E78,'ePrijava in Navodila'!$B$13:$H$164,3,FALSE))","v":""},{"$f":"IF(E78=\"\",\"\",VLOOKUP(E78,'ePrijava in Navodila'!$B$13:$H$164,5,FALSE))","v":""},null,{"$f":"IF(E78=\"\",\"\",VLOOKUP(E78,'ePrijava in Navodila'!$B$13:$H$164,7,FALSE))","v":""},null,null,null,null,null,null,0]
[75,null,{"$f":"IF(E79=\"\",\"\",VLOOKUP(E79,'ePrijava in Navodila'!$B$13:$H$164,2,FALSE) & \" \" & VLOOKUP(E79,'ePrijava in Navodila'!$B$13:$H$164,3,FALSE))","v":""},{"$f":"IF(E79=\"\",\"\",VLOOKUP(E79,'ePrijava in Navodila'!$B$13:$H$164,5,FALSE))","v":""},null,{"$f":"IF(E79=\"\",\"\",VLOOKUP(E79,'ePrijava in Navodila'!$B$13:$H$164,7,FALSE))","v":""},null,null,null,null,null,null,0]
[76,null,{"$f":"IF(E80=\"\",\"\",VLOOKUP(E80,'ePrijava in Navodila'!$B$13:$H$164,2,FALSE) & \" \" & VLOOKUP(E80,'ePrijava in Navodila'!$B$13:$H$164,3,FALSE))","v":""},{"$f":"IF(E80=\"\",\"\",VLOOKUP(E80,'ePrijava in Navodila'!$B$13:$H$164,5,FALSE))","v":""},null,{"$f":"IF(E80=\"\",\"\",VLOOKUP(E80,'ePrijava in Navodila'!$B$13:$H$164,7,FALSE))","v":""},null,null,null,null,null,null,0]
[77,null,{"$f":"IF(E81=\"\",\"\",VLOOKUP(E81,'ePrijava in Navodila'!$B$13:$H$164,2,FALSE) & \" \" & VLOOKUP(E81,'ePrijava in Navodila'!$B$13:$H$164,3,FALSE))","v":""},{"$f":"IF(E81=\"\",\"\",VLOOKUP(E81,'ePrijava in Navodila'!$B$13:$H$164,5,FALSE))","v":""},null,{"$f":"IF(E81=\"\",\"\",VLOOKUP(E81,'ePrijava in Navodila'!$B$13:$H$164,7,FALSE))","v":""},null,null,null,null,null,null,0]
[78,null,{"$f":"IF(E82=\"\",\"\",VLOOKUP(E82,'ePrijava in Navodila'!$B$13:$H$164,2,FALSE) & \" \" & VLOOKUP(E82,'ePrijava in Navodila'!$B$13:$H$164,3,FALSE))","v":""},{"$f":"IF(E82=\"\",\"\",VLOOKUP(E82,'ePrijava in Navodila'!$B$13:$H$164,5,FALSE))","v":""},null,{"$f":"IF(E82=\"\",\"\",VLOOKUP(E82,'ePrijava in Navodila'!$B$13:$H$164,7,FALSE))","v":""},null,null,null,null,null,null,0]
[79,null,{"$f":"IF(E83=\"\",\"\",VLOOKUP(E83,'ePrijava in Navodila'!$B$13:$H$164,2,FALSE) & \" \" & VLOOKUP(E83,'ePrijava in Navodila'!$B$13:$H$164,3,FALSE))","v":""},{"$f":"IF(E83=\"\",\"\",VLOOKUP(E83,'ePrijava in Navodila'!$B$13:$H$164,5,FALSE))","v":""},null,{"$f":"IF(E83=\"\",\"\",VLOOKUP(E83,'ePrijava in Navodila'!$B$13:$H$164,7,FALSE))","v":""},null,null,null,null,null,null,0]
[80,null,{"$f":"IF(E84=\"\",\"\",VLOOKUP(E84,'ePrijava in Navodila'!$B$13:$H$164,2,FALSE) & \" \" & VLOOKUP(E84,'ePrijava in Navodila'!$B$13:$H$164,3,FALSE))","v":""},{"$f":"IF(E84=\"\",\"\",VLOOKUP(E84,'ePrijava in Navodila'!$B$13:$H$164,5,FALSE))","v":""},null,{"$f":"IF(E84=\"\",\"\",VLOOKUP(E84,'ePrijava in Navodila'!$B$13:$H$164,7,FALSE))","v":""},null,null,null,null,null,null,0]
[81,null,{"$f":"IF(E85=\"\",\"\",VLOOKUP(E85,'ePrijava in Navodila'!$B$13:$H$164,2,FALSE) & \" \" & VLOOKUP(E85,'ePrijava in Navodila'!$B$13:$H$164,3,FALSE))","v":""},{"$f":"IF(E85=\"\",\"\",VLOOKUP(E85,'ePrijava in Navodila'!$B$13:$H$164,5,FALSE))","v":""},null,{"$f":"IF(E85=\"\",\"\",VLOOKUP(E85,'ePrijava in Navodila'!$B$13:$H$164,7,FALSE))","v":""},null,null,null,null,null,null,0]
[82,null,{"$f":"IF(E86=\"\",\"\",VLOOKUP(E86,'ePrijava in Navodila'!$B$13:$H$164,2,FALSE) & \" \" & VLOOKUP(E86,'ePrijava in Navodila'!$B$13:$H$164,3,FALSE))","v":""},{"$f":"IF(E86=\"\",\"\",VLOOKUP(E86,'ePrijava in Navodila'!$B$13:$H$164,5,FALSE))","v":""},null,{"$f":"IF(E86=\"\",\"\",VLOOKUP(E86,'ePrijava in Navodila'!$B$13:$H$164,7,FALSE))","v":""},null,null,null,null,null,null,0]
[83,null,{"$f":"IF(E87=\"\",\"\",VLOOKUP(E87,'ePrijava in Navodila'!$B$13:$H$164,2,FALSE) & \" \" & VLOOKUP(E87,'ePrijava in Navodila'!$B$13:$H$164,3,FALSE))","v":""},{"$f":"IF(E87=\"\",\"\",VLOOKUP(E87,'ePrijava in Navodila'!$B$13:$H$164,5,FALSE))","v":""},null,{"$f":"IF(E87=\"\",\"\",VLOOKUP(E87,'ePrijava in Navodila'!$B$13:$H$164,7,FALSE))","v":""},null,null,null,null,null,null,0]
[84,null,{"$f":"IF(E88=\"\",\"\",VLOOKUP(E88,'ePrijava in Navodila'!$B$13:$H$164,2,FALSE) & \" \" & VLOOKUP(E88,'ePrijava in Navodila'!$B$13:$H$164,3,FALSE))","v":""},{"$f":"IF(E88=\"\",\"\",VLOOKUP(E88,'ePrijava in Navodila'!$B$13:$H$164,5,FALSE))","v":""},null,{"$f":"IF(E88=\"\",\"\",VLOOKUP(E88,'ePrijava in Navodila'!$B$13:$H$164,7,FALSE))","v":""},null,null,null,null,null,null,0]
[85,null,{"$f":"IF(E89=\"\",\"\",VLOOKUP(E89,'ePrijava in Navodila'!$B$13:$H$164,2,FALSE) & \" \" & VLOOKUP(E89,'ePrijava in Navodila'!$B$13:$H$164,3,FALSE))","v":""},{"$f":"IF(E89=\"\",\"\",VLOOKUP(E89,'ePrijava in Navodila'!$B$13:$H$164,5,FALSE))","v":""},null,{"$f":"IF(E89=\"\",\"\",VLOOKUP(E89,'ePrijava in Navodila'!$B$13:$H$164,7,FALSE))","v":""},null,null,null,null,null,null,0]
[86,null,{"$f":"IF(E90=\"\",\"\",VLOOKUP(E90,'ePrijava in Navodila'!$B$13:$H$164,2,FALSE) & \" \" & VLOOKUP(E90,'ePrijava in Navodila'!$B$13:$H$164,3,FALSE))","v":""},{"$f":"IF(E90=\"\",\"\",VLOOKUP(E90,'ePrijava in Navodila'!$B$13:$H$164,5,FALSE))","v":""},null,{"$f":"IF(E90=\"\",\"\",VLOOKUP(E90,'ePrijava in Navodila'!$B$13:$H$164,7,FALSE))","v":""},null,null,null,null,null,null,0]
[87,null,{"$f":"IF(E91=\"\",\"\",VLOOKUP(E91,'ePrijava in Navodila'!$B$13:$H$164,2,FALSE) & \" \" & VLOOKUP(E91,'ePrijava in Navodila'!$B$13:$H$164,3,FALSE))","v":""},{"$f":"IF(E91=\"\",\"\",VLOOKUP(E91,'ePrijava in Navodila'!$B$13:$H$164,5,FALSE))","v":""},null,{"$f":"IF(E91=\"\",\"\",VLOOKUP(E91,'ePrijava in Navodila'!$B$13:$H$164,7,FALSE))","v":""},null,null,null,null,null,null,0]
[88,null,{"$f":"IF(E92=\"\",\"\",VLOOKUP(E92,'ePrijava in Navodila'!$B$13:$H$164,2,FALSE) & \" \" & VLOOKUP(E92,'ePrijava in Navodila'!$B$13:$H$164,3,FALSE))","v":""},{"$f":"IF(E92=\"\",\"\",VLOOKUP(E92,'ePrijava in Navodila'!$B$13:$H$164,5,FALSE))","v":""},null,{"$f":"IF(E92=\"\",\"\",VLOOKUP(E92,'ePrijava in Navodila'!$B$13:$H$164,7,FALSE))","v":""},null,null,null,null,null,null,0]
[89,null,{"$f":"IF(E93=\"\",\"\",VLOOKUP(E93,'ePrijava in Navodila'!$B$13:$H$164,2,FALSE) & \" \" & VLOOKUP(E93,'ePrijava in Navodila'!$B$13:$H$164,3,FALSE))","v":""},{"$f":"IF(E93=\"\",\"\",VLOOKUP(E93,'ePrijava in Navodila'!$B$13:$H$164,5,FALSE))","v":""},null,{"$f":"IF(E93=\"\",\"\",VLOOKUP(E93,'ePrijava in Navodila'!$B$13:$H$164,7,FALSE))","v":""},null,null,null,null,null,null,0]
[90,null,{"$f":"IF(E94=\"\",\"\",VLOOKUP(E94,'ePrijava in Navodila'!$B$13:$H$164,2,FALSE) & \" \" & VLOOKUP(E94,'ePrijava in Navodila'!$B$13:$H$164,3,FALSE))","v":""},{"$f":"IF(E94=\"\",\"\",VLOOKUP(E94,'ePrijava in Navodila'!$B$13:$H$164,5,FALSE))","v":""},null,{"$f":"IF(E94=\"\",\"\",VLOOKUP(E94,'ePrijava in Navodila'!$B$13:$H$164,7,FALSE))","v":""},null,null,null,null,null,null,0]
[91,null,{"$f":"IF(E95=\"\",\"\",VLOOKUP(E95,'ePrijava in Navodila'!$B$13:$H$164,2,FALSE) & \" \" & VLOOKUP(E95,'ePrijava in Navodila'!$B$13:$H$164,3,FALSE))","v":""},{"$f":"IF(E95=\"\",\"\",VLOOKUP(E95,'ePrijava in Navodila'!$B$13:$H$164,5,FALSE))","v":""},null,{"$f":"IF(E95=\"\",\"\",VLOOKUP(E95,'ePrijava in Navodila'!$B$13:$H$164,7,FALSE))","v":""},null,null,null,null,null,null,0]
[92,null,{"$f":"IF(E96=\"\",\"\",VLOOKUP(E96,'ePrijava in Navodila'!$B$13:$H$164,2,FALSE) & \" \" & VLOOKUP(E96,'ePrijava in Navodila'!$B$13:$H$164,3,FALSE))","v":""},{"$f":"IF(E96=\"\",\"\",VLOOKUP(E96,'ePrijava in Navodila'!$B$13:$H$164,5,FALSE))","v":""},null,{"$f":"IF(E96=\"\",\"\",VLOOKUP(E96,'ePrijava in Navodila'!$B$13:$H$164,7,FALSE))","v":""},null,null,null,null,null,null,0]
[93,null,{"$f":"IF(E97=\"\",\"\",VLOOKUP(E97,'ePrijava in Navodila'!$B$13:$H$164,2,FALSE) & \" \" & VLOOKUP(E97,'ePrijava in Navodila'!$B$13:$H$164,3,FALSE))","v":""},{"$f":"IF(E97=\"\",\"\",VLOOKUP(E97,'ePrijava in Navodila'!$B$13:$H$164,5,FALSE))","v":""},null,{"$f":"IF(E97=\"\",\"\",VLOOKUP(E97,'ePrijava in Navodila'!$B$13:$H$164,7,FALSE))","v":""},null,null,null,null,null,null,0]
[94,null,{"$f":"IF(E98=\"\",\"\",VLOOKUP(E98,'ePrijava in Navodila'!$B$13:$H$164,2,FALSE) & \" \" & VLOOKUP(E98,'ePrijava in Navodila'!$B$13:$H$164,3,FALSE))","v":""},{"$f":"IF(E98=\"\",\"\",VLOOKUP(E98,'ePrijava in Navodila'!$B$13:$H$164,5,FALSE))","v":""},null,{"$f":"IF(E98=\"\",\"\",VLOOKUP(E98,'ePrijava in Navodila'!$B$13:$H$164,7,FALSE))","v":""},null,null,null,null,null,null,0]
[95,null,{"$f":"IF(E99=\"\",\"\",VLOOKUP(E99,'ePrijava in Navodila'!$B$13:$H$164,2,FALSE) & \" \" & VLOOKUP(E99,'ePrijava in Navodila'!$B$13:$H$164,3,FALSE))","v":""},{"$f":"IF(E99=\"\",\"\",VLOOKUP(E99,'ePrijava in Navodila'!$B$13:$H$164,5,FALSE))","v":""},null,{"$f":"IF(E99=\"\",\"\",VLOOKUP(E99,'ePrijava in Navodila'!$B$13:$H$164,7,FALSE))","v":""},null,null,null,null,null,null,0]
[96,null,{"$f":"IF(E100=\"\",\"\",VLOOKUP(E100,'ePrijava in Navodila'!$B$13:$H$164,2,FALSE) & \" \" & VLOOKUP(E100,'ePrijava in Navodila'!$B$13:$H$164,3,FALSE))","v":""},{"$f":"IF(E100=\"\",\"\",VLOOKUP(E100,'ePrijava in Navodila'!$B$13:$H$164,5,FALSE))","v":""},null,{"$f":"IF(E100=\"\",\"\",VLOOKUP(E100,'ePrijava in Navodila'!$B$13:$H$164,7,FALSE))","v":""},null,null,null,null,null,null,0]
[]
[]
[]
[]
["mesto",null,"U11 (mlajše deklice)"]
[]
[]
[null,null,"Priimek in ime","Roj.","BIB","Društvo, klub","1. ser","2. ser","3. ser","4. ser","1. ser","2. ser","skupno","nc*"]
[null,null,null,"skrita"]
[1,null,{"$f":"IF(E110=\"\",\"\",VLOOKUP(E110,'ePrijava in Navodila'!$B$13:$H$164,2,FALSE) & \" \" & VLOOKUP(E110,'ePrijava in Navodila'!$B$13:$H$164,3,FALSE))","v":""},{"$f":"IF(E110=\"\",\"\",VLOOKUP(E110,'ePrijava in Navodila'!$B$13:$H$164,5,FALSE))","v":""},null,{"$f":"IF(E110=\"\",\"\",VLOOKUP(E110,'ePrijava in Navodila'!$B$13:$H$164,7,FALSE))","v":""},null,null,null,null,null,null,{"$f":"SUM(G110:L110)","v":0}]
[2,null,{"$f":"IF(E111=\"\",\"\",VLOOKUP(E111,'ePrijava in Navodila'!$B$13:$H$164,2,FALSE) & \" \" & VLOOKUP(E111,'ePrijava in Navodila'!$B$13:$H$164,3,FALSE))","v":""},{"$f":"IF(E111=\"\",\"\",VLOOKUP(E111,'ePrijava in Navodila'!$B$13:$H$164,5,FALSE))","v":""},null,{"$f":"IF(E111=\"\",\"\",VLOOKUP(E111,'ePrijava in Navodila'!$B$13:$H$164,7,FALSE))","v":""},null,null,null,null,null,null,0]
[3,null,{"$f":"IF(E112=\"\",\"\",VLOOKUP(E112,'ePrijava in Navodila'!$B$13:$H$164,2,FALSE) & \" \" & VLOOKUP(E112,'ePrijava in Navodila'!$B$13:$H$164,3,FALSE))","v":""},{"$f":"IF(E112=\"\",\"\",VLOOKUP(E112,'ePrijava in Navodila'!$B$13:$H$164,5,FALSE))","v":""},null,{"$f":"IF(E112=\"\",\"\",VLOOKUP(E112,'ePrijava in Navodila'!$B$13:$H$164,7,FALSE))","v":""},null,null,null,null,null,null,0]
[4,null,{"$f":"IF(E113=\"\",\"\",VLOOKUP(E113,'ePrijava in Navodila'!$B$13:$H$164,2,FALSE) & \" \" & VLOOKUP(E113,'ePrijava in Navodila'!$B$13:$H$164,3,FALSE))","v":""},{"$f":"IF(E113=\"\",\"\",VLOOKUP(E113,'ePrijava in Navodila'!$B$13:$H$164,5,FALSE))","v":""},null,{"$f":"IF(E113=\"\",\"\",VLOOKUP(E113,'ePrijava in Navodila'!$B$13:$H$164,7,FALSE))","v":""},null,null,null,null,null,null,0]
[5,null,{"$f":"IF(E114=\"\",\"\",VLOOKUP(E114,'ePrijava in Navodila'!$B$13:$H$164,2,FALSE) & \" \" & VLOOKUP(E114,'ePrijava in Navodila'!$B$13:$H$164,3,FALSE))","v":""},{"$f":"IF(E114=\"\",\"\",VLOOKUP(E114,'ePrijava in Navodila'!$B$13:$H$164,5,FALSE))","v":""},null,{"$f":"IF(E114=\"\",\"\",VLOOKUP(E114,'ePrijava in Navodila'!$B$13:$H$164,7,FALSE))","v":""},null,null,null,null,null,null,0]
[6,null,{"$f":"IF(E115=\"\",\"\",VLOOKUP(E115,'ePrijava in Navodila'!$B$13:$H$164,2,FALSE) & \" \" & VLOOKUP(E115,'ePrijava in Navodila'!$B$13:$H$164,3,FALSE))","v":""},{"$f":"IF(E115=\"\",\"\",VLOOKUP(E115,'ePrijava in Navodila'!$B$13:$H$164,5,FALSE))","v":""},null,{"$f":"IF(E115=\"\",\"\",VLOOKUP(E115,'ePrijava in Navodila'!$B$13:$H$164,7,FALSE))","v":""},null,null,null,null,null,null,0]
[7,null,{"$f":"IF(E116=\"\",\"\",VLOOKUP(E116,'ePrijava in Navodila'!$B$13:$H$164,2,FALSE) & \" \" & VLOOKUP(E116,'ePrijava in Navodila'!$B$13:$H$164,3,FALSE))","v":""},{"$f":"IF(E116=\"\",\"\",VLOOKUP(E116,'ePrijava in Navodila'!$B$13:$H$164,5,FALSE))","v":""},null,{"$f":"IF(E116=\"\",\"\",VLOOKUP(E116,'ePrijava in Navodila'!$B$13:$H$164,7,FALSE))","v":""},null,null,null,null,null,null,0]
[8,null,{"$f":"IF(E117=\"\",\"\",VLOOKUP(E117,'ePrijava in Navodila'!$B$13:$H$164,2,FALSE) & \" \" & VLOOKUP(E117,'ePrijava in Navodila'!$B$13:$H$164,3,FALSE))","v":""},{"$f":"IF(E117=\"\",\"\",VLOOKUP(E117,'ePrijava in Navodila'!$B$13:$H$164,5,FALSE))","v":""},null,{"$f":"IF(E117=\"\",\"\",VLOOKUP(E117,'ePrijava in Navodila'!$B$13:$H$164,7,FALSE))","v":""},null,null,null,null,null,null,0]
[9,null,{"$f":"IF(E118=\"\",\"\",VLOOKUP(E118,'ePrijava in Navodila'!$B$13:$H$164,2,FALSE) & \" \" & VLOOKUP(E118,'ePrijava in Navodila'!$B$13:$H$164,3,FALSE))","v":""},{"$f":"IF(E118=\"\",\"\",VLOOKUP(E118,'ePrijava in Navodila'!$B$13:$H$164,5,FALSE))","v":""},null,{"$f":"IF(E118=\"\",\"\",VLOOKUP(E118,'ePrijava in Navodila'!$B$13:$H$164,7,FALSE))","v":""},null,null,null,null,null,null,0]
[10,null,{"$f":"IF(E119=\"\",\"\",VLOOKUP(E119,'ePrijava in Navodila'!$B$13:$H$164,2,FALSE) & \" \" & VLOOKUP(E119,'ePrijava in Navodila'!$B$13:$H$164,3,FALSE))","v":""},{"$f":"IF(E119=\"\",\"\",VLOOKUP(E119,'ePrijava in Navodila'!$B$13:$H$164,5,FALSE))","v":""},null,{"$f":"IF(E119=\"\",\"\",VLOOKUP(E119,'ePrijava in Navodila'!$B$13:$H$164,7,FALSE))","v":""},null,null,null,null,null,null,0]
[11,null,{"$f":"IF(E120=\"\",\"\",VLOOKUP(E120,'ePrijava in Navodila'!$B$13:$H$164,2,FALSE) & \" \" & VLOOKUP(E120,'ePrijava in Navodila'!$B$13:$H$164,3,FALSE))","v":""},{"$f":"IF(E120=\"\",\"\",VLOOKUP(E120,'ePrijava in Navodila'!$B$13:$H$164,5,FALSE))","v":""},null,{"$f":"IF(E120=\"\",\"\",VLOOKUP(E120,'ePrijava in Navodila'!$B$13:$H$164,7,FALSE))","v":""},null,null,null,null,null,null,0]
[12,null,{"$f":"IF(E121=\"\",\"\",VLOOKUP(E121,'ePrijava in Navodila'!$B$13:$H$164,2,FALSE) & \" \" & VLOOKUP(E121,'ePrijava in Navodila'!$B$13:$H$164,3,FALSE))","v":""},{"$f":"IF(E121=\"\",\"\",VLOOKUP(E121,'ePrijava in Navodila'!$B$13:$H$164,5,FALSE))","v":""},null,{"$f":"IF(E121=\"\",\"\",VLOOKUP(E121,'ePrijava in Navodila'!$B$13:$H$164,7,FALSE))","v":""},null,null,null,null,null,null,0]
[13,null,{"$f":"IF(E122=\"\",\"\",VLOOKUP(E122,'ePrijava in Navodila'!$B$13:$H$164,2,FALSE) & \" \" & VLOOKUP(E122,'ePrijava in Navodila'!$B$13:$H$164,3,FALSE))","v":""},{"$f":"IF(E122=\"\",\"\",VLOOKUP(E122,'ePrijava in Navodila'!$B$13:$H$164,5,FALSE))","v":""},null,{"$f":"IF(E122=\"\",\"\",VLOOKUP(E122,'ePrijava in Navodila'!$B$13:$H$164,7,FALSE))","v":""},null,null,null,null,null,null,0]
[14,null,{"$f":"IF(E123=\"\",\"\",VLOOKUP(E123,'ePrijava in Navodila'!$B$13:$H$164,2,FALSE) & \" \" & VLOOKUP(E123,'ePrijava in Navodila'!$B$13:$H$164,3,FALSE))","v":""},{"$f":"IF(E123=\"\",\"\",VLOOKUP(E123,'ePrijava in Navodila'!$B$13:$H$164,5,FALSE))","v":""},null,{"$f":"IF(E123=\"\",\"\",VLOOKUP(E123,'ePrijava in Navodila'!$B$13:$H$164,7,FALSE))","v":""},null,null,null,null,null,null,0]
[15,null,{"$f":"IF(E124=\"\",\"\",VLOOKUP(E124,'ePrijava in Navodila'!$B$13:$H$164,2,FALSE) & \" \" & VLOOKUP(E124,'ePrijava in Navodila'!$B$13:$H$164,3,FALSE))","v":""},{"$f":"IF(E124=\"\",\"\",VLOOKUP(E124,'ePrijava in Navodila'!$B$13:$H$164,5,FALSE))","v":""},null,{"$f":"IF(E124=\"\",\"\",VLOOKUP(E124,'ePrijava in Navodila'!$B$13:$H$164,7,FALSE))","v":""},null,null,null,null,null,null,0]
[16,null,{"$f":"IF(E125=\"\",\"\",VLOOKUP(E125,'ePrijava in Navodila'!$B$13:$H$164,2,FALSE) & \" \" & VLOOKUP(E125,'ePrijava in Navodila'!$B$13:$H$164,3,FALSE))","v":""},{"$f":"IF(E125=\"\",\"\",VLOOKUP(E125,'ePrijava in Navodila'!$B$13:$H$164,5,FALSE))","v":""},null,{"$f":"IF(E125=\"\",\"\",VLOOKUP(E125,'ePrijava in Navodila'!$B$13:$H$164,7,FALSE))","v":""},null,null,null,null,null,null,0]
[17,null,{"$f":"IF(E126=\"\",\"\",VLOOKUP(E126,'ePrijava in Navodila'!$B$13:$H$164,2,FALSE) & \" \" & VLOOKUP(E126,'ePrijava in Navodila'!$B$13:$H$164,3,FALSE))","v":""},{"$f":"IF(E126=\"\",\"\",VLOOKUP(E126,'ePrijava in Navodila'!$B$13:$H$164,5,FALSE))","v":""},null,{"$f":"IF(E126=\"\",\"\",VLOOKUP(E126,'ePrijava in Navodila'!$B$13:$H$164,7,FALSE))","v":""},null,null,null,null,null,null,0]
[18,null,{"$f":"IF(E127=\"\",\"\",VLOOKUP(E127,'ePrijava in Navodila'!$B$13:$H$164,2,FALSE) & \" \" & VLOOKUP(E127,'ePrijava in Navodila'!$B$13:$H$164,3,FALSE))","v":""},{"$f":"IF(E127=\"\",\"\",VLOOKUP(E127,'ePrijava in Navodila'!$B$13:$H$164,5,FALSE))","v":""},null,{"$f":"IF(E127=\"\",\"\",VLOOKUP(E127,'ePrijava in Navodila'!$B$13:$H$164,7,FALSE))","v":""},null,null,null,null,null,null,0]
[19,null,{"$f":"IF(E128=\"\",\"\",VLOOKUP(E128,'ePrijava in Navodila'!$B$13:$H$164,2,FALSE) & \" \" & VLOOKUP(E128,'ePrijava in Navodila'!$B$13:$H$164,3,FALSE))","v":""},{"$f":"IF(E128=\"\",\"\",VLOOKUP(E128,'ePrijava in Navodila'!$B$13:$H$164,5,FALSE))","v":""},null,{"$f":"IF(E128=\"\",\"\",VLOOKUP(E128,'ePrijava in Navodila'!$B$13:$H$164,7,FALSE))","v":""},null,null,null,null,null,null,0]
[20,null,{"$f":"IF(E129=\"\",\"\",VLOOKUP(E129,'ePrijava in Navodila'!$B$13:$H$164,2,FALSE) & \" \" & VLOOKUP(E129,'ePrijava in Navodila'!$B$13:$H$164,3,FALSE))","v":""},{"$f":"IF(E129=\"\",\"\",VLOOKUP(E129,'ePrijava in Navodila'!$B$13:$H$164,5,FALSE))","v":""},null,{"$f":"IF(E129=\"\",\"\",VLOOKUP(E129,'ePrijava in Navodila'!$B$13:$H$164,7,FALSE))","v":""},null,null,null,null,null,null,0]
[21,null,{"$f":"IF(E130=\"\",\"\",VLOOKUP(E130,'ePrijava in Navodila'!$B$13:$H$164,2,FALSE) & \" \" & VLOOKUP(E130,'ePrijava in Navodila'!$B$13:$H$164,3,FALSE))","v":""},{"$f":"IF(E130=\"\",\"\",VLOOKUP(E130,'ePrijava in Navodila'!$B$13:$H$164,5,FALSE))","v":""},null,{"$f":"IF(E130=\"\",\"\",VLOOKUP(E130,'ePrijava in Navodila'!$B$13:$H$164,7,FALSE))","v":""},null,null,null,null,null,null,0]
[22,null,{"$f":"IF(E131=\"\",\"\",VLOOKUP(E131,'ePrijava in Navodila'!$B$13:$H$164,2,FALSE) & \" \" & VLOOKUP(E131,'ePrijava in Navodila'!$B$13:$H$164,3,FALSE))","v":""},{"$f":"IF(E131=\"\",\"\",VLOOKUP(E131,'ePrijava in Navodila'!$B$13:$H$164,5,FALSE))","v":""},null,{"$f":"IF(E131=\"\",\"\",VLOOKUP(E131,'ePrijava in Navodila'!$B$13:$H$164,7,FALSE))","v":""},null,null,null,null,null,null,0]
[23,null,{"$f":"IF(E132=\"\",\"\",VLOOKUP(E132,'ePrijava in Navodila'!$B$13:$H$164,2,FALSE) & \" \" & VLOOKUP(E132,'ePrijava in Navodila'!$B$13:$H$164,3,FALSE))","v":""},{"$f":"IF(E132=\"\",\"\",VLOOKUP(E132,'ePrijava in Navodila'!$B$13:$H$164,5,FALSE))","v":""},null,{"$f":"IF(E132=\"\",\"\",VLOOKUP(E132,'ePrijava in Navodila'!$B$13:$H$164,7,FALSE))","v":""},null,null,null,null,null,null,0]
[24,null,{"$f":"IF(E133=\"\",\"\",VLOOKUP(E133,'ePrijava in Navodila'!$B$13:$H$164,2,FALSE) & \" \" & VLOOKUP(E133,'ePrijava in Navodila'!$B$13:$H$164,3,FALSE))","v":""},{"$f":"IF(E133=\"\",\"\",VLOOKUP(E133,'ePrijava in Navodila'!$B$13:$H$164,5,FALSE))","v":""},null,{"$f":"IF(E133=\"\",\"\",VLOOKUP(E133,'ePrijava in Navodila'!$B$13:$H$164,7,FALSE))","v":""},null,null,null,null,null,null,0]
[25,null,{"$f":"IF(E134=\"\",\"\",VLOOKUP(E134,'ePrijava in Navodila'!$B$13:$H$164,2,FALSE) & \" \" & VLOOKUP(E134,'ePrijava in Navodila'!$B$13:$H$164,3,FALSE))","v":""},{"$f":"IF(E134=\"\",\"\",VLOOKUP(E134,'ePrijava in Navodila'!$B$13:$H$164,5,FALSE))","v":""},null,{"$f":"IF(E134=\"\",\"\",VLOOKUP(E134,'ePrijava in Navodila'!$B$13:$H$164,7,FALSE))","v":""},null,null,null,null,null,null,0]
[26,null,{"$f":"IF(E135=\"\",\"\",VLOOKUP(E135,'ePrijava in Navodila'!$B$13:$H$164,2,FALSE) & \" \" & VLOOKUP(E135,'ePrijava in Navodila'!$B$13:$H$164,3,FALSE))","v":""},{"$f":"IF(E135=\"\",\"\",VLOOKUP(E135,'ePrijava in Navodila'!$B$13:$H$164,5,FALSE))","v":""},null,{"$f":"IF(E135=\"\",\"\",VLOOKUP(E135,'ePrijava in Navodila'!$B$13:$H$164,7,FALSE))","v":""},null,null,null,null,null,null,0]
[27,null,{"$f":"IF(E136=\"\",\"\",VLOOKUP(E136,'ePrijava in Navodila'!$B$13:$H$164,2,FALSE) & \" \" & VLOOKUP(E136,'ePrijava in Navodila'!$B$13:$H$164,3,FALSE))","v":""},{"$f":"IF(E136=\"\",\"\",VLOOKUP(E136,'ePrijava in Navodila'!$B$13:$H$164,5,FALSE))","v":""},null,{"$f":"IF(E136=\"\",\"\",VLOOKUP(E136,'ePrijava in Navodila'!$B$13:$H$164,7,FALSE))","v":""},null,null,null,null,null,null,0]
[28,null,{"$f":"IF(E137=\"\",\"\",VLOOKUP(E137,'ePrijava in Navodila'!$B$13:$H$164,2,FALSE) & \" \" & VLOOKUP(E137,'ePrijava in Navodila'!$B$13:$H$164,3,FALSE))","v":""},{"$f":"IF(E137=\"\",\"\",VLOOKUP(E137,'ePrijava in Navodila'!$B$13:$H$164,5,FALSE))","v":""},null,{"$f":"IF(E137=\"\",\"\",VLOOKUP(E137,'ePrijava in Navodila'!$B$13:$H$164,7,FALSE))","v":""},null,null,null,null,null,null,0]
[29,null,{"$f":"IF(E138=\"\",\"\",VLOOKUP(E138,'ePrijava in Navodila'!$B$13:$H$164,2,FALSE) & \" \" & VLOOKUP(E138,'ePrijava in Navodila'!$B$13:$H$164,3,FALSE))","v":""},{"$f":"IF(E138=\"\",\"\",VLOOKUP(E138,'ePrijava in Navodila'!$B$13:$H$164,5,FALSE))","v":""},null,{"$f":"IF(E138=\"\",\"\",VLOOKUP(E138,'ePrijava in Navodila'!$B$13:$H$164,7,FALSE))","v":""},null,null,null,null,null,null,0]
[30,null,{"$f":"IF(E139=\"\",\"\",VLOOKUP(E139,'ePrijava in Navodila'!$B$13:$H$164,2,FALSE) & \" \" & VLOOKUP(E139,'ePrijava in Navodila'!$B$13:$H$164,3,FALSE))","v":""},{"$f":"IF(E139=\"\",\"\",VLOOKUP(E139,'ePrijava in Navodila'!$B$13:$H$164,5,FALSE))","v":""},null,{"$f":"IF(E139=\"\",\"\",VLOOKUP(E139,'ePrijava in Navodila'!$B$13:$H$164,7,FALSE))","v":""},null,null,null,null,null,null,0]
[31,null,{"$f":"IF(E140=\"\",\"\",VLOOKUP(E140,'ePrijava in Navodila'!$B$13:$H$164,2,FALSE) & \" \" & VLOOKUP(E140,'ePrijava in Navodila'!$B$13:$H$164,3,FALSE))","v":""},{"$f":"IF(E140=\"\",\"\",VLOOKUP(E140,'ePrijava in Navodila'!$B$13:$H$164,5,FALSE))","v":""},null,{"$f":"IF(E140=\"\",\"\",VLOOKUP(E140,'ePrijava in Navodila'!$B$13:$H$164,7,FALSE))","v":""},null,null,null,null,null,null,0]
[32,null,{"$f":"IF(E141=\"\",\"\",VLOOKUP(E141,'ePrijava in Navodila'!$B$13:$H$164,2,FALSE) & \" \" & VLOOKUP(E141,'ePrijava in Navodila'!$B$13:$H$164,3,FALSE))","v":""},{"$f":"IF(E141=\"\",\"\",VLOOKUP(E141,'ePrijava in Navodila'!$B$13:$H$164,5,FALSE))","v":""},null,{"$f":"IF(E141=\"\",\"\",VLOOKUP(E141,'ePrijava in Navodila'!$B$13:$H$164,7,FALSE))","v":""},null,null,null,null,null,null,0]
[33,null,{"$f":"IF(E142=\"\",\"\",VLOOKUP(E142,'ePrijava in Navodila'!$B$13:$H$164,2,FALSE) & \" \" & VLOOKUP(E142,'ePrijava in Navodila'!$B$13:$H$164,3,FALSE))","v":""},{"$f":"IF(E142=\"\",\"\",VLOOKUP(E142,'ePrijava in Navodila'!$B$13:$H$164,5,FALSE))","v":""},null,{"$f":"IF(E142=\"\",\"\",VLOOKUP(E142,'ePrijava in Navodila'!$B$13:$H$164,7,FALSE))","v":""},null,null,null,null,null,null,0]
[34,null,{"$f":"IF(E143=\"\",\"\",VLOOKUP(E143,'ePrijava in Navodila'!$B$13:$H$164,2,FALSE) & \" \" & VLOOKUP(E143,'ePrijava in Navodila'!$B$13:$H$164,3,FALSE))","v":""},{"$f":"IF(E143=\"\",\"\",VLOOKUP(E143,'ePrijava in Navodila'!$B$13:$H$164,5,FALSE))","v":""},null,{"$f":"IF(E143=\"\",\"\",VLOOKUP(E143,'ePrijava in Navodila'!$B$13:$H$164,7,FALSE))","v":""},null,null,null,null,null,null,0]
[35,null,{"$f":"IF(E144=\"\",\"\",VLOOKUP(E144,'ePrijava in Navodila'!$B$13:$H$164,2,FALSE) & \" \" & VLOOKUP(E144,'ePrijava in Navodila'!$B$13:$H$164,3,FALSE))","v":""},{"$f":"IF(E144=\"\",\"\",VLOOKUP(E144,'ePrijava in Navodila'!$B$13:$H$164,5,FALSE))","v":""},null,{"$f":"IF(E144=\"\",\"\",VLOOKUP(E144,'ePrijava in Navodila'!$B$13:$H$164,7,FALSE))","v":""},null,null,null,null,null,null,0]
[36,null,{"$f":"IF(E145=\"\",\"\",VLOOKUP(E145,'ePrijava in Navodila'!$B$13:$H$164,2,FALSE) & \" \" & VLOOKUP(E145,'ePrijava in Navodila'!$B$13:$H$164,3,FALSE))","v":""},{"$f":"IF(E145=\"\",\"\",VLOOKUP(E145,'ePrijava in Navodila'!$B$13:$H$164,5,FALSE))","v":""},null,{"$f":"IF(E145=\"\",\"\",VLOOKUP(E145,'ePrijava in Navodila'!$B$13:$H$164,7,FALSE))","v":""},null,null,null,null,null,null,0]
[37,null,{"$f":"IF(E146=\"\",\"\",VLOOKUP(E146,'ePrijava in Navodila'!$B$13:$H$164,2,FALSE) & \" \" & VLOOKUP(E146,'ePrijava in Navodila'!$B$13:$H$164,3,FALSE))","v":""},{"$f":"IF(E146=\"\",\"\",VLOOKUP(E146,'ePrijava in Navodila'!$B$13:$H$164,5,FALSE))","v":""},null,{"$f":"IF(E146=\"\",\"\",VLOOKUP(E146,'ePrijava in Navodila'!$B$13:$H$164,7,FALSE))","v":""},null,null,null,null,null,null,0]
[38,null,{"$f":"IF(E147=\"\",\"\",VLOOKUP(E147,'ePrijava in Navodila'!$B$13:$H$164,2,FALSE) & \" \" & VLOOKUP(E147,'ePrijava in Navodila'!$B$13:$H$164,3,FALSE))","v":""},{"$f":"IF(E147=\"\",\"\",VLOOKUP(E147,'ePrijava in Navodila'!$B$13:$H$164,5,FALSE))","v":""},null,{"$f":"IF(E147=\"\",\"\",VLOOKUP(E147,'ePrijava in Navodila'!$B$13:$H$164,7,FALSE))","v":""},null,null,null,null,null,null,0]
[39,null,{"$f":"IF(E148=\"\",\"\",VLOOKUP(E148,'ePrijava in Navodila'!$B$13:$H$164,2,FALSE) & \" \" & VLOOKUP(E148,'ePrijava in Navodila'!$B$13:$H$164,3,FALSE))","v":""},{"$f":"IF(E148=\"\",\"\",VLOOKUP(E148,'ePrijava in Navodila'!$B$13:$H$164,5,FALSE))","v":""},null,{"$f":"IF(E148=\"\",\"\",VLOOKUP(E148,'ePrijava in Navodila'!$B$13:$H$164,7,FALSE))","v":""},null,null,null,null,null,null,0]
[40,null,{"$f":"IF(E149=\"\",\"\",VLOOKUP(E149,'ePrijava in Navodila'!$B$13:$H$164,2,FALSE) & \" \" & VLOOKUP(E149,'ePrijava in Navodila'!$B$13:$H$164,3,FALSE))","v":""},{"$f":"IF(E149=\"\",\"\",VLOOKUP(E149,'ePrijava in Navodila'!$B$13:$H$164,5,FALSE))","v":""},null,{"$f":"IF(E149=\"\",\"\",VLOOKUP(E149,'ePrijava in Navodila'!$B$13:$H$164,7,FALSE))","v":""},null,null,null,null,null,null,0]

{"sheet":"U13-PI","index":6,"n_rows":149,"n_cols":27,"rows_kept":149,"cut":false,"hidden":false,"merged":[[104,0,108,0],[104,1,108,1],[104,2,105,12],[0,2,0,12],[0,18,2,37],[1,0,3,0],[1,1,3,1],[1,2,1,12],[103,4,103,5]]}
[null,null,"POKAL PRIJATELJSTVA ZRAČNA PIŠTOLA - NASLON",null,null,null,null,null,null,null,null,null,null,null,null,null,null,null,"Iz evidence in zavihka ePrijava in Navodila se za tekmovalca v seznam za rezultate v stolpec E vpiše BIB številka pri \"moških\" od vrstice 5 dalje, za \"ženske\"pa od vrstice 110 dalje. Po vpisu BIB bo preneslo vse podatke v ta seznam, kjer se nato vpisujejo rezultati. Vpiše se rezultat serije v K in L  ter nc*. Prav tako se za upoštevanje rezultata ekipno vpišejo samo BIB številke v stolpcu R za vse tri člane ekipe, ki je lahko mešana. Prenos ostalih podatkov je samodejen.  Posamezno se lahko razvrsti, ekipno ostane nerazvrščeno. Dokument mora imeti omogočen makro."]
["mesto",null,"U13 (dečki)"]
[]
[null,null,"Priimek in ime","Roj.skrita","BIB","Društvo, klub","1. ser","2. ser","3. ser","4. ser","1. ser","2. ser","skupno","nc*"]
[1,null,{"$f":"IF(E5=\"\",\"\",VLOOKUP(E5,'ePrijava in Navodila'!$B$13:$H$164,2,FALSE) & \" \" & VLOOKUP(E5,'ePrijava in Navodila'!$B$13:$H$164,3,FALSE))","v":""},{"$f":"IF(E5=\"\",\"\",VLOOKUP(E5,'ePrijava in Navodila'!$B$13:$H$164,5,FALSE))","v":""},null,{"$f":"IF(E5=\"\",\"\",VLOOKUP(E5,'ePrijava in Navodila'!$B$13:$H$164,7,FALSE))","v":""},null,null,null,null,null,null,{"$f":"SUM(G5:L5)","v":0},null,null,null,null,null,"EKIPNO: "]
[2,null,{"$f":"IF(E6=\"\",\"\",VLOOKUP(E6,'ePrijava in Navodila'!$B$13:$H$164,2,FALSE) & \" \" & VLOOKUP(E6,'ePrijava in Navodila'!$B$13:$H$164,3,FALSE))","v":""},{"$f":"IF(E6=\"\",\"\",VLOOKUP(E6,'ePrijava in Navodila'!$B$13:$H$164,5,FALSE))","v":""},null,{"$f":"IF(E6=\"\",\"\",VLOOKUP(E6,'ePrijava in Navodila'!$B$13:$H$164,7,FALSE))","v":""},null,null,null,null,null,null,0]
[3,null,{"$f":"IF(E7=\"\",\"\",VLOOKUP(E7,'ePrijava in Navodila'!$B$13:$H$164,2,FALSE) & \" \" & VLOOKUP(E7,'ePrijava in Navodila'!$B$13:$H$164,3,FALSE))","v":""},{"$f":"IF(E7=\"\",\"\",VLOOKUP(E7,'ePrijava in Navodila'!$B$13:$H$164,5,FALSE))","v":""},null,{"$f":"IF(E7=\"\",\"\",VLOOKUP(E7,'ePrijava in Navodila'!$B$13:$H$164,7,FALSE))","v":""},null,null,null,null,null,null,0,null,null,null,null,null,{"$f":"IF(R9=\"\",\"\",VLOOKUP(R9,'ePrijava in Navodila'!$B$13:$H$164,7,FALSE))","v":""}]
[4,null,{"$f":"IF(E8=\"\",\"\",VLOOKUP(E8,'ePrijava in Navodila'!$B$13:$H$164,2,FALSE) & \" \" & VLOOKUP(E8,'ePrijava in Navodila'!$B$13:$H$164,3,FALSE))","v":""},{"$f":"IF(E8=\"\",\"\",VLOOKUP(E8,'ePrijava in Navodila'!$B$13:$H$164,5,FALSE))","v":""},null,{"$f":"IF(E8=\"\",\"\",VLOOKUP(E8,'ePrijava in Navodila'!$B$13:$H$164,7,FALSE))","v":""},null,null,null,null,null,null,0,null,null,null,null,"BIB","Priimek in ime","1. ser","2. ser","3. ser","4. ser","1. ser","2. ser","skupno","nc*"]
[5,null,{"$f":"IF(E9=\"\",\"\",VLOOKUP(E9,'ePrijava in Navodila'!$B$13:$H$164,2,FALSE) & \" \" & VLOOKUP(E9,'ePrijava in Navodila'!$B$13:$H$164,3,FALSE))","v":""},{"$f":"IF(E9=\"\",\"\",VLOOKUP(E9,'ePrijava in Navodila'!$B$13:$H$164,5,FALSE))","v":""},null,{"$f":"IF(E9=\"\",\"\",VLOOKUP(E9,'ePrijava in Navodila'!$B$13:$H$164,7,FALSE))","v":""},null,null,null,null,null,null,0,null,null,null,null,null,{"$f":"IF(R9=\"\",\"\",VLOOKUP(R9,'ePrijava in Navodila'!$B$13:$H$164,2,FALSE) & \" \" & VLOOKUP(R9,'ePrijava in Navodila'!$B$13:$H$164,3,FALSE))","v":""},{"$f":"IF(S9=\"\",\"\",VLOOKUP(S9,$C$5:$L$149,5,FALSE))","v":""},{"$f":"IF(S9=\"\",\"\",VLOOKUP(S9,$C$5:$L$149,6,FALSE))","v":""},{"$f":"IF(S9=\"\",\"\",VLOOKUP(S9,$C$5:$L$149,7,FALSE))","v":""},{"$f":"IF(S9=\"\",\"\",VLOOKUP(S9,$C$5:$L$149,8,FALSE))","v":""},{"$f":"IF(S9=\"\",\"\",VLOOKUP(S9,$C$5:$L$149,9,FALSE))","v":""},{"$f":"IF(S9=\"\",\"\",VLOOKUP(S9,$C$5:$L$149,10,FALSE))","v":""},{"$f":"SUM(T9:Y9)","v":0},{"$f":"IF(S9=\"\",\"\",VLOOKUP(S9,$C$5:$N$149,12,FALSE))","v":""}]
[6,null,{"$f":"IF(E10=\"\",\"\",VLOOKUP(E10,'ePrijava in Navodila'!$B$13:$H$164,2,FALSE) & \" \" & VLOOKUP(E10,'ePrijava in Navodila'!$B$13:$H$164,3,FALSE))","v":""},{"$f":"IF(E10=\"\",\"\",VLOOKUP(E10,'ePrijava in Navodila'!$B$13:$H$164,5,FALSE))","v":""},null,{"$f":"IF(E10=\"\",\"\",VLOOKUP(E10,'ePrijava in Navodila'!$B$13:$H$164,7,FALSE))","v":""},null,null,null,null,null,null,0,null,null,null,null,null,{"$f":"IF(R10=\"\",\"\",VLOOKUP(R10,'ePrijava in Navodila'!$B$13:$H$164,2,FALSE) & \" \" & VLOOKUP(R10,'ePrijava in Navodila'!$B$13:$H$164,3,FALSE))","v":""},{"$f":"IF(S10=\"\",\"\",VLOOKUP(S10,$C$5:$L$149,5,FALSE))","v":""},{"$f":"IF(S10=\"\",\"\",VLOOKUP(S10,$C$5:$L$149,6,FALSE))","v":""},{"$f":"IF(S10=\"\",\"\",VLOOKUP(S10,$C$5:$L$149,7,FALSE))","v":""},{"$f":"IF(S10=\"\",\"\",VLOOKUP(S10,$C$5:$L$149,8,FALSE))","v":""},{"$f":"IF(S10=\"\",\"\",VLOOKUP(S10,$C$5:$L$149,9,FALSE))","v":""},{"$f":"IF(S10=\"\",\"\",VLOOKUP(S10,$C$5:$L$149,10,FALSE))","v":""},{"$f":"SUM(T10:Y10)","v":0},{"$f":"IF(S10=\"\",\"\",VLOOKUP(S10,$C$5:$N$149,12,FALSE))","v":""}]
[7,null,{"$f":"IF(E11=\"\",\"\",VLOOKUP(E11,'ePrijava in Navodila'!$B$13:$H$164,2,FALSE) & \" \" & VLOOKUP(E11,'ePrijava in Navodila'!$B$13:$H$164,3,FALSE))","v":""},{"$f":"IF(E11=\"\",\"\",VLOOKUP(E11,'ePrijava in Navodila'!$B$13:$H$164,5,FALSE))","v":""},null,{"$f":"IF(E11=\"\",\"\",VLOOKUP(E11,'ePrijava in Navodila'!$B$13:$H$164,7,FALSE))","v":""},null,null,null,null,null,null,0,null,null,null,null,null,{"$f":"IF(R11=\"\",\"\",VLOOKUP(R11,'ePrijava in Navodila'!$B$13:$H$164,2,FALSE) & \" \" & VLOOKUP(R11,'ePrijava in Navodila'!$B$13:$H$164,3,FALSE))","v":""},{"$f":"IF(S11=\"\",\"\",VLOOKUP(S11,$C$5:$L$149,5,FALSE))","v":""},{"$f":"IF(S11=\"\",\"\",VLOOKUP(S11,$C$5:$L$149,6,FALSE))","v":""},{"$f":"IF(S11=\"\",\"\",VLOOKUP(S11,$C$5:$L$149,7,FALSE))","v":""},{"$f":"IF(S11=\"\",\"\",VLOOKUP(S11,$C$5:$L$149,8,FALSE))","v":""},{"$f":"IF(S11=\"\",\"\",VLOOKUP(S11,$C$5:$L$149,9,FALSE))","v":""},{"$f":"IF(S11=\"\",\"\",VLOOKUP(S11,$C$5:$L$149,10,FALSE))","v":""},{"$f":"SUM(T11:Y11)","v":0},{"$f":"IF(S11=\"\",\"\",VLOOKUP(S11,$C$5:$N$149,12,FALSE))","v":""}]
[8,null,{"$f":"IF(E12=\"\",\"\",VLOOKUP(E12,'ePrijava in Navodila'!$B$13:$H$164,2,FALSE) & \" \" & VLOOKUP(E12,'ePrijava in Navodila'!$B$13:$H$164,3,FALSE))","v":""},{"$f":"IF(E12=\"\",\"\",VLOOKUP(E12,'ePrijava in Navodila'!$B$13:$H$164,5,FALSE))","v":""},null,{"$f":"IF(E12=\"\",\"\",VLOOKUP(E12,'ePrijava in Navodila'!$B$13:$H$164,7,FALSE))","v":""},null,null,null,null,null,null,0,null,null,null,null,null,null,null,null,null,null,null,{"$f":"SUM(Y9:Y11)","v":0},{"$f":"SUM(Z9:Z11)","v":0},{"$f":"SUM(AA9:AA11)","v":0}]
[9,null,{"$f":"IF(E13=\"\",\"\",VLOOKUP(E13,'ePrijava in Navodila'!$B$13:$H$164,2,FALSE) & \" \" & VLOOKUP(E13,'ePrijava in Navodila'!$B$13:$H$164,3,FALSE))","v":""},{"$f":"IF(E13=\"\",\"\",VLOOKUP(E13,'ePrijava in Navodila'!$B$13:$H$164,5,FALSE))","v":""},null,{"$f":"IF(E13=\"\",\"\",VLOOKUP(E13,'ePrijava in Navodila'!$B$13:$H$164,7,FALSE))","v":""},null,null,null,null,null,null,0]
[10,null,{"$f":"IF(E14=\"\",\"\",VLOOKUP(E14,'ePrijava in Navodila'!$B$13:$H$164,2,FALSE) & \" \" & VLOOKUP(E14,'ePrijava in Navodila'!$B$13:$H$164,3,FALSE))","v":""},{"$f":"IF(E14=\"\",\"\",VLOOKUP(E14,'ePrijava in Navodila'!$B$13:$H$164,5,FALSE))","v":""},null,{"$f":"IF(E14=\"\",\"\",VLOOKUP(E14,'ePrijava in Navodila'!$B$13:$H$164,7,FALSE))","v":""},null,null,null,null,null,null,0]
[11,null,{"$f":"IF(E15=\"\",\"\",VLOOKUP(E15,'ePrijava in Navodila'!$B$13:$H$164,2,FALSE) & \" \" & VLOOKUP(E15,'ePrijava in Navodila'!$B$13:$H$164,3,FALSE))","v":""},{"$f":"IF(E15=\"\",\"\",VLOOKUP(E15,'ePrijava in Navodila'!$B$13:$H$164,5,FALSE))","v":""},null,{"$f":"IF(E15=\"\",\"\",VLOOKUP(E15,'ePrijava in Navodila'!$B$13:$H$164,7,FALSE))","v":""},null,null,null,null,null,null,0,null,null,null,null,null,{"$f":"IF(R17=\"\",\"\",VLOOKUP(R17,'ePrijava in Navodila'!$B$13:$H$164,7,FALSE))","v":""}]
[12,null,{"$f":"IF(E16=\"\",\"\",VLOOKUP(E16,'ePrijava in Navodila'!$B$13:$H$164,2,FALSE) & \" \" & VLOOKUP(E16,'ePrijava in Navodila'!$B$13:$H$164,3,FALSE))","v":""},{"$f":"IF(E16=\"\",\"\",VLOOKUP(E16,'ePrijava in Navodila'!$B$13:$H$164,5,FALSE))","v":""},null,{"$f":"IF(E16=\"\",\"\",VLOOKUP(E16,'ePrijava in Navodila'!$B$13:$H$164,7,FALSE))","v":""},null,null,null,null,null,null,0,null,null,null,null,"BIB","Priimek in ime","1. ser","2. ser","3. ser","4. ser","1. ser","2. ser","skupno","nc*"]
[13,null,{"$f":"IF(E17=\"\",\"\",VLOOKUP(E17,'ePrijava in Navodila'!$B$13:$H$164,2,FALSE) & \" \" & VLOOKUP(E17,'ePrijava in Navodila'!$B$13:$H$164,3,FALSE))","v":""},{"$f":"IF(E17=\"\",\"\",VLOOKUP(E17,'ePrijava in Navodila'!$B$13:$H$164,5,FALSE))","v":""},null,{"$f":"IF(E17=\"\",\"\",VLOOKUP(E17,'ePrijava in Navodila'!$B$13:$H$164,7,FALSE))","v":""},null,null,null,null,null,null,0,null,null,null,null,null,{"$f":"IF(R17=\"\",\"\",VLOOKUP(R17,'ePrijava in Navodila'!$B$13:$H$164,2,FALSE) & \" \" & VLOOKUP(R17,'ePrijava in Navodila'!$B$13:$H$164,3,FALSE))","v":""},{"$f":"IF(S17=\"\",\"\",VLOOKUP(S17,$C$5:$L$149,5,FALSE))","v":""},{"$f":"IF(S17=\"\",\"\",VLOOKUP(S17,$C$5:$L$149,6,FALSE))","v":""},{"$f":"IF(S17=\"\",\"\",VLOOKUP(S17,$C$5:$L$149,7,FALSE))","v":""},{"$f":"IF(S17=\"\",\"\",VLOOKUP(S17,$C$5:$L$149,8,FALSE))","v":""},{"$f":"IF(S17=\"\",\"\",VLOOKUP(S17,$C$5:$L$149,9,FALSE))","v":""},{"$f":"IF(S17=\"\",\"\",VLOOKUP(S17,$C$5:$L$149,10,FALSE))","v":""},{"$f":"SUM(T17:Y17)","v":0},{"$f":"IF(S17=\"\",\"\",VLOOKUP(S17,$C$5:$N$149,12,FALSE))","v":""}]
[14,null,{"$f":"IF(E18=\"\",\"\",VLOOKUP(E18,'ePrijava in Navodila'!$B$13:$H$164,2,FALSE) & \" \" & VLOOKUP(E18,'ePrijava in Navodila'!$B$13:$H$164,3,FALSE))","v":""},{"$f":"IF(E18=\"\",\"\",VLOOKUP(E18,'ePrijava in Navodila'!$B$13:$H$164,5,FALSE))","v":""},null,{"$f":"IF(E18=\"\",\"\",VLOOKUP(E18,'ePrijava in Navodila'!$B$13:$H$164,7,FALSE))","v":""},null,null,null,null,null,null,0,null,null,null,null,null,{"$f":"IF(R18=\"\",\"\",VLOOKUP(R18,'ePrijava in Navodila'!$B$13:$H$164,2,FALSE) & \" \" & VLOOKUP(R18,'ePrijava in Navodila'!$B$13:$H$164,3,FALSE))","v":""},{"$f":"IF(S18=\"\",\"\",VLOOKUP(S18,$C$5:$L$149,5,FALSE))","v":""},{"$f":"IF(S18=\"\",\"\",VLOOKUP(S18,$C$5:$L$149,6,FALSE))","v":""},{"$f":"IF(S18=\"\",\"\",VLOOKUP(S18,$C$5:$L$149,7,FALSE))","v":""},{"$f":"IF(S18=\"\",\"\",VLOOKUP(S18,$C$5:$L$149,8,FALSE))","v":""},{"$f":"IF(S18=\"\",\"\",VLOOKUP(S18,$C$5:$L$149,9,FALSE))","v":""},{"$f":"IF(S18=\"\",\"\",VLOOKUP(S18,$C$5:$L$149,10,FALSE))","v":""},{"$f":"SUM(T18:Y18)","v":0},{"$f":"IF(S18=\"\",\"\",VLOOKUP(S18,$C$5:$N$149,12,FALSE))","v":""}]
[15,null,{"$f":"IF(E19=\"\",\"\",VLOOKUP(E19,'ePrijava in Navodila'!$B$13:$H$164,2,FALSE) & \" \" & VLOOKUP(E19,'ePrijava in Navodila'!$B$13:$H$164,3,FALSE))","v":""},{"$f":"IF(E19=\"\",\"\",VLOOKUP(E19,'ePrijava in Navodila'!$B$13:$H$164,5,FALSE))","v":""},null,{"$f":"IF(E19=\"\",\"\",VLOOKUP(E19,'ePrijava in Navodila'!$B$13:$H$164,7,FALSE))","v":""},null,null,null,null,null,null,0,null,null,null,null,null,{"$f":"IF(R19=\"\",\"\",VLOOKUP(R19,'ePrijava in Navodila'!$B$13:$H$164,2,FALSE) & \" \" & VLOOKUP(R19,'ePrijava in Navodila'!$B$13:$H$164,3,FALSE))","v":""},{"$f":"IF(S19=\"\",\"\",VLOOKUP(S19,$C$5:$L$149,5,FALSE))","v":""},{"$f":"IF(S19=\"\",\"\",VLOOKUP(S19,$C$5:$L$149,6,FALSE))","v":""},{"$f":"IF(S19=\"\",\"\",VLOOKUP(S19,$C$5:$L$149,7,FALSE))","v":""},{"$f":"IF(S19=\"\",\"\",VLOOKUP(S19,$C$5:$L$149,8,FALSE))","v":""},{"$f":"IF(S19=\"\",\"\",VLOOKUP(S19,$C$5:$L$149,9,FALSE))","v":""},{"$f":"IF(S19=\"\",\"\",VLOOKUP(S19,$C$5:$L$149,10,FALSE))","v":""},{"$f":"SUM(T19:Y19)","v":0},{"$f":"IF(S19=\"\",\"\",VLOOKUP(S19,$C$5:$N$149,12,FALSE))","v":""}]
[16,null,{"$f":"IF(E20=\"\",\"\",VLOOKUP(E20,'ePrijava in Navodila'!$B$13:$H$164,2,FALSE) & \" \" & VLOOKUP(E20,'ePrijava in Navodila'!$B$13:$H$164,3,FALSE))","v":""},{"$f":"IF(E20=\"\",\"\",VLOOKUP(E20,'ePrijava in Navodila'!$B$13:$H$164,5,FALSE))","v":""},null,{"$f":"IF(E20=\"\",\"\",VLOOKUP(E20,'ePrijava in Navodila'!$B$13:$H$164,7,FALSE))","v":""},null,null,null,null,null,null,0,null,null,null,null,null,null,null,null,null,null,null,{"$f":"SUM(Y17:Y19)","v":0},{"$f":"SUM(Z17:Z19)","v":0},{"$f":"SUM(AA17:AA19)","v":0}]
[17,null,{"$f":"IF(E21=\"\",\"\",VLOOKUP(E21,'ePrijava in Navodila'!$B$13:$H$164,2,FALSE) & \" \" & VLOOKUP(E21,'ePrijava in Navodila'!$B$13:$H$164,3,FALSE))","v":""},{"$f":"IF(E21=\"\",\"\",VLOOKUP(E21,'ePrijava in Navodila'!$B$13:$H$164,5,FALSE))","v":""},null,{"$f":"IF(E21=\"\",\"\",VLOOKUP(E21,'ePrijava in Navodila'!$B$13:$H$164,7,FALSE))","v":""},null,null,null,null,null,null,0]
[18,null,{"$f":"IF(E22=\"\",\"\",VLOOKUP(E22,'ePrijava in Navodila'!$B$13:$H$164,2,FALSE) & \" \" & VLOOKUP(E22,'ePrijava in Navodila'!$B$13:$H$164,3,FALSE))","v":""},{"$f":"IF(E22=\"\",\"\",VLOOKUP(E22,'ePrijava in Navodila'!$B$13:$H$164,5,FALSE))","v":""},null,{"$f":"IF(E22=\"\",\"\",VLOOKUP(E22,'ePrijava in Navodila'!$B$13:$H$164,7,FALSE))","v":""},null,null,null,null,null,null,0]
[19,null,{"$f":"IF(E23=\"\",\"\",VLOOKUP(E23,'ePrijava in Navodila'!$B$13:$H$164,2,FALSE) & \" \" & VLOOKUP(E23,'ePrijava in Navodila'!$B$13:$H$164,3,FALSE))","v":""},{"$f":"IF(E23=\"\",\"\",VLOOKUP(E23,'ePrijava in Navodila'!$B$13:$H$164,5,FALSE))","v":""},null,{"$f":"IF(E23=\"\",\"\",VLOOKUP(E23,'ePrijava in Navodila'!$B$13:$H$164,7,FALSE))","v":""},null,null,null,null,null,null,0,null,null,null,null,null,{"$f":"IF(R25=\"\",\"\",VLOOKUP(R25,'ePrijava in Navodila'!$B$13:$H$164,7,FALSE))","v":""}]
[20,null,{"$f":"IF(E24=\"\",\"\",VLOOKUP(E24,'ePrijava in Navodila'!$B$13:$H$164,2,FALSE) & \" \" & VLOOKUP(E24,'ePrijava in Navodila'!$B$13:$H$164,3,FALSE))","v":""},{"$f":"IF(E24=\"\",\"\",VLOOKUP(E24,'ePrijava in Navodila'!$B$13:$H$164,5,FALSE))","v":""},null,{"$f":"IF(E24=\"\",\"\",VLOOKUP(E24,'ePrijava in Navodila'!$B$13:$H$164,7,FALSE))","v":""},null,null,null,null,null,null,0,null,null,null,null,"BIB","Priimek in ime","1. ser","2. ser","3. ser","4. ser","1. ser","2. ser","skupno","nc*"]
[21,null,{"$f":"IF(E25=\"\",\"\",VLOOKUP(E25,'ePrijava in Navodila'!$B$13:$H$164,2,FALSE) & \" \" & VLOOKUP(E25,'ePrijava in Navodila'!$B$13:$H$164,3,FALSE))","v":""},{"$f":"IF(E25=\"\",\"\",VLOOKUP(E25,'ePrijava in Navodila'!$B$13:$H$164,5,FALSE))","v":""},null,{"$f":"IF(E25=\"\",\"\",VLOOKUP(E25,'ePrijava in Navodila'!$B$13:$H$164,7,FALSE))","v":""},null,null,null,null,null,null,0,null,null,null,null,null,{"$f":"IF(R25=\"\",\"\",VLOOKUP(R25,'ePrijava in Navodila'!$B$13:$H$164,2,FALSE) & \" \" & VLOOKUP(R25,'ePrijava in Navodila'!$B$13:$H$164,3,FALSE))","v":""},{"$f":"IF(S25=\"\",\"\",VLOOKUP(S25,$C$5:$L$149,5,FALSE))","v":""},{"$f":"IF(S25=\"\",\"\",VLOOKUP(S25,$C$5:$L$149,6,FALSE))","v":""},{"$f":"IF(S25=\"\",\"\",VLOOKUP(S25,$C$5:$L$149,7,FALSE))","v":""},{"$f":"IF(S25=\"\",\"\",VLOOKUP(S25,$C$5:$L$149,8,FALSE))","v":""},{"$f":"IF(S25=\"\",\"\",VLOOKUP(S25,$C$5:$L$149,9,FALSE))","v":""},{"$f":"IF(S25=\"\",\"\",VLOOKUP(S25,$C$5:$L$149,10,FALSE))","v":""},{"$f":"SUM(T25:Y25)","v":0},{"$f":"IF(S25=\"\",\"\",VLOOKUP(S25,$C$5:$N$149,12,FALSE))","v":""}]
[22,null,{"$f":"IF(E26=\"\",\"\",VLOOKUP(E26,'ePrijava in Navodila'!$B$13:$H$164,2,FALSE) & \" \" & VLOOKUP(E26,'ePrijava in Navodila'!$B$13:$H$164,3,FALSE))","v":""},{"$f":"IF(E26=\"\",\"\",VLOOKUP(E26,'ePrijava in Navodila'!$B$13:$H$164,5,FALSE))","v":""},null,{"$f":"IF(E26=\"\",\"\",VLOOKUP(E26,'ePrijava in Navodila'!$B$13:$H$164,7,FALSE))","v":""},null,null,null,null,null,null,0,null,null,null,null,null,{"$f":"IF(R26=\"\",\"\",VLOOKUP(R26,'ePrijava in Navodila'!$B$13:$H$164,2,FALSE) & \" \" & VLOOKUP(R26,'ePrijava in Navodila'!$B$13:$H$164,3,FALSE))","v":""},{"$f":"IF(S26=\"\",\"\",VLOOKUP(S26,$C$5:$L$149,5,FALSE))","v":""},{"$f":"IF(S26=\"\",\"\",VLOOKUP(S26,$C$5:$L$149,6,FALSE))","v":""},{"$f":"IF(S26=\"\",\"\",VLOOKUP(S26,$C$5:$L$149,7,FALSE))","v":""},{"$f":"IF(S26=\"\",\"\",VLOOKUP(S26,$C$5:$L$149,8,FALSE))","v":""},{"$f":"IF(S26=\"\",\"\",VLOOKUP(S26,$C$5:$L$149,9,FALSE))","v":""},{"$f":"IF(S26=\"\",\"\",VLOOKUP(S26,$C$5:$L$149,10,FALSE))","v":""},{"$f":"SUM(T26:Y26)","v":0},{"$f":"IF(S26=\"\",\"\",VLOOKUP(S26,$C$5:$N$149,12,FALSE))","v":""}]
[23,null,{"$f":"IF(E27=\"\",\"\",VLOOKUP(E27,'ePrijava in Navodila'!$B$13:$H$164,2,FALSE) & \" \" & VLOOKUP(E27,'ePrijava in Navodila'!$B$13:$H$164,3,FALSE))","v":""},{"$f":"IF(E27=\"\",\"\",VLOOKUP(E27,'ePrijava in Navodila'!$B$13:$H$164,5,FALSE))","v":""},null,{"$f":"IF(E27=\"\",\"\",VLOOKUP(E27,'ePrijava in Navodila'!$B$13:$H$164,7,FALSE))","v":""},null,null,null,null,null,null,0,null,null,null,null,null,{"$f":"IF(R27=\"\",\"\",VLOOKUP(R27,'ePrijava in Navodila'!$B$13:$H$164,2,FALSE) & \" \" & VLOOKUP(R27,'ePrijava in Navodila'!$B$13:$H$164,3,FALSE))","v":""},{"$f":"IF(S27=\"\",\"\",VLOOKUP(S27,$C$5:$L$149,5,FALSE))","v":""},{"$f":"IF(S27=\"\",\"\",VLOOKUP(S27,$C$5:$L$149,6,FALSE))","v":""},{"$f":"IF(S27=\"\",\"\",VLOOKUP(S27,$C$5:$L$149,7,FALSE))","v":""},{"$f":"IF(S27=\"\",\"\",VLOOKUP(S27,$C$5:$L$149,8,FALSE))","v":""},{"$f":"IF(S27=\"\",\"\",VLOOKUP(S27,$C$5:$L$149,9,FALSE))","v":""},{"$f":"IF(S27=\"\",\"\",VLOOKUP(S27,$C$5:$L$149,10,FALSE))","v":""},{"$f":"SUM(T27:Y27)","v":0},{"$f":"IF(S27=\"\",\"\",VLOOKUP(S27,$C$5:$N$149,12,FALSE))","v":""}]
[24,null,{"$f":"IF(E28=\"\",\"\",VLOOKUP(E28,'ePrijava in Navodila'!$B$13:$H$164,2,FALSE) & \" \" & VLOOKUP(E28,'ePrijava in Navodila'!$B$13:$H$164,3,FALSE))","v":""},{"$f":"IF(E28=\"\",\"\",VLOOKUP(E28,'ePrijava in Navodila'!$B$13:$H$164,5,FALSE))","v":""},null,{"$f":"IF(E28=\"\",\"\",VLOOKUP(E28,'ePrijava in Navodila'!$B$13:$H$164,7,FALSE))","v":""},null,null,null,null,null,null,0,null,null,null,null,null,null,null,null,null,null,null,{"$f":"SUM(Y25:Y27)","v":0},{"$f":"SUM(Z25:Z27)","v":0},{"$f":"SUM(AA25:AA27)","v":0}]
[25,null,{"$f":"IF(E29=\"\",\"\",VLOOKUP(E29,'ePrijava in Navodila'!$B$13:$H$164,2,FALSE) & \" \" & VLOOKUP(E29,'ePrijava in Navodila'!$B$13:$H$164,3,FALSE))","v":""},{"$f":"IF(E29=\"\",\"\",VLOOKUP(E29,'ePrijava in Navodila'!$B$13:$H$164,5,FALSE))","v":""},null,{"$f":"IF(E29=\"\",\"\",VLOOKUP(E29,'ePrijava in Navodila'!$B$13:$H$164,7,FALSE))","v":""},null,null,null,null,null,null,0]
[26,null,{"$f":"IF(E30=\"\",\"\",VLOOKUP(E30,'ePrijava in Navodila'!$B$13:$H$164,2,FALSE) & \" \" & VLOOKUP(E30,'ePrijava in Navodila'!$B$13:$H$164,3,FALSE))","v":""},{"$f":"IF(E30=\"\",\"\",VLOOKUP(E30,'ePrijava in Navodila'!$B$13:$H$164,5,FALSE))","v":""},null,{"$f":"IF(E30=\"\",\"\",VLOOKUP(E30,'ePrijava in Navodila'!$B$13:$H$164,7,FALSE))","v":""},null,null,null,null,null,null,0]
[27,null,{"$f":"IF(E31=\"\",\"\",VLOOKUP(E31,'ePrijava in Navodila'!$B$13:$H$164,2,FALSE) & \" \" & VLOOKUP(E31,'ePrijava in Navodila'!$B$13:$H$164,3,FALSE))","v":""},{"$f":"IF(E31=\"\",\"\",VLOOKUP(E31,'ePrijava in Navodila'!$B$13:$H$164,5,FALSE))","v":""},null,{"$f":"IF(E31=\"\",\"\",VLOOKUP(E31,'ePrijava in Navodila'!$B$13:$H$164,7,FALSE))","v":""},null,null,null,null,null,null,0,null,null,null,null,null,{"$f":"IF(R33=\"\",\"\",VLOOKUP(R33,'ePrijava in Navodila'!$B$13:$H$164,7,FALSE))","v":""}]
[28,null,{"$f":"IF(E32=\"\",\"\",VLOOKUP(E32,'ePrijava in Navodila'!$B$13:$H$164,2,FALSE) & \" \" & VLOOKUP(E32,'ePrijava in Navodila'!$B$13:$H$164,3,FALSE))","v":""},{"$f":"IF(E32=\"\",\"\",VLOOKUP(E32,'ePrijava in Navodila'!$B$13:$H$164,5,FALSE))","v":""},null,{"$f":"IF(E32=\"\",\"\",VLOOKUP(E32,'ePrijava in Navodila'!$B$13:$H$164,7,FALSE))","v":""},null,null,null,null,null,null,0,null,null,null,null,"BIB","Priimek in ime","1. ser","2. ser","3. ser","4. ser","1. ser","2. ser","skupno","nc*"]
[29,null,{"$f":"IF(E33=\"\",\"\",VLOOKUP(E33,'ePrijava in Navodila'!$B$13:$H$164,2,FALSE) & \" \" & VLOOKUP(E33,'ePrijava in Navodila'!$B$13:$H$164,3,FALSE))","v":""},{"$f":"IF(E33=\"\",\"\",VLOOKUP(E33,'ePrijava in Navodila'!$B$13:$H$164,5,FALSE))","v":""},null,{"$f":"IF(E33=\"\",\"\",VLOOKUP(E33,'ePrijava in Navodila'!$B$13:$H$164,7,FALSE))","v":""},null,null,null,null,null,null,0,null,null,null,null,null,{"$f":"IF(R33=\"\",\"\",VLOOKUP(R33,'ePrijava in Navodila'!$B$13:$H$164,2,FALSE) & \" \" & VLOOKUP(R33,'ePrijava in Navodila'!$B$13:$H$164,3,FALSE))","v":""},{"$f":"IF(S33=\"\",\"\",VLOOKUP(S33,$C$5:$L$149,5,FALSE))","v":""},{"$f":"IF(S33=\"\",\"\",VLOOKUP(S33,$C$5:$L$149,6,FALSE))","v":""},{"$f":"IF(S33=\"\",\"\",VLOOKUP(S33,$C$5:$L$149,7,FALSE))","v":""},{"$f":"IF(S33=\"\",\"\",VLOOKUP(S33,$C$5:$L$149,8,FALSE))","v":""},{"$f":"IF(S33=\"\",\"\",VLOOKUP(S33,$C$5:$L$149,9,FALSE))","v":""},{"$f":"IF(S33=\"\",\"\",VLOOKUP(S33,$C$5:$L$149,10,FALSE))","v":""},{"$f":"SUM(T33:Y33)","v":0},{"$f":"IF(S33=\"\",\"\",VLOOKUP(S33,$C$5:$N$149,12,FALSE))","v":""}]
[30,null,{"$f":"IF(E34=\"\",\"\",VLOOKUP(E34,'ePrijava in Navodila'!$B$13:$H$164,2,FALSE) & \" \" & VLOOKUP(E34,'ePrijava in Navodila'!$B$13:$H$164,3,FALSE))","v":""},{"$f":"IF(E34=\"\",\"\",VLOOKUP(E34,'ePrijava in Navodila'!$B$13:$H$164,5,FALSE))","v":""},null,{"$f":"IF(E34=\"\",\"\",VLOOKUP(E34,'ePrijava in Navodila'!$B$13:$H$164,7,FALSE))","v":""},null,null,null,null,null,null,0,null,null,null,null,null,{"$f":"IF(R34=\"\",\"\",VLOOKUP(R34,'ePrijava in Navodila'!$B$13:$H$164,2,FALSE) & \" \" & VLOOKUP(R34,'ePrijava in Navodila'!$B$13:$H$164,3,FALSE))","v":""},{"$f":"IF(S34=\"\",\"\",VLOOKUP(S34,$C$5:$L$149,5,FALSE))","v":""},{"$f":"IF(S34=\"\",\"\",VLOOKUP(S34,$C$5:$L$149,6,FALSE))","v":""},{"$f":"IF(S34=\"\",\"\",VLOOKUP(S34,$C$5:$L$149,7,FALSE))","v":""},{"$f":"IF(S34=\"\",\"\",VLOOKUP(S34,$C$5:$L$149,8,FALSE))","v":""},{"$f":"IF(S34=\"\",\"\",VLOOKUP(S34,$C$5:$L$149,9,FALSE))","v":""},{"$f":"IF(S34=\"\",\"\",VLOOKUP(S34,$C$5:$L$149,10,FALSE))","v":""},{"$f":"SUM(T34:Y34)","v":0},{"$f":"IF(S34=\"\",\"\",VLOOKUP(S34,$C$5:$N$149,12,FALSE))","v":""}]
[31,null,{"$f":"IF(E35=\"\",\"\",VLOOKUP(E35,'ePrijava in Navodila'!$B$13:$H$164,2,FALSE) & \" \" & VLOOKUP(E35,'ePrijava in Navodila'!$B$13:$H$164,3,FALSE))","v":""},{"$f":"IF(E35=\"\",\"\",VLOOKUP(E35,'ePrijava in Navodila'!$B$13:$H$164,5,FALSE))","v":""},null,{"$f":"IF(E35=\"\",\"\",VLOOKUP(E35,'ePrijava in Navodila'!$B$13:$H$164,7,FALSE))","v":""},null,null,null,null,null,null,0,null,null,null,null,null,{"$f":"IF(R35=\"\",\"\",VLOOKUP(R35,'ePrijava in Navodila'!$B$13:$H$164,2,FALSE) & \" \" & VLOOKUP(R35,'ePrijava in Navodila'!$B$13:$H$164,3,FALSE))","v":""},{"$f":"IF(S35=\"\",\"\",VLOOKUP(S35,$C$5:$L$149,5,FALSE))","v":""},{"$f":"IF(S35=\"\",\"\",VLOOKUP(S35,$C$5:$L$149,6,FALSE))","v":""},{"$f":"IF(S35=\"\",\"\",VLOOKUP(S35,$C$5:$L$149,7,FALSE))","v":""},{"$f":"IF(S35=\"\",\"\",VLOOKUP(S35,$C$5:$L$149,8,FALSE))","v":""},{"$f":"IF(S35=\"\",\"\",VLOOKUP(S35,$C$5:$L$149,9,FALSE))","v":""},{"$f":"IF(S35=\"\",\"\",VLOOKUP(S35,$C$5:$L$149,10,FALSE))","v":""},{"$f":"SUM(T35:Y35)","v":0},{"$f":"IF(S35=\"\",\"\",VLOOKUP(S35,$C$5:$N$149,12,FALSE))","v":""}]
[32,null,{"$f":"IF(E36=\"\",\"\",VLOOKUP(E36,'ePrijava in Navodila'!$B$13:$H$164,2,FALSE) & \" \" & VLOOKUP(E36,'ePrijava in Navodila'!$B$13:$H$164,3,FALSE))","v":""},{"$f":"IF(E36=\"\",\"\",VLOOKUP(E36,'ePrijava in Navodila'!$B$13:$H$164,5,FALSE))","v":""},null,{"$f":"IF(E36=\"\",\"\",VLOOKUP(E36,'ePrijava in Navodila'!$B$13:$H$164,7,FALSE))","v":""},null,null,null,null,null,null,0,null,null,null,null,null,null,null,null,null,null,null,{"$f":"SUM(Y33:Y35)","v":0},{"$f":"SUM(Z33:Z35)","v":0},{"$f":"SUM(AA33:AA35)","v":0}]
[33,null,{"$f":"IF(E37=\"\",\"\",VLOOKUP(E37,'ePrijava in Navodila'!$B$13:$H$164,2,FALSE) & \" \" & VLOOKUP(E37,'ePrijava in Navodila'!$B$13:$H$164,3,FALSE))","v":""},{"$f":"IF(E37=\"\",\"\",VLOOKUP(E37,'ePrijava in Navodila'!$B$13:$H$164,5,FALSE))","v":""},null,{"$f":"IF(E37=\"\",\"\",VLOOKUP(E37,'ePrijava in Navodila'!$B$13:$H$164,7,FALSE))","v":""},null,null,null,null,null,null,0]
[34,null,{"$f":"IF(E38=\"\",\"\",VLOOKUP(E38,'ePrijava in Navodila'!$B$13:$H$164,2,FALSE) & \" \" & VLOOKUP(E38,'ePrijava in Navodila'!$B$13:$H$164,3,FALSE))","v":""},{"$f":"IF(E38=\"\",\"\",VLOOKUP(E38,'ePrijava in Navodila'!$B$13:$H$164,5,FALSE))","v":""},null,{"$f":"IF(E38=\"\",\"\",VLOOKUP(E38,'ePrijava in Navodila'!$B$13:$H$164,7,FALSE))","v":""},null,null,null,null,null,null,0]
[35,null,{"$f":"IF(E39=\"\",\"\",VLOOKUP(E39,'ePrijava in Navodila'!$B$13:$H$164,2,FALSE) & \" \" & VLOOKUP(E39,'ePrijava in Navodila'!$B$13:$H$164,3,FALSE))","v":""},{"$f":"IF(E39=\"\",\"\",VLOOKUP(E39,'ePrijava in Navodila'!$B$13:$H$164,5,FALSE))","v":""},null,{"$f":"IF(E39=\"\",\"\",VLOOKUP(E39,'ePrijava in Navodila'!$B$13:$H$164,7,FALSE))","v":""},null,null,null,null,null,null,0,null,null,null,null,null,{"$f":"IF(R41=\"\",\"\",VLOOKUP(R41,'ePrijava in Navodila'!$B$13:$H$164,7,FALSE))","v":""}]
[36,null,{"$f":"IF(E40=\"\",\"\",VLOOKUP(E40,'ePrijava in Navodila'!$B$13:$H$164,2,FALSE) & \" \" & VLOOKUP(E40,'ePrijava in Navodila'!$B$13:$H$164,3,FALSE))","v":""},{"$f":"IF(E40=\"\",\"\",VLOOKUP(E40,'ePrijava in Navodila'!$B$13:$H$164,5,FALSE))","v":""},null,{"$f":"IF(E40=\"\",\"\",VLOOKUP(E40,'ePrijava in Navodila'!$B$13:$H$164,7,FALSE))","v":""},null,null,null,null,null,null,0,null,null,null,null,"BIB","Priimek in ime","1. ser","2. ser","3. ser","4. ser","1. ser","2. ser","skupno","nc*"]
[37,null,{"$f":"IF(E41=\"\",\"\",VLOOKUP(E41,'ePrijava in Navodila'!$B$13:$H$164,2,FALSE) & \" \" & VLOOKUP(E41,'ePrijava in Navodila'!$B$13:$H$164,3,FALSE))","v":""},{"$f":"IF(E41=\"\",\"\",VLOOKUP(E41,'ePrijava in Navodila'!$B$13:$H$164,5,FALSE))","v":""},null,{"$f":"IF(E41=\"\",\"\",VLOOKUP(E41,'ePrijava in Navodila'!$B$13:$H$164,7,FALSE))","v":""},null,null,null,null,null,null,0,null,null,null,null,null,{"$f":"IF(R41=\"\",\"\",VLOOKUP(R41,'ePrijava in Navodila'!$B$13:$H$164,2,FALSE) & \" \" & VLOOKUP(R41,'ePrijava in Navodila'!$B$13:$H$164,3,FALSE))","v":""},{"$f":"IF(S41=\"\",\"\",VLOOKUP(S41,$C$5:$L$149,5,FALSE))","v":""},{"$f":"IF(S41=\"\",\"\",VLOOKUP(S41,$C$5:$L$149,6,FALSE))","v":""},{"$f":"IF(S41=\"\",\"\",VLOOKUP(S41,$C$5:$L$149,7,FALSE))","v":""},{"$f":"IF(S41=\"\",\"\",VLOOKUP(S41,$C$5:$L$149,8,FALSE))","v":""},{"$f":"IF(S41=\"\",\"\",VLOOKUP(S41,$C$5:$L$149,9,FALSE))","v":""},{"$f":"IF(S41=\"\",\"\",VLOOKUP(S41,$C$5:$L$149,10,FALSE))","v":""},{"$f":"SUM(T41:Y41)","v":0},{"$f":"IF(S41=\"\",\"\",VLOOKUP(S41,$C$5:$N$149,12,FALSE))","v":""}]
[38,null,{"$f":"IF(E42=\"\",\"\",VLOOKUP(E42,'ePrijava in Navodila'!$B$13:$H$164,2,FALSE) & \" \" & VLOOKUP(E42,'ePrijava in Navodila'!$B$13:$H$164,3,FALSE))","v":""},{"$f":"IF(E42=\"\",\"\",VLOOKUP(E42,'ePrijava in Navodila'!$B$13:$H$164,5,FALSE))","v":""},null,{"$f":"IF(E42=\"\",\"\",VLOOKUP(E42,'ePrijava in Navodila'!$B$13:$H$164,7,FALSE))","v":""},null,null,null,null,null,null,0,null,null,null,null,null,{"$f":"IF(R42=\"\",\"\",VLOOKUP(R42,'ePrijava in Navodila'!$B$13:$H$164,2,FALSE) & \" \" & VLOOKUP(R42,'ePrijava in Navodila'!$B$13:$H$164,3,FALSE))","v":""},{"$f":"IF(S42=\"\",\"\",VLOOKUP(S42,$C$5:$L$149,5,FALSE))","v":""},{"$f":"IF(S42=\"\",\"\",VLOOKUP(S42,$C$5:$L$149,6,FALSE))","v":""},{"$f":"IF(S42=\"\",\"\",VLOOKUP(S42,$C$5:$L$149,7,FALSE))","v":""},{"$f":"IF(S42=\"\",\"\",VLOOKUP(S42,$C$5:$L$149,8,FALSE))","v":""},{"$f":"IF(S42=\"\",\"\",VLOOKUP(S42,$C$5:$L$149,9,FALSE))","v":""},{"$f":"IF(S42=\"\",\"\",VLOOKUP(S42,$C$5:$L$149,10,FALSE))","v":""},{"$f":"SUM(T42:Y42)","v":0},{"$f":"IF(S42=\"\",\"\",VLOOKUP(S42,$C$5:$N$149,12,FALSE))","v":""}]
[39,null,{"$f":"IF(E43=\"\",\"\",VLOOKUP(E43,'ePrijava in Navodila'!$B$13:$H$164,2,FALSE) & \" \" & VLOOKUP(E43,'ePrijava in Navodila'!$B$13:$H$164,3,FALSE))","v":""},{"$f":"IF(E43=\"\",\"\",VLOOKUP(E43,'ePrijava in Navodila'!$B$13:$H$164,5,FALSE))","v":""},null,{"$f":"IF(E43=\"\",\"\",VLOOKUP(E43,'ePrijava in Navodila'!$B$13:$H$164,7,FALSE))","v":""},null,null,null,null,null,null,0,null,null,null,null,null,{"$f":"IF(R43=\"\",\"\",VLOOKUP(R43,'ePrijava in Navodila'!$B$13:$H$164,2,FALSE) & \" \" & VLOOKUP(R43,'ePrijava in Navodila'!$B$13:$H$164,3,FALSE))","v":""},{"$f":"IF(S43=\"\",\"\",VLOOKUP(S43,$C$5:$L$149,5,FALSE))","v":""},{"$f":"IF(S43=\"\",\"\",VLOOKUP(S43,$C$5:$L$149,6,FALSE))","v":""},{"$f":"IF(S43=\"\",\"\",VLOOKUP(S43,$C$5:$L$149,7,FALSE))","v":""},{"$f":"IF(S43=\"\",\"\",VLOOKUP(S43,$C$5:$L$149,8,FALSE))","v":""},{"$f":"IF(S43=\"\",\"\",VLOOKUP(S43,$C$5:$L$149,9,FALSE))","v":""},{"$f":"IF(S43=\"\",\"\",VLOOKUP(S43,$C$5:$L$149,10,FALSE))","v":""},{"$f":"SUM(T43:Y43)","v":0},{"$f":"IF(S43=\"\",\"\",VLOOKUP(S43,$C$5:$N$149,12,FALSE))","v":""}]
[40,null,{"$f":"IF(E44=\"\",\"\",VLOOKUP(E44,'ePrijava in Navodila'!$B$13:$H$164,2,FALSE) & \" \" & VLOOKUP(E44,'ePrijava in Navodila'!$B$13:$H$164,3,FALSE))","v":""},{"$f":"IF(E44=\"\",\"\",VLOOKUP(E44,'ePrijava in Navodila'!$B$13:$H$164,5,FALSE))","v":""},null,{"$f":"IF(E44=\"\",\"\",VLOOKUP(E44,'ePrijava in Navodila'!$B$13:$H$164,7,FALSE))","v":""},null,null,null,null,null,null,0,null,null,null,null,null,null,null,null,null,null,null,{"$f":"SUM(Y41:Y43)","v":0},{"$f":"SUM(Z41:Z43)","v":0},{"$f":"SUM(AA41:AA43)","v":0}]
[41,null,{"$f":"IF(E45=\"\",\"\",VLOOKUP(E45,'ePrijava in Navodila'!$B$13:$H$164,2,FALSE) & \" \" & VLOOKUP(E45,'ePrijava in Navodila'!$B$13:$H$164,3,FALSE))","v":""},{"$f":"IF(E45=\"\",\"\",VLOOKUP(E45,'ePrijava in Navodila'!$B$13:$H$164,5,FALSE))","v":""},null,{"$f":"IF(E45=\"\",\"\",VLOOKUP(E45,'ePrijava in Navodila'!$B$13:$H$164,7,FALSE))","v":""},null,null,null,null,null,null,0]
[42,null,{"$f":"IF(E46=\"\",\"\",VLOOKUP(E46,'ePrijava in Navodila'!$B$13:$H$164,2,FALSE) & \" \" & VLOOKUP(E46,'ePrijava in Navodila'!$B$13:$H$164,3,FALSE))","v":""},{"$f":"IF(E46=\"\",\"\",VLOOKUP(E46,'ePrijava in Navodila'!$B$13:$H$164,5,FALSE))","v":""},null,{"$f":"IF(E46=\"\",\"\",VLOOKUP(E46,'ePrijava in Navodila'!$B$13:$H$164,7,FALSE))","v":""},null,null,null,null,null,null,0]
[43,null,{"$f":"IF(E47=\"\",\"\",VLOOKUP(E47,'ePrijava in Navodila'!$B$13:$H$164,2,FALSE) & \" \" & VLOOKUP(E47,'ePrijava in Navodila'!$B$13:$H$164,3,FALSE))","v":""},{"$f":"IF(E47=\"\",\"\",VLOOKUP(E47,'ePrijava in Navodila'!$B$13:$H$164,5,FALSE))","v":""},null,{"$f":"IF(E47=\"\",\"\",VLOOKUP(E47,'ePrijava in Navodila'!$B$13:$H$164,7,FALSE))","v":""},null,null,null,null,null,null,0,null,null,null,null,null,{"$f":"IF(R49=\"\",\"\",VLOOKUP(R49,'ePrijava in Navodila'!$B$13:$H$164,7,FALSE))","v":""}]
[44,null,{"$f":"IF(E48=\"\",\"\",VLOOKUP(E48,'ePrijava in Navodila'!$B$13:$H$164,2,FALSE) & \" \" & VLOOKUP(E48,'ePrijava in Navodila'!$B$13:$H$164,3,FALSE))","v":""},{"$f":"IF(E48=\"\",\"\",VLOOKUP(E48,'ePrijava in Navodila'!$B$13:$H$164,5,FALSE))","v":""},null,{"$f":"IF(E48=\"\",\"\",VLOOKUP(E48,'ePrijava in Navodila'!$B$13:$H$164,7,FALSE))","v":""},null,null,null,null,null,null,0,null,null,null,null,"BIB","Priimek in ime","1. ser","2. ser","3. ser","4. ser","1. ser","2. ser","skupno","nc*"]
[45,null,{"$f":"IF(E49=\"\",\"\",VLOOKUP(E49,'ePrijava in Navodila'!$B$13:$H$164,2,FALSE) & \" \" & VLOOKUP(E49,'ePrijava in Navodila'!$B$13:$H$164,3,FALSE))","v":""},{"$f":"IF(E49=\"\",\"\",VLOOKUP(E49,'ePrijava in Navodila'!$B$13:$H$164,5,FALSE))","v":""},null,{"$f":"IF(E49=\"\",\"\",VLOOKUP(E49,'ePrijava in Navodila'!$B$13:$H$164,7,FALSE))","v":""},null,null,null,null,null,null,0,null,null,null,null,null,{"$f":"IF(R49=\"\",\"\",VLOOKUP(R49,'ePrijava in Navodila'!$B$13:$H$164,2,FALSE) & \" \" & VLOOKUP(R49,'ePrijava in Navodila'!$B$13:$H$164,3,FALSE))","v":""},{"$f":"IF(S49=\"\",\"\",VLOOKUP(S49,$C$5:$L$149,5,FALSE))","v":""},{"$f":"IF(S49=\"\",\"\",VLOOKUP(S49,$C$5:$L$149,6,FALSE))","v":""},{"$f":"IF(S49=\"\",\"\",VLOOKUP(S49,$C$5:$L$149,7,FALSE))","v":""},{"$f":"IF(S49=\"\",\"\",VLOOKUP(S49,$C$5:$L$149,8,FALSE))","v":""},{"$f":"IF(S49=\"\",\"\",VLOOKUP(S49,$C$5:$L$149,9,FALSE))","v":""},{"$f":"IF(S49=\"\",\"\",VLOOKUP(S49,$C$5:$L$149,10,FALSE))","v":""},{"$f":"SUM(T49:Y49)","v":0},{"$f":"IF(S49=\"\",\"\",VLOOKUP(S49,$C$5:$N$149,12,FALSE))","v":""}]
[46,null,{"$f":"IF(E50=\"\",\"\",VLOOKUP(E50,'ePrijava in Navodila'!$B$13:$H$164,2,FALSE) & \" \" & VLOOKUP(E50,'ePrijava in Navodila'!$B$13:$H$164,3,FALSE))","v":""},{"$f":"IF(E50=\"\",\"\",VLOOKUP(E50,'ePrijava in Navodila'!$B$13:$H$164,5,FALSE))","v":""},null,{"$f":"IF(E50=\"\",\"\",VLOOKUP(E50,'ePrijava in Navodila'!$B$13:$H$164,7,FALSE))","v":""},null,null,null,null,null,null,0,null,null,null,null,null,{"$f":"IF(R50=\"\",\"\",VLOOKUP(R50,'ePrijava in Navodila'!$B$13:$H$164,2,FALSE) & \" \" & VLOOKUP(R50,'ePrijava in Navodila'!$B$13:$H$164,3,FALSE))","v":""},{"$f":"IF(S50=\"\",\"\",VLOOKUP(S50,$C$5:$L$149,5,FALSE))","v":""},{"$f":"IF(S50=\"\",\"\",VLOOKUP(S50,$C$5:$L$149,6,FALSE))","v":""},{"$f":"IF(S50=\"\",\"\",VLOOKUP(S50,$C$5:$L$149,7,FALSE))","v":""},{"$f":"IF(S50=\"\",\"\",VLOOKUP(S50,$C$5:$L$149,8,FALSE))","v":""},{"$f":"IF(S50=\"\",\"\",VLOOKUP(S50,$C$5:$L$149,9,FALSE))","v":""},{"$f":"IF(S50=\"\",\"\",VLOOKUP(S50,$C$5:$L$149,10,FALSE))","v":""},{"$f":"SUM(T50:Y50)","v":0},{"$f":"IF(S50=\"\",\"\",VLOOKUP(S50,$C$5:$N$149,12,FALSE))","v":""}]
[47,null,{"$f":"IF(E51=\"\",\"\",VLOOKUP(E51,'ePrijava in Navodila'!$B$13:$H$164,2,FALSE) & \" \" & VLOOKUP(E51,'ePrijava in Navodila'!$B$13:$H$164,3,FALSE))","v":""},{"$f":"IF(E51=\"\",\"\",VLOOKUP(E51,'ePrijava in Navodila'!$B$13:$H$164,5,FALSE))","v":""},null,{"$f":"IF(E51=\"\",\"\",VLOOKUP(E51,'ePrijava in Navodila'!$B$13:$H$164,7,FALSE))","v":""},null,null,null,null,null,null,0,null,null,null,null,null,{"$f":"IF(R51=\"\",\"\",VLOOKUP(R51,'ePrijava in Navodila'!$B$13:$H$164,2,FALSE) & \" \" & VLOOKUP(R51,'ePrijava in Navodila'!$B$13:$H$164,3,FALSE))","v":""},{"$f":"IF(S51=\"\",\"\",VLOOKUP(S51,$C$5:$L$149,5,FALSE))","v":""},{"$f":"IF(S51=\"\",\"\",VLOOKUP(S51,$C$5:$L$149,6,FALSE))","v":""},{"$f":"IF(S51=\"\",\"\",VLOOKUP(S51,$C$5:$L$149,7,FALSE))","v":""},{"$f":"IF(S51=\"\",\"\",VLOOKUP(S51,$C$5:$L$149,8,FALSE))","v":""},{"$f":"IF(S51=\"\",\"\",VLOOKUP(S51,$C$5:$L$149,9,FALSE))","v":""},{"$f":"IF(S51=\"\",\"\",VLOOKUP(S51,$C$5:$L$149,10,FALSE))","v":""},{"$f":"SUM(T51:Y51)","v":0},{"$f":"IF(S51=\"\",\"\",VLOOKUP(S51,$C$5:$N$149,12,FALSE))","v":""}]
[48,null,{"$f":"IF(E52=\"\",\"\",VLOOKUP(E52,'ePrijava in Navodila'!$B$13:$H$164,2,FALSE) & \" \" & VLOOKUP(E52,'ePrijava in Navodila'!$B$13:$H$164,3,FALSE))","v":""},{"$f":"IF(E52=\"\",\"\",VLOOKUP(E52,'ePrijava in Navodila'!$B$13:$H$164,5,FALSE))","v":""},null,{"$f":"IF(E52=\"\",\"\",VLOOKUP(E52,'ePrijava in Navodila'!$B$13:$H$164,7,FALSE))","v":""},null,null,null,null,null,null,0,null,null,null,null,null,null,null,null,null,null,null,{"$f":"SUM(Y49:Y51)","v":0},{"$f":"SUM(Z49:Z51)","v":0},{"$f":"SUM(AA49:AA51)","v":0}]
[49,null,{"$f":"IF(E53=\"\",\"\",VLOOKUP(E53,'ePrijava in Navodila'!$B$13:$H$164,2,FALSE) & \" \" & VLOOKUP(E53,'ePrijava in Navodila'!$B$13:$H$164,3,FALSE))","v":""},{"$f":"IF(E53=\"\",\"\",VLOOKUP(E53,'ePrijava in Navodila'!$B$13:$H$164,5,FALSE))","v":""},null,{"$f":"IF(E53=\"\",\"\",VLOOKUP(E53,'ePrijava in Navodila'!$B$13:$H$164,7,FALSE))","v":""},null,null,null,null,null,null,0]
[50,null,{"$f":"IF(E54=\"\",\"\",VLOOKUP(E54,'ePrijava in Navodila'!$B$13:$H$164,2,FALSE) & \" \" & VLOOKUP(E54,'ePrijava in Navodila'!$B$13:$H$164,3,FALSE))","v":""},{"$f":"IF(E54=\"\",\"\",VLOOKUP(E54,'ePrijava in Navodila'!$B$13:$H$164,5,FALSE))","v":""},null,{"$f":"IF(E54=\"\",\"\",VLOOKUP(E54,'ePrijava in Navodila'!$B$13:$H$164,7,FALSE))","v":""},null,null,null,null,null,null,0]
[51,null,{"$f":"IF(E55=\"\",\"\",VLOOKUP(E55,'ePrijava in Navodila'!$B$13:$H$164,2,FALSE) & \" \" & VLOOKUP(E55,'ePrijava in Navodila'!$B$13:$H$164,3,FALSE))","v":""},{"$f":"IF(E55=\"\",\"\",VLOOKUP(E55,'ePrijava in Navodila'!$B$13:$H$164,5,FALSE))","v":""},null,{"$f":"IF(E55=\"\",\"\",VLOOKUP(E55,'ePrijava in Navodila'!$B$13:$H$164,7,FALSE))","v":""},null,null,null,null,null,null,0,null,null,null,null,null,{"$f":"IF(R57=\"\",\"\",VLOOKUP(R57,'ePrijava in Navodila'!$B$13:$H$164,7,FALSE))","v":""}]
[52,null,{"$f":"IF(E56=\"\",\"\",VLOOKUP(E56,'ePrijava in Navodila'!$B$13:$H$164,2,FALSE) & \" \" & VLOOKUP(E56,'ePrijava in Navodila'!$B$13:$H$164,3,FALSE))","v":""},{"$f":"IF(E56=\"\",\"\",VLOOKUP(E56,'ePrijava in Navodila'!$B$13:$H$164,5,FALSE))","v":""},null,{"$f":"IF(E56=\"\",\"\",VLOOKUP(E56,'ePrijava in Navodila'!$B$13:$H$164,7,FALSE))","v":""},null,null,null,null,null,null,0,null,null,null,null,"BIB","Priimek in ime","1. ser","2. ser","3. ser","4. ser","1. ser","2. ser","skupno","nc*"]
[53,null,{"$f":"IF(E57=\"\",\"\",VLOOKUP(E57,'ePrijava in Navodila'!$B$13:$H$164,2,FALSE) & \" \" & VLOOKUP(E57,'ePrijava in Navodila'!$B$13:$H$164,3,FALSE))","v":""},{"$f":"IF(E57=\"\",\"\",VLOOKUP(E57,'ePrijava in Navodila'!$B$13:$H$164,5,FALSE))","v":""},null,{"$f":"IF(E57=\"\",\"\",VLOOKUP(E57,'ePrijava in Navodila'!$B$13:$H$164,7,FALSE))","v":""},null,null,null,null,null,null,0,null,null,null,null,null,{"$f":"IF(R57=\"\",\"\",VLOOKUP(R57,'ePrijava in Navodila'!$B$13:$H$164,2,FALSE) & \" \" & VLOOKUP(R57,'ePrijava in Navodila'!$B$13:$H$164,3,FALSE))","v":""},{"$f":"IF(S57=\"\",\"\",VLOOKUP(S57,$C$5:$L$149,5,FALSE))","v":""},{"$f":"IF(S57=\"\",\"\",VLOOKUP(S57,$C$5:$L$149,6,FALSE))","v":""},{"$f":"IF(S57=\"\",\"\",VLOOKUP(S57,$C$5:$L$149,7,FALSE))","v":""},{"$f":"IF(S57=\"\",\"\",VLOOKUP(S57,$C$5:$L$149,8,FALSE))","v":""},{"$f":"IF(S57=\"\",\"\",VLOOKUP(S57,$C$5:$L$149,9,FALSE))","v":""},{"$f":"IF(S57=\"\",\"\",VLOOKUP(S57,$C$5:$L$149,10,FALSE))","v":""},{"$f":"SUM(T57:Y57)","v":0},{"$f":"IF(S57=\"\",\"\",VLOOKUP(S57,$C$5:$N$149,12,FALSE))","v":""}]
[54,null,{"$f":"IF(E58=\"\",\"\",VLOOKUP(E58,'ePrijava in Navodila'!$B$13:$H$164,2,FALSE) & \" \" & VLOOKUP(E58,'ePrijava in Navodila'!$B$13:$H$164,3,FALSE))","v":""},{"$f":"IF(E58=\"\",\"\",VLOOKUP(E58,'ePrijava in Navodila'!$B$13:$H$164,5,FALSE))","v":""},null,{"$f":"IF(E58=\"\",\"\",VLOOKUP(E58,'ePrijava in Navodila'!$B$13:$H$164,7,FALSE))","v":""},null,null,null,null,null,null,0,null,null,null,null,null,{"$f":"IF(R58=\"\",\"\",VLOOKUP(R58,'ePrijava in Navodila'!$B$13:$H$164,2,FALSE) & \" \" & VLOOKUP(R58,'ePrijava in Navodila'!$B$13:$H$164,3,FALSE))","v":""},{"$f":"IF(S58=\"\",\"\",VLOOKUP(S58,$C$5:$L$149,5,FALSE))","v":""},{"$f":"IF(S58=\"\",\"\",VLOOKUP(S58,$C$5:$L$149,6,FALSE))","v":""},{"$f":"IF(S58=\"\",\"\",VLOOKUP(S58,$C$5:$L$149,7,FALSE))","v":""},{"$f":"IF(S58=\"\",\"\",VLOOKUP(S58,$C$5:$L$149,8,FALSE))","v":""},{"$f":"IF(S58=\"\",\"\",VLOOKUP(S58,$C$5:$L$149,9,FALSE))","v":""},{"$f":"IF(S58=\"\",\"\",VLOOKUP(S58,$C$5:$L$149,10,FALSE))","v":""},{"$f":"SUM(T58:Y58)","v":0},{"$f":"IF(S58=\"\",\"\",VLOOKUP(S58,$C$5:$N$149,12,FALSE))","v":""}]
[55,null,{"$f":"IF(E59=\"\",\"\",VLOOKUP(E59,'ePrijava in Navodila'!$B$13:$H$164,2,FALSE) & \" \" & VLOOKUP(E59,'ePrijava in Navodila'!$B$13:$H$164,3,FALSE))","v":""},{"$f":"IF(E59=\"\",\"\",VLOOKUP(E59,'ePrijava in Navodila'!$B$13:$H$164,5,FALSE))","v":""},null,{"$f":"IF(E59=\"\",\"\",VLOOKUP(E59,'ePrijava in Navodila'!$B$13:$H$164,7,FALSE))","v":""},null,null,null,null,null,null,0,null,null,null,null,null,{"$f":"IF(R59=\"\",\"\",VLOOKUP(R59,'ePrijava in Navodila'!$B$13:$H$164,2,FALSE) & \" \" & VLOOKUP(R59,'ePrijava in Navodila'!$B$13:$H$164,3,FALSE))","v":""},{"$f":"IF(S59=\"\",\"\",VLOOKUP(S59,$C$5:$L$149,5,FALSE))","v":""},{"$f":"IF(S59=\"\",\"\",VLOOKUP(S59,$C$5:$L$149,6,FALSE))","v":""},{"$f":"IF(S59=\"\",\"\",VLOOKUP(S59,$C$5:$L$149,7,FALSE))","v":""},{"$f":"IF(S59=\"\",\"\",VLOOKUP(S59,$C$5:$L$149,8,FALSE))","v":""},{"$f":"IF(S59=\"\",\"\",VLOOKUP(S59,$C$5:$L$149,9,FALSE))","v":""},{"$f":"IF(S59=\"\",\"\",VLOOKUP(S59,$C$5:$L$149,10,FALSE))","v":""},{"$f":"SUM(T59:Y59)","v":0},{"$f":"IF(S59=\"\",\"\",VLOOKUP(S59,$C$5:$N$149,12,FALSE))","v":""}]
[56,null,{"$f":"IF(E60=\"\",\"\",VLOOKUP(E60,'ePrijava in Navodila'!$B$13:$H$164,2,FALSE) & \" \" & VLOOKUP(E60,'ePrijava in Navodila'!$B$13:$H$164,3,FALSE))","v":""},{"$f":"IF(E60=\"\",\"\",VLOOKUP(E60,'ePrijava in Navodila'!$B$13:$H$164,5,FALSE))","v":""},null,{"$f":"IF(E60=\"\",\"\",VLOOKUP(E60,'ePrijava in Navodila'!$B$13:$H$164,7,FALSE))","v":""},null,null,null,null,null,null,0,null,null,null,null,null,null,null,null,null,null,null,{"$f":"SUM(Y57:Y59)","v":0},{"$f":"SUM(Z57:Z59)","v":0},{"$f":"SUM(AA57:AA59)","v":0}]
[57,null,{"$f":"IF(E61=\"\",\"\",VLOOKUP(E61,'ePrijava in Navodila'!$B$13:$H$164,2,FALSE) & \" \" & VLOOKUP(E61,'ePrijava in Navodila'!$B$13:$H$164,3,FALSE))","v":""},{"$f":"IF(E61=\"\",\"\",VLOOKUP(E61,'ePrijava in Navodila'!$B$13:$H$164,5,FALSE))","v":""},null,{"$f":"IF(E61=\"\",\"\",VLOOKUP(E61,'ePrijava in Navodila'!$B$13:$H$164,7,FALSE))","v":""},null,null,null,null,null,null,0]
[58,null,{"$f":"IF(E62=\"\",\"\",VLOOKUP(E62,'ePrijava in Navodila'!$B$13:$H$164,2,FALSE) & \" \" & VLOOKUP(E62,'ePrijava in Navodila'!$B$13:$H$164,3,FALSE))","v":""},{"$f":"IF(E62=\"\",\"\",VLOOKUP(E62,'ePrijava in Navodila'!$B$13:$H$164,5,FALSE))","v":""},null,{"$f":"IF(E62=\"\",\"\",VLOOKUP(E62,'ePrijava in Navodila'!$B$13:$H$164,7,FALSE))","v":""},null,null,null,null,null,null,0]
[59,null,{"$f":"IF(E63=\"\",\"\",VLOOKUP(E63,'ePrijava in Navodila'!$B$13:$H$164,2,FALSE) & \" \" & VLOOKUP(E63,'ePrijava in Navodila'!$B$13:$H$164,3,FALSE))","v":""},{"$f":"IF(E63=\"\",\"\",VLOOKUP(E63,'ePrijava in Navodila'!$B$13:$H$164,5,FALSE))","v":""},null,{"$f":"IF(E63=\"\",\"\",VLOOKUP(E63,'ePrijava in Navodila'!$B$13:$H$164,7,FALSE))","v":""},null,null,null,null,null,null,0,null,null,null,null,null,{"$f":"IF(R65=\"\",\"\",VLOOKUP(R65,'ePrijava in Navodila'!$B$13:$H$164,7,FALSE))","v":""}]
[60,null,{"$f":"IF(E64=\"\",\"\",VLOOKUP(E64,'ePrijava in Navodila'!$B$13:$H$164,2,FALSE) & \" \" & VLOOKUP(E64,'ePrijava in Navodila'!$B$13:$H$164,3,FALSE))","v":""},{"$f":"IF(E64=\"\",\"\",VLOOKUP(E64,'ePrijava in Navodila'!$B$13:$H$164,5,FALSE))","v":""},null,{"$f":"IF(E64=\"\",\"\",VLOOKUP(E64,'ePrijava in Navodila'!$B$13:$H$164,7,FALSE))","v":""},null,null,null,null,null,null,0,null,null,null,null,"BIB","Priimek in ime","1. ser","2. ser","3. ser","4. ser","1. ser","2. ser","skupno","nc*"]
[61,null,{"$f":"IF(E65=\"\",\"\",VLOOKUP(E65,'ePrijava in Navodila'!$B$13:$H$164,2,FALSE) & \" \" & VLOOKUP(E65,'ePrijava in Navodila'!$B$13:$H$164,3,FALSE))","v":""},{"$f":"IF(E65=\"\",\"\",VLOOKUP(E65,'ePrijava in Navodila'!$B$13:$H$164,5,FALSE))","v":""},null,{"$f":"IF(E65=\"\",\"\",VLOOKUP(E65,'ePrijava in Navodila'!$B$13:$H$164,7,FALSE))","v":""},null,null,null,null,null,null,0,null,null,null,null,null,{"$f":"IF(R65=\"\",\"\",VLOOKUP(R65,'ePrijava in Navodila'!$B$13:$H$164,2,FALSE) & \" \" & VLOOKUP(R65,'ePrijava in Navodila'!$B$13:$H$164,3,FALSE))","v":""},{"$f":"IF(S65=\"\",\"\",VLOOKUP(S65,$C$5:$L$149,5,FALSE))","v":""},{"$f":"IF(S65=\"\",\"\",VLOOKUP(S65,$C$5:$L$149,6,FALSE))","v":""},{"$f":"IF(S65=\"\",\"\",VLOOKUP(S65,$C$5:$L$149,7,FALSE))","v":""},{"$f":"IF(S65=\"\",\"\",VLOOKUP(S65,$C$5:$L$149,8,FALSE))","v":""},{"$f":"IF(S65=\"\",\"\",VLOOKUP(S65,$C$5:$L$149,9,FALSE))","v":""},{"$f":"IF(S65=\"\",\"\",VLOOKUP(S65,$C$5:$L$149,10,FALSE))","v":""},{"$f":"SUM(T65:Y65)","v":0},{"$f":"IF(S65=\"\",\"\",VLOOKUP(S65,$C$5:$N$149,12,FALSE))","v":""}]
[62,null,{"$f":"IF(E66=\"\",\"\",VLOOKUP(E66,'ePrijava in Navodila'!$B$13:$H$164,2,FALSE) & \" \" & VLOOKUP(E66,'ePrijava in Navodila'!$B$13:$H$164,3,FALSE))","v":""},{"$f":"IF(E66=\"\",\"\",VLOOKUP(E66,'ePrijava in Navodila'!$B$13:$H$164,5,FALSE))","v":""},null,{"$f":"IF(E66=\"\",\"\",VLOOKUP(E66,'ePrijava in Navodila'!$B$13:$H$164,7,FALSE))","v":""},null,null,null,null,null,null,0,null,null,null,null,null,{"$f":"IF(R66=\"\",\"\",VLOOKUP(R66,'ePrijava in Navodila'!$B$13:$H$164,2,FALSE) & \" \" & VLOOKUP(R66,'ePrijava in Navodila'!$B$13:$H$164,3,FALSE))","v":""},{"$f":"IF(S66=\"\",\"\",VLOOKUP(S66,$C$5:$L$149,5,FALSE))","v":""},{"$f":"IF(S66=\"\",\"\",VLOOKUP(S66,$C$5:$L$149,6,FALSE))","v":""},{"$f":"IF(S66=\"\",\"\",VLOOKUP(S66,$C$5:$L$149,7,FALSE))","v":""},{"$f":"IF(S66=\"\",\"\",VLOOKUP(S66,$C$5:$L$149,8,FALSE))","v":""},{"$f":"IF(S66=\"\",\"\",VLOOKUP(S66,$C$5:$L$149,9,FALSE))","v":""},{"$f":"IF(S66=\"\",\"\",VLOOKUP(S66,$C$5:$L$149,10,FALSE))","v":""},{"$f":"SUM(T66:Y66)","v":0},{"$f":"IF(S66=\"\",\"\",VLOOKUP(S66,$C$5:$N$149,12,FALSE))","v":""}]
[63,null,{"$f":"IF(E67=\"\",\"\",VLOOKUP(E67,'ePrijava in Navodila'!$B$13:$H$164,2,FALSE) & \" \" & VLOOKUP(E67,'ePrijava in Navodila'!$B$13:$H$164,3,FALSE))","v":""},{"$f":"IF(E67=\"\",\"\",VLOOKUP(E67,'ePrijava in Navodila'!$B$13:$H$164,5,FALSE))","v":""},null,{"$f":"IF(E67=\"\",\"\",VLOOKUP(E67,'ePrijava in Navodila'!$B$13:$H$164,7,FALSE))","v":""},null,null,null,null,null,null,0,null,null,null,null,null,{"$f":"IF(R67=\"\",\"\",VLOOKUP(R67,'ePrijava in Navodila'!$B$13:$H$164,2,FALSE) & \" \" & VLOOKUP(R67,'ePrijava in Navodila'!$B$13:$H$164,3,FALSE))","v":""},{"$f":"IF(S67=\"\",\"\",VLOOKUP(S67,$C$5:$L$149,5,FALSE))","v":""},{"$f":"IF(S67=\"\",\"\",VLOOKUP(S67,$C$5:$L$149,6,FALSE))","v":""},{"$f":"IF(S67=\"\",\"\",VLOOKUP(S67,$C$5:$L$149,7,FALSE))","v":""},{"$f":"IF(S67=\"\",\"\",VLOOKUP(S67,$C$5:$L$149,8,FALSE))","v":""},{"$f":"IF(S67=\"\",\"\",VLOOKUP(S67,$C$5:$L$149,9,FALSE))","v":""},{"$f":"IF(S67=\"\",\"\",VLOOKUP(S67,$C$5:$L$149,10,FALSE))","v":""},{"$f":"SUM(T67:Y67)","v":0},{"$f":"IF(S67=\"\",\"\",VLOOKUP(S67,$C$5:$N$149,12,FALSE))","v":""}]
[64,null,{"$f":"IF(E68=\"\",\"\",VLOOKUP(E68,'ePrijava in Navodila'!$B$13:$H$164,2,FALSE) & \" \" & VLOOKUP(E68,'ePrijava in Navodila'!$B$13:$H$164,3,FALSE))","v":""},{"$f":"IF(E68=\"\",\"\",VLOOKUP(E68,'ePrijava in Navodila'!$B$13:$H$164,5,FALSE))","v":""},null,{"$f":"IF(E68=\"\",\"\",VLOOKUP(E68,'ePrijava in Navodila'!$B$13:$H$164,7,FALSE))","v":""},null,null,null,null,null,null,0,null,null,null,null,null,null,null,null,null,null,null,{"$f":"SUM(Y65:Y67)","v":0},{"$f":"SUM(Z65:Z67)","v":0},{"$f":"SUM(AA65:AA67)","v":0}]
[65,null,{"$f":"IF(E69=\"\",\"\",VLOOKUP(E69,'ePrijava in Navodila'!$B$13:$H$164,2,FALSE) & \" \" & VLOOKUP(E69,'ePrijava in Navodila'!$B$13:$H$164,3,FALSE))","v":""},{"$f":"IF(E69=\"\",\"\",VLOOKUP(E69,'ePrijava in Navodila'!$B$13:$H$164,5,FALSE))","v":""},null,{"$f":"IF(E69=\"\",\"\",VLOOKUP(E69,'ePrijava in Navodila'!$B$13:$H$164,7,FALSE))","v":""},null,null,null,null,null,null,{"$f":"SUM(G69:L69)","v":0}]
[66,null,{"$f":"IF(E70=\"\",\"\",VLOOKUP(E70,'ePrijava in Navodila'!$B$13:$H$164,2,FALSE) & \" \" & VLOOKUP(E70,'ePrijava in Navodila'!$B$13:$H$164,3,FALSE))","v":""},{"$f":"IF(E70=\"\",\"\",VLOOKUP(E70,'ePrijava in Navodila'!$B$13:$H$164,5,FALSE))","v":""},null,{"$f":"IF(E70=\"\",\"\",VLOOKUP(E70,'ePrijava in Navodila'!$B$13:$H$164,7,FALSE))","v":""},null,null,null,null,null,null,0]
[67,null,{"$f":"IF(E71=\"\",\"\",VLOOKUP(E71,'ePrijava in Navodila'!$B$13:$H$164,2,FALSE) & \" \" & VLOOKUP(E71,'ePrijava in Navodila'!$B$13:$H$164,3,FALSE))","v":""},{"$f":"IF(E71=\"\",\"\",VLOOKUP(E71,'ePrijava in Navodila'!$B$13:$H$164,5,FALSE))","v":""},null,{"$f":"IF(E71=\"\",\"\",VLOOKUP(E71,'ePrijava in Navodila'!$B$13:$H$164,7,FALSE))","v":""},null,null,null,null,null,null,0]
[68,null,{"$f":"IF(E72=\"\",\"\",VLOOKUP(E72,'ePrijava in Navodila'!$B$13:$H$164,2,FALSE) & \" \" & VLOOKUP(E72,'ePrijava in Navodila'!$B$13:$H$164,3,FALSE))","v":""},{"$f":"IF(E72=\"\",\"\",VLOOKUP(E72,'ePrijava in Navodila'!$B$13:$H$164,5,FALSE))","v":""},null,{"$f":"IF(E72=\"\",\"\",VLOOKUP(E72,'ePrijava in Navodila'!$B$13:$H$164,7,FALSE))","v":""},null,null,null,null,null,null,0]
[69,null,{"$f":"IF(E73=\"\",\"\",VLOOKUP(E73,'ePrijava in Navodila'!$B$13:$H$164,2,FALSE) & \" \" & VLOOKUP(E73,'ePrijava in Navodila'!$B$13:$H$164,3,FALSE))","v":""},{"$f":"IF(E73=\"\",\"\",VLOOKUP(E73,'ePrijava in Navodila'!$B$13:$H$164,5,FALSE))","v":""},null,{"$f":"IF(E73=\"\",\"\",VLOOKUP(E73,'ePrijava in Navodila'!$B$13:$H$164,7,FALSE))","v":""},null,null,null,null,null,null,0]
[70,null,{"$f":"IF(E74=\"\",\"\",VLOOKUP(E74,'ePrijava in Navodila'!$B$13:$H$164,2,FALSE) & \" \" & VLOOKUP(E74,'ePrijava in Navodila'!$B$13:$H$164,3,FALSE))","v":""},{"$f":"IF(E74=\"\",\"\",VLOOKUP(E74,'ePrijava in Navodila'!$B$13:$H$164,5,FALSE))","v":""},null,{"$f":"IF(E74=\"\",\"\",VLOOKUP(E74,'ePrijava in Navodila'!$B$13:$H$164,7,FALSE))","v":""},null,null,null,null,null,null,0]
[71,null,{"$f":"IF(E75=\"\",\"\",VLOOKUP(E75,'ePrijava in Navodila'!$B$13:$H$164,2,FALSE) & \" \" & VLOOKUP(E75,'ePrijava in Navodila'!$B$13:$H$164,3,FALSE))","v":""},{"$f":"IF(E75=\"\",\"\",VLOOKUP(E75,'ePrijava in Navodila'!$B$13:$H$164,5,FALSE))","v":""},null,{"$f":"IF(E75=\"\",\"\",VLOOKUP(E75,'ePrijava in Navodila'!$B$13:$H$164,7,FALSE))","v":""},null,null,null,null,null,null,0]
[72,null,{"$f":"IF(E76=\"\",\"\",VLOOKUP(E76,'ePrijava in Navodila'!$B$13:$H$164,2,FALSE) & \" \" & VLOOKUP(E76,'ePrijava in Navodila'!$B$13:$H$164,3,FALSE))","v":""},{"$f":"IF(E76=\"\",\"\",VLOOKUP(E76,'ePrijava in Navodila'!$B$13:$H$164,5,FALSE))","v":""},null,{"$f":"IF(E76=\"\",\"\",VLOOKUP(E76,'ePrijava in Navodila'!$B$13:$H$164,7,FALSE))","v":""},null,null,null,null,null,null,0]
[73,null,{"$f":"IF(E77=\"\",\"\",VLOOKUP(E77,'ePrijava in Navodila'!$B$13:$H$164,2,FALSE) & \" \" & VLOOKUP(E77,'ePrijava in Navodila'!$B$13:$H$164,3,FALSE))","v":""},{"$f":"IF(E77=\"\",\"\",VLOOKUP(E77,'ePrijava in Navodila'!$B$13:$H$164,5,FALSE))","v":""},null,{"$f":"IF(E77=\"\",\"\",VLOOKUP(E77,'ePrijava in Navodila'!$B$13:$H$164,7,FALSE))","v":""},null,null,null,null,null,null,0]
[74,null,{"$f":"IF(E78=\"\",\"\",VLOOKUP(E78,'ePrijava in Navodila'!$B$13:$H$164,2,FALSE) & \" \" & VLOOKUP(E78,'ePrijava in Navodila'!$B$13:$H$164,3,FALSE))","v":""},{"$f":"IF(E78=\"\",\"\",VLOOKUP(E78,'ePrijava in Navodila'!$B$13:$H$164,5,FALSE))","v":""},null,{"$f":"IF(E78=\"\",\"\",VLOOKUP(E78,'ePrijava in Navodila'!$B$13:$H$164,7,FALSE))","v":""},null,null,null,null,null,null,0]
[75,null,{"$f":"IF(E79=\"\",\"\",VLOOKUP(E79,'ePrijava in Navodila'!$B$13:$H$164,2,FALSE) & \" \" & VLOOKUP(E79,'ePrijava in Navodila'!$B$13:$H$164,3,FALSE))","v":""},{"$f":"IF(E79=\"\",\"\",VLOOKUP(E79,'ePrijava in Navodila'!$B$13:$H$164,5,FALSE))","v":""},null,{"$f":"IF(E79=\"\",\"\",VLOOKUP(E79,'ePrijava in Navodila'!$B$13:$H$164,7,FALSE))","v":""},null,null,null,null,null,null,0]
[76,null,{"$f":"IF(E80=\"\",\"\",VLOOKUP(E80,'ePrijava in Navodila'!$B$13:$H$164,2,FALSE) & \" \" & VLOOKUP(E80,'ePrijava in Navodila'!$B$13:$H$164,3,FALSE))","v":""},{"$f":"IF(E80=\"\",\"\",VLOOKUP(E80,'ePrijava in Navodila'!$B$13:$H$164,5,FALSE))","v":""},null,{"$f":"IF(E80=\"\",\"\",VLOOKUP(E80,'ePrijava in Navodila'!$B$13:$H$164,7,FALSE))","v":""},null,null,null,null,null,null,0]
[77,null,{"$f":"IF(E81=\"\",\"\",VLOOKUP(E81,'ePrijava in Navodila'!$B$13:$H$164,2,FALSE) & \" \" & VLOOKUP(E81,'ePrijava in Navodila'!$B$13:$H$164,3,FALSE))","v":""},{"$f":"IF(E81=\"\",\"\",VLOOKUP(E81,'ePrijava in Navodila'!$B$13:$H$164,5,FALSE))","v":""},null,{"$f":"IF(E81=\"\",\"\",VLOOKUP(E81,'ePrijava in Navodila'!$B$13:$H$164,7,FALSE))","v":""},null,null,null,null,null,null,0]
[78,null,{"$f":"IF(E82=\"\",\"\",VLOOKUP(E82,'ePrijava in Navodila'!$B$13:$H$164,2,FALSE) & \" \" & VLOOKUP(E82,'ePrijava in Navodila'!$B$13:$H$164,3,FALSE))","v":""},{"$f":"IF(E82=\"\",\"\",VLOOKUP(E82,'ePrijava in Navodila'!$B$13:$H$164,5,FALSE))","v":""},null,{"$f":"IF(E82=\"\",\"\",VLOOKUP(E82,'ePrijava in Navodila'!$B$13:$H$164,7,FALSE))","v":""},null,null,null,null,null,null,0]
[79,null,{"$f":"IF(E83=\"\",\"\",VLOOKUP(E83,'ePrijava in Navodila'!$B$13:$H$164,2,FALSE) & \" \" & VLOOKUP(E83,'ePrijava in Navodila'!$B$13:$H$164,3,FALSE))","v":""},{"$f":"IF(E83=\"\",\"\",VLOOKUP(E83,'ePrijava in Navodila'!$B$13:$H$164,5,FALSE))","v":""},null,{"$f":"IF(E83=\"\",\"\",VLOOKUP(E83,'ePrijava in Navodila'!$B$13:$H$164,7,FALSE))","v":""},null,null,null,null,null,null,0]
[80,null,{"$f":"IF(E84=\"\",\"\",VLOOKUP(E84,'ePrijava in Navodila'!$B$13:$H$164,2,FALSE) & \" \" & VLOOKUP(E84,'ePrijava in Navodila'!$B$13:$H$164,3,FALSE))","v":""},{"$f":"IF(E84=\"\",\"\",VLOOKUP(E84,'ePrijava in Navodila'!$B$13:$H$164,5,FALSE))","v":""},null,{"$f":"IF(E84=\"\",\"\",VLOOKUP(E84,'ePrijava in Navodila'!$B$13:$H$164,7,FALSE))","v":""},null,null,null,null,null,null,0]
[81,null,{"$f":"IF(E85=\"\",\"\",VLOOKUP(E85,'ePrijava in Navodila'!$B$13:$H$164,2,FALSE) & \" \" & VLOOKUP(E85,'ePrijava in Navodila'!$B$13:$H$164,3,FALSE))","v":""},{"$f":"IF(E85=\"\",\"\",VLOOKUP(E85,'ePrijava in Navodila'!$B$13:$H$164,5,FALSE))","v":""},null,{"$f":"IF(E85=\"\",\"\",VLOOKUP(E85,'ePrijava in Navodila'!$B$13:$H$164,7,FALSE))","v":""},null,null,null,null,null,null,0]
[82,null,{"$f":"IF(E86=\"\",\"\",VLOOKUP(E86,'ePrijava in Navodila'!$B$13:$H$164,2,FALSE) & \" \" & VLOOKUP(E86,'ePrijava in Navodila'!$B$13:$H$164,3,FALSE))","v":""},{"$f":"IF(E86=\"\",\"\",VLOOKUP(E86,'ePrijava in Navodila'!$B$13:$H$164,5,FALSE))","v":""},null,{"$f":"IF(E86=\"\",\"\",VLOOKUP(E86,'ePrijava in Navodila'!$B$13:$H$164,7,FALSE))","v":""},null,null,null,null,null,null,0]
[83,null,{"$f":"IF(E87=\"\",\"\",VLOOKUP(E87,'ePrijava in Navodila'!$B$13:$H$164,2,FALSE) & \" \" & VLOOKUP(E87,'ePrijava in Navodila'!$B$13:$H$164,3,FALSE))","v":""},{"$f":"IF(E87=\"\",\"\",VLOOKUP(E87,'ePrijava in Navodila'!$B$13:$H$164,5,FALSE))","v":""},null,{"$f":"IF(E87=\"\",\"\",VLOOKUP(E87,'ePrijava in Navodila'!$B$13:$H$164,7,FALSE))","v":""},null,null,null,null,null,null,0]
[84,null,{"$f":"IF(E88=\"\",\"\",VLOOKUP(E88,'ePrijava in Navodila'!$B$13:$H$164,2,FALSE) & \" \" & VLOOKUP(E88,'ePrijava in Navodila'!$B$13:$H$164,3,FALSE))","v":""},{"$f":"IF(E88=\"\",\"\",VLOOKUP(E88,'ePrijava in Navodila'!$B$13:$H$164,5,FALSE))","v":""},null,{"$f":"IF(E88=\"\",\"\",VLOOKUP(E88,'ePrijava in Navodila'!$B$13:$H$164,7,FALSE))","v":""},null,null,null,null,null,null,0]
[85,null,{"$f":"IF(E89=\"\",\"\",VLOOKUP(E89,'ePrijava in Navodila'!$B$13:$H$164,2,FALSE) & \" \" & VLOOKUP(E89,'ePrijava in Navodila'!$B$13:$H$164,3,FALSE))","v":""},{"$f":"IF(E89=\"\",\"\",VLOOKUP(E89,'ePrijava in Navodila'!$B$13:$H$164,5,FALSE))","v":""},null,{"$f":"IF(E89=\"\",\"\",VLOOKUP(E89,'ePrijava in Navodila'!$B$13:$H$164,7,FALSE))","v":""},null,null,null,null,null,null,0]
[86,null,{"$f":"IF(E90=\"\",\"\",VLOOKUP(E90,'ePrijava in Navodila'!$B$13:$H$164,2,FALSE) & \" \" & VLOOKUP(E90,'ePrijava in Navodila'!$B$13:$H$164,3,FALSE))","v":""},{"$f":"IF(E90=\"\",\"\",VLOOKUP(E90,'ePrijava in Navodila'!$B$13:$H$164,5,FALSE))","v":""},null,{"$f":"IF(E90=\"\",\"\",VLOOKUP(E90,'ePrijava in Navodila'!$B$13:$H$164,7,FALSE))","v":""},null,null,null,null,null,null,0]
[87,null,{"$f":"IF(E91=\"\",\"\",VLOOKUP(E91,'ePrijava in Navodila'!$B$13:$H$164,2,FALSE) & \" \" & VLOOKUP(E91,'ePrijava in Navodila'!$B$13:$H$164,3,FALSE))","v":""},{"$f":"IF(E91=\"\",\"\",VLOOKUP(E91,'ePrijava in Navodila'!$B$13:$H$164,5,FALSE))","v":""},null,{"$f":"IF(E91=\"\",\"\",VLOOKUP(E91,'ePrijava in Navodila'!$B$13:$H$164,7,FALSE))","v":""},null,null,null,null,null,null,0]
[88,null,{"$f":"IF(E92=\"\",\"\",VLOOKUP(E92,'ePrijava in Navodila'!$B$13:$H$164,2,FALSE) & \" \" & VLOOKUP(E92,'ePrijava in Navodila'!$B$13:$H$164,3,FALSE))","v":""},{"$f":"IF(E92=\"\",\"\",VLOOKUP(E92,'ePrijava in Navodila'!$B$13:$H$164,5,FALSE))","v":""},null,{"$f":"IF(E92=\"\",\"\",VLOOKUP(E92,'ePrijava in Navodila'!$B$13:$H$164,7,FALSE))","v":""},null,null,null,null,null,null,0]
[89,null,{"$f":"IF(E93=\"\",\"\",VLOOKUP(E93,'ePrijava in Navodila'!$B$13:$H$164,2,FALSE) & \" \" & VLOOKUP(E93,'ePrijava in Navodila'!$B$13:$H$164,3,FALSE))","v":""},{"$f":"IF(E93=\"\",\"\",VLOOKUP(E93,'ePrijava in Navodila'!$B$13:$H$164,5,FALSE))","v":""},null,{"$f":"IF(E93=\"\",\"\",VLOOKUP(E93,'ePrijava in Navodila'!$B$13:$H$164,7,FALSE))","v":""},null,null,null,null,null,null,0]
[90,null,{"$f":"IF(E94=\"\",\"\",VLOOKUP(E94,'ePrijava in Navodila'!$B$13:$H$164,2,FALSE) & \" \" & VLOOKUP(E94,'ePrijava in Navodila'!$B$13:$H$164,3,FALSE))","v":""},{"$f":"IF(E94=\"\",\"\",VLOOKUP(E94,'ePrijava in Navodila'!$B$13:$H$164,5,FALSE))","v":""},null,{"$f":"IF(E94=\"\",\"\",VLOOKUP(E94,'ePrijava in Navodila'!$B$13:$H$164,7,FALSE))","v":""},null,null,null,null,null,null,0]
[91,null,{"$f":"IF(E95=\"\",\"\",VLOOKUP(E95,'ePrijava in Navodila'!$B$13:$H$164,2,FALSE) & \" \" & VLOOKUP(E95,'ePrijava in Navodila'!$B$13:$H$164,3,FALSE))","v":""},{"$f":"IF(E95=\"\",\"\",VLOOKUP(E95,'ePrijava in Navodila'!$B$13:$H$164,5,FALSE))","v":""},null,{"$f":"IF(E95=\"\",\"\",VLOOKUP(E95,'ePrijava in Navodila'!$B$13:$H$164,7,FALSE))","v":""},null,null,null,null,null,null,0]
[92,null,{"$f":"IF(E96=\"\",\"\",VLOOKUP(E96,'ePrijava in Navodila'!$B$13:$H$164,2,FALSE) & \" \" & VLOOKUP(E96,'ePrijava in Navodila'!$B$13:$H$164,3,FALSE))","v":""},{"$f":"IF(E96=\"\",\"\",VLOOKUP(E96,'ePrijava in Navodila'!$B$13:$H$164,5,FALSE))","v":""},null,{"$f":"IF(E96=\"\",\"\",VLOOKUP(E96,'ePrijava in Navodila'!$B$13:$H$164,7,FALSE))","v":""},null,null,null,null,null,null,0]
[93,null,{"$f":"IF(E97=\"\",\"\",VLOOKUP(E97,'ePrijava in Navodila'!$B$13:$H$164,2,FALSE) & \" \" & VLOOKUP(E97,'ePrijava in Navodila'!$B$13:$H$164,3,FALSE))","v":""},{"$f":"IF(E97=\"\",\"\",VLOOKUP(E97,'ePrijava in Navodila'!$B$13:$H$164,5,FALSE))","v":""},null,{"$f":"IF(E97=\"\",\"\",VLOOKUP(E97,'ePrijava in Navodila'!$B$13:$H$164,7,FALSE))","v":""},null,null,null,null,null,null,0]
[94,null,{"$f":"IF(E98=\"\",\"\",VLOOKUP(E98,'ePrijava in Navodila'!$B$13:$H$164,2,FALSE) & \" \" & VLOOKUP(E98,'ePrijava in Navodila'!$B$13:$H$164,3,FALSE))","v":""},{"$f":"IF(E98=\"\",\"\",VLOOKUP(E98,'ePrijava in Navodila'!$B$13:$H$164,5,FALSE))","v":""},null,{"$f":"IF(E98=\"\",\"\",VLOOKUP(E98,'ePrijava in Navodila'!$B$13:$H$164,7,FALSE))","v":""},null,null,null,null,null,null,0]
[95,null,{"$f":"IF(E99=\"\",\"\",VLOOKUP(E99,'ePrijava in Navodila'!$B$13:$H$164,2,FALSE) & \" \" & VLOOKUP(E99,'ePrijava in Navodila'!$B$13:$H$164,3,FALSE))","v":""},{"$f":"IF(E99=\"\",\"\",VLOOKUP(E99,'ePrijava in Navodila'!$B$13:$H$164,5,FALSE))","v":""},null,{"$f":"IF(E99=\"\",\"\",VLOOKUP(E99,'ePrijava in Navodila'!$B$13:$H$164,7,FALSE))","v":""},null,null,null,null,null,null,0]
[96,null,{"$f":"IF(E100=\"\",\"\",VLOOKUP(E100,'ePrijava in Navodila'!$B$13:$H$164,2,FALSE) & \" \" & VLOOKUP(E100,'ePrijava in Navodila'!$B$13:$H$164,3,FALSE))","v":""},{"$f":"IF(E100=\"\",\"\",VLOOKUP(E100,'ePrijava in Navodila'!$B$13:$H$164,5,FALSE))","v":""},null,{"$f":"IF(E100=\"\",\"\",VLOOKUP(E100,'ePrijava in Navodila'!$B$13:$H$164,7,FALSE))","v":""},null,null,null,null,null,null,0]
[]
[]
[]
[]
["mesto",null,"U13 (deklice)"]
[]
[]
[null,null,"Priimek in ime","Roj.","BIB","Društvo, klub","1. ser","2. ser","3. ser","4. ser","1. ser","2. ser","skupno","nc*"]
[null,null,null,"skrita"]
[1,null,{"$f":"IF(E110=\"\",\"\",VLOOKUP(E110,'ePrijava in Navodila'!$B$13:$H$164,2,FALSE) & \" \" & VLOOKUP(E110,'ePrijava in Navodila'!$B$13:$H$164,3,FALSE))","v":""},{"$f":"IF(E110=\"\",\"\",VLOOKUP(E110,'ePrijava in Navodila'!$B$13:$H$164,5,FALSE))","v":""},null,{"$f":"IF(E110=\"\",\"\",VLOOKUP(E110,'ePrijava in Navodila'!$B$13:$H$164,7,FALSE))","v":""},null,null,null,null,null,null,{"$f":"SUM(G110:L110)","v":0}]
[2,null,{"$f":"IF(E111=\"\",\"\",VLOOKUP(E111,'ePrijava in Navodila'!$B$13:$H$164,2,FALSE) & \" \" & VLOOKUP(E111,'ePrijava in Navodila'!$B$13:$H$164,3,FALSE))","v":""},{"$f":"IF(E111=\"\",\"\",VLOOKUP(E111,'ePrijava in Navodila'!$B$13:$H$164,5,FALSE))","v":""},null,{"$f":"IF(E111=\"\",\"\",VLOOKUP(E111,'ePrijava in Navodila'!$B$13:$H$164,7,FALSE))","v":""},null,null,null,null,null,null,0]
[3,null,{"$f":"IF(E112=\"\",\"\",VLOOKUP(E112,'ePrijava in Navodila'!$B$13:$H$164,2,FALSE) & \" \" & VLOOKUP(E112,'ePrijava in Navodila'!$B$13:$H$164,3,FALSE))","v":""},{"$f":"IF(E112=\"\",\"\",VLOOKUP(E112,'ePrijava in Navodila'!$B$13:$H$164,5,FALSE))","v":""},null,{"$f":"IF(E112=\"\",\"\",VLOOKUP(E112,'ePrijava in Navodila'!$B$13:$H$164,7,FALSE))","v":""},null,null,null,null,null,null,0]
[4,null,{"$f":"IF(E113=\"\",\"\",VLOOKUP(E113,'ePrijava in Navodila'!$B$13:$H$164,2,FALSE) & \" \" & VLOOKUP(E113,'ePrijava in Navodila'!$B$13:$H$164,3,FALSE))","v":""},{"$f":"IF(E113=\"\",\"\",VLOOKUP(E113,'ePrijava in Navodila'!$B$13:$H$164,5,FALSE))","v":""},null,{"$f":"IF(E113=\"\",\"\",VLOOKUP(E113,'ePrijava in Navodila'!$B$13:$H$164,7,FALSE))","v":""},null,null,null,null,null,null,0]
[5,null,{"$f":"IF(E114=\"\",\"\",VLOOKUP(E114,'ePrijava in Navodila'!$B$13:$H$164,2,FALSE) & \" \" & VLOOKUP(E114,'ePrijava in Navodila'!$B$13:$H$164,3,FALSE))","v":""},{"$f":"IF(E114=\"\",\"\",VLOOKUP(E114,'ePrijava in Navodila'!$B$13:$H$164,5,FALSE))","v":""},null,{"$f":"IF(E114=\"\",\"\",VLOOKUP(E114,'ePrijava in Navodila'!$B$13:$H$164,7,FALSE))","v":""},null,null,null,null,null,null,0]
[6,null,{"$f":"IF(E115=\"\",\"\",VLOOKUP(E115,'ePrijava in Navodila'!$B$13:$H$164,2,FALSE) & \" \" & VLOOKUP(E115,'ePrijava in Navodila'!$B$13:$H$164,3,FALSE))","v":""},{"$f":"IF(E115=\"\",\"\",VLOOKUP(E115,'ePrijava in Navodila'!$B$13:$H$164,5,FALSE))","v":""},null,{"$f":"IF(E115=\"\",\"\",VLOOKUP(E115,'ePrijava in Navodila'!$B$13:$H$164,7,FALSE))","v":""},null,null,null,null,null,null,0]
[7,null,{"$f":"IF(E116=\"\",\"\",VLOOKUP(E116,'ePrijava in Navodila'!$B$13:$H$164,2,FALSE) & \" \" & VLOOKUP(E116,'ePrijava in Navodila'!$B$13:$H$164,3,FALSE))","v":""},{"$f":"IF(E116=\"\",\"\",VLOOKUP(E116,'ePrijava in Navodila'!$B$13:$H$164,5,FALSE))","v":""},null,{"$f":"IF(E116=\"\",\"\",VLOOKUP(E116,'ePrijava in Navodila'!$B$13:$H$164,7,FALSE))","v":""},null,null,null,null,null,null,0]
[8,null,{"$f":"IF(E117=\"\",\"\",VLOOKUP(E117,'ePrijava in Navodila'!$B$13:$H$164,2,FALSE) & \" \" & VLOOKUP(E117,'ePrijava in Navodila'!$B$13:$H$164,3,FALSE))","v":""},{"$f":"IF(E117=\"\",\"\",VLOOKUP(E117,'ePrijava in Navodila'!$B$13:$H$164,5,FALSE))","v":""},null,{"$f":"IF(E117=\"\",\"\",VLOOKUP(E117,'ePrijava in Navodila'!$B$13:$H$164,7,FALSE))","v":""},null,null,null,null,null,null,0]
[9,null,{"$f":"IF(E118=\"\",\"\",VLOOKUP(E118,'ePrijava in Navodila'!$B$13:$H$164,2,FALSE) & \" \" & VLOOKUP(E118,'ePrijava in Navodila'!$B$13:$H$164,3,FALSE))","v":""},{"$f":"IF(E118=\"\",\"\",VLOOKUP(E118,'ePrijava in Navodila'!$B$13:$H$164,5,FALSE))","v":""},null,{"$f":"IF(E118=\"\",\"\",VLOOKUP(E118,'ePrijava in Navodila'!$B$13:$H$164,7,FALSE))","v":""},null,null,null,null,null,null,0]
[10,null,{"$f":"IF(E119=\"\",\"\",VLOOKUP(E119,'ePrijava in Navodila'!$B$13:$H$164,2,FALSE) & \" \" & VLOOKUP(E119,'ePrijava in Navodila'!$B$13:$H$164,3,FALSE))","v":""},{"$f":"IF(E119=\"\",\"\",VLOOKUP(E119,'ePrijava in Navodila'!$B$13:$H$164,5,FALSE))","v":""},null,{"$f":"IF(E119=\"\",\"\",VLOOKUP(E119,'ePrijava in Navodila'!$B$13:$H$164,7,FALSE))","v":""},null,null,null,null,null,null,0]
[11,null,{"$f":"IF(E120=\"\",\"\",VLOOKUP(E120,'ePrijava in Navodila'!$B$13:$H$164,2,FALSE) & \" \" & VLOOKUP(E120,'ePrijava in Navodila'!$B$13:$H$164,3,FALSE))","v":""},{"$f":"IF(E120=\"\",\"\",VLOOKUP(E120,'ePrijava in Navodila'!$B$13:$H$164,5,FALSE))","v":""},null,{"$f":"IF(E120=\"\",\"\",VLOOKUP(E120,'ePrijava in Navodila'!$B$13:$H$164,7,FALSE))","v":""},null,null,null,null,null,null,0]
[12,null,{"$f":"IF(E121=\"\",\"\",VLOOKUP(E121,'ePrijava in Navodila'!$B$13:$H$164,2,FALSE) & \" \" & VLOOKUP(E121,'ePrijava in Navodila'!$B$13:$H$164,3,FALSE))","v":""},{"$f":"IF(E121=\"\",\"\",VLOOKUP(E121,'ePrijava in Navodila'!$B$13:$H$164,5,FALSE))","v":""},null,{"$f":"IF(E121=\"\",\"\",VLOOKUP(E121,'ePrijava in Navodila'!$B$13:$H$164,7,FALSE))","v":""},null,null,null,null,null,null,0]
[13,null,{"$f":"IF(E122=\"\",\"\",VLOOKUP(E122,'ePrijava in Navodila'!$B$13:$H$164,2,FALSE) & \" \" & VLOOKUP(E122,'ePrijava in Navodila'!$B$13:$H$164,3,FALSE))","v":""},{"$f":"IF(E122=\"\",\"\",VLOOKUP(E122,'ePrijava in Navodila'!$B$13:$H$164,5,FALSE))","v":""},null,{"$f":"IF(E122=\"\",\"\",VLOOKUP(E122,'ePrijava in Navodila'!$B$13:$H$164,7,FALSE))","v":""},null,null,null,null,null,null,0]
[14,null,{"$f":"IF(E123=\"\",\"\",VLOOKUP(E123,'ePrijava in Navodila'!$B$13:$H$164,2,FALSE) & \" \" & VLOOKUP(E123,'ePrijava in Navodila'!$B$13:$H$164,3,FALSE))","v":""},{"$f":"IF(E123=\"\",\"\",VLOOKUP(E123,'ePrijava in Navodila'!$B$13:$H$164,5,FALSE))","v":""},null,{"$f":"IF(E123=\"\",\"\",VLOOKUP(E123,'ePrijava in Navodila'!$B$13:$H$164,7,FALSE))","v":""},null,null,null,null,null,null,0]
[15,null,{"$f":"IF(E124=\"\",\"\",VLOOKUP(E124,'ePrijava in Navodila'!$B$13:$H$164,2,FALSE) & \" \" & VLOOKUP(E124,'ePrijava in Navodila'!$B$13:$H$164,3,FALSE))","v":""},{"$f":"IF(E124=\"\",\"\",VLOOKUP(E124,'ePrijava in Navodila'!$B$13:$H$164,5,FALSE))","v":""},null,{"$f":"IF(E124=\"\",\"\",VLOOKUP(E124,'ePrijava in Navodila'!$B$13:$H$164,7,FALSE))","v":""},null,null,null,null,null,null,0]
[16,null,{"$f":"IF(E125=\"\",\"\",VLOOKUP(E125,'ePrijava in Navodila'!$B$13:$H$164,2,FALSE) & \" \" & VLOOKUP(E125,'ePrijava in Navodila'!$B$13:$H$164,3,FALSE))","v":""},{"$f":"IF(E125=\"\",\"\",VLOOKUP(E125,'ePrijava in Navodila'!$B$13:$H$164,5,FALSE))","v":""},null,{"$f":"IF(E125=\"\",\"\",VLOOKUP(E125,'ePrijava in Navodila'!$B$13:$H$164,7,FALSE))","v":""},null,null,null,null,null,null,0]
[17,null,{"$f":"IF(E126=\"\",\"\",VLOOKUP(E126,'ePrijava in Navodila'!$B$13:$H$164,2,FALSE) & \" \" & VLOOKUP(E126,'ePrijava in Navodila'!$B$13:$H$164,3,FALSE))","v":""},{"$f":"IF(E126=\"\",\"\",VLOOKUP(E126,'ePrijava in Navodila'!$B$13:$H$164,5,FALSE))","v":""},null,{"$f":"IF(E126=\"\",\"\",VLOOKUP(E126,'ePrijava in Navodila'!$B$13:$H$164,7,FALSE))","v":""},null,null,null,null,null,null,0]
[18,null,{"$f":"IF(E127=\"\",\"\",VLOOKUP(E127,'ePrijava in Navodila'!$B$13:$H$164,2,FALSE) & \" \" & VLOOKUP(E127,'ePrijava in Navodila'!$B$13:$H$164,3,FALSE))","v":""},{"$f":"IF(E127=\"\",\"\",VLOOKUP(E127,'ePrijava in Navodila'!$B$13:$H$164,5,FALSE))","v":""},null,{"$f":"IF(E127=\"\",\"\",VLOOKUP(E127,'ePrijava in Navodila'!$B$13:$H$164,7,FALSE))","v":""},null,null,null,null,null,null,0]
[19,null,{"$f":"IF(E128=\"\",\"\",VLOOKUP(E128,'ePrijava in Navodila'!$B$13:$H$164,2,FALSE) & \" \" & VLOOKUP(E128,'ePrijava in Navodila'!$B$13:$H$164,3,FALSE))","v":""},{"$f":"IF(E128=\"\",\"\",VLOOKUP(E128,'ePrijava in Navodila'!$B$13:$H$164,5,FALSE))","v":""},null,{"$f":"IF(E128=\"\",\"\",VLOOKUP(E128,'ePrijava in Navodila'!$B$13:$H$164,7,FALSE))","v":""},null,null,null,null,null,null,0]
[20,null,{"$f":"IF(E129=\"\",\"\",VLOOKUP(E129,'ePrijava in Navodila'!$B$13:$H$164,2,FALSE) & \" \" & VLOOKUP(E129,'ePrijava in Navodila'!$B$13:$H$164,3,FALSE))","v":""},{"$f":"IF(E129=\"\",\"\",VLOOKUP(E129,'ePrijava in Navodila'!$B$13:$H$164,5,FALSE))","v":""},null,{"$f":"IF(E129=\"\",\"\",VLOOKUP(E129,'ePrijava in Navodila'!$B$13:$H$164,7,FALSE))","v":""},null,null,null,null,null,null,0]
[21,null,{"$f":"IF(E130=\"\",\"\",VLOOKUP(E130,'ePrijava in Navodila'!$B$13:$H$164,2,FALSE) & \" \" & VLOOKUP(E130,'ePrijava in Navodila'!$B$13:$H$164,3,FALSE))","v":""},{"$f":"IF(E130=\"\",\"\",VLOOKUP(E130,'ePrijava in Navodila'!$B$13:$H$164,5,FALSE))","v":""},null,{"$f":"IF(E130=\"\",\"\",VLOOKUP(E130,'ePrijava in Navodila'!$B$13:$H$164,7,FALSE))","v":""},null,null,null,null,null,null,0]
[22,null,{"$f":"IF(E131=\"\",\"\",VLOOKUP(E131,'ePrijava in Navodila'!$B$13:$H$164,2,FALSE) & \" \" & VLOOKUP(E131,'ePrijava in Navodila'!$B$13:$H$164,3,FALSE))","v":""},{"$f":"IF(E131=\"\",\"\",VLOOKUP(E131,'ePrijava in Navodila'!$B$13:$H$164,5,FALSE))","v":""},null,{"$f":"IF(E131=\"\",\"\",VLOOKUP(E131,'ePrijava in Navodila'!$B$13:$H$164,7,FALSE))","v":""},null,null,null,null,null,null,0]
[23,null,{"$f":"IF(E132=\"\",\"\",VLOOKUP(E132,'ePrijava in Navodila'!$B$13:$H$164,2,FALSE) & \" \" & VLOOKUP(E132,'ePrijava in Navodila'!$B$13:$H$164,3,FALSE))","v":""},{"$f":"IF(E132=\"\",\"\",VLOOKUP(E132,'ePrijava in Navodila'!$B$13:$H$164,5,FALSE))","v":""},null,{"$f":"IF(E132=\"\",\"\",VLOOKUP(E132,'ePrijava in Navodila'!$B$13:$H$164,7,FALSE))","v":""},null,null,null,null,null,null,0]
[24,null,{"$f":"IF(E133=\"\",\"\",VLOOKUP(E133,'ePrijava in Navodila'!$B$13:$H$164,2,FALSE) & \" \" & VLOOKUP(E133,'ePrijava in Navodila'!$B$13:$H$164,3,FALSE))","v":""},{"$f":"IF(E133=\"\",\"\",VLOOKUP(E133,'ePrijava in Navodila'!$B$13:$H$164,5,FALSE))","v":""},null,{"$f":"IF(E133=\"\",\"\",VLOOKUP(E133,'ePrijava in Navodila'!$B$13:$H$164,7,FALSE))","v":""},null,null,null,null,null,null,0]
[25,null,{"$f":"IF(E134=\"\",\"\",VLOOKUP(E134,'ePrijava in Navodila'!$B$13:$H$164,2,FALSE) & \" \" & VLOOKUP(E134,'ePrijava in Navodila'!$B$13:$H$164,3,FALSE))","v":""},{"$f":"IF(E134=\"\",\"\",VLOOKUP(E134,'ePrijava in Navodila'!$B$13:$H$164,5,FALSE))","v":""},null,{"$f":"IF(E134=\"\",\"\",VLOOKUP(E134,'ePrijava in Navodila'!$B$13:$H$164,7,FALSE))","v":""},null,null,null,null,null,null,0]
[26,null,{"$f":"IF(E135=\"\",\"\",VLOOKUP(E135,'ePrijava in Navodila'!$B$13:$H$164,2,FALSE) & \" \" & VLOOKUP(E135,'ePrijava in Navodila'!$B$13:$H$164,3,FALSE))","v":""},{"$f":"IF(E135=\"\",\"\",VLOOKUP(E135,'ePrijava in Navodila'!$B$13:$H$164,5,FALSE))","v":""},null,{"$f":"IF(E135=\"\",\"\",VLOOKUP(E135,'ePrijava in Navodila'!$B$13:$H$164,7,FALSE))","v":""},null,null,null,null,null,null,0]
[27,null,{"$f":"IF(E136=\"\",\"\",VLOOKUP(E136,'ePrijava in Navodila'!$B$13:$H$164,2,FALSE) & \" \" & VLOOKUP(E136,'ePrijava in Navodila'!$B$13:$H$164,3,FALSE))","v":""},{"$f":"IF(E136=\"\",\"\",VLOOKUP(E136,'ePrijava in Navodila'!$B$13:$H$164,5,FALSE))","v":""},null,{"$f":"IF(E136=\"\",\"\",VLOOKUP(E136,'ePrijava in Navodila'!$B$13:$H$164,7,FALSE))","v":""},null,null,null,null,null,null,0]
[28,null,{"$f":"IF(E137=\"\",\"\",VLOOKUP(E137,'ePrijava in Navodila'!$B$13:$H$164,2,FALSE) & \" \" & VLOOKUP(E137,'ePrijava in Navodila'!$B$13:$H$164,3,FALSE))","v":""},{"$f":"IF(E137=\"\",\"\",VLOOKUP(E137,'ePrijava in Navodila'!$B$13:$H$164,5,FALSE))","v":""},null,{"$f":"IF(E137=\"\",\"\",VLOOKUP(E137,'ePrijava in Navodila'!$B$13:$H$164,7,FALSE))","v":""},null,null,null,null,null,null,0]
[29,null,{"$f":"IF(E138=\"\",\"\",VLOOKUP(E138,'ePrijava in Navodila'!$B$13:$H$164,2,FALSE) & \" \" & VLOOKUP(E138,'ePrijava in Navodila'!$B$13:$H$164,3,FALSE))","v":""},{"$f":"IF(E138=\"\",\"\",VLOOKUP(E138,'ePrijava in Navodila'!$B$13:$H$164,5,FALSE))","v":""},null,{"$f":"IF(E138=\"\",\"\",VLOOKUP(E138,'ePrijava in Navodila'!$B$13:$H$164,7,FALSE))","v":""},null,null,null,null,null,null,0]
[30,null,{"$f":"IF(E139=\"\",\"\",VLOOKUP(E139,'ePrijava in Navodila'!$B$13:$H$164,2,FALSE) & \" \" & VLOOKUP(E139,'ePrijava in Navodila'!$B$13:$H$164,3,FALSE))","v":""},{"$f":"IF(E139=\"\",\"\",VLOOKUP(E139,'ePrijava in Navodila'!$B$13:$H$164,5,FALSE))","v":""},null,{"$f":"IF(E139=\"\",\"\",VLOOKUP(E139,'ePrijava in Navodila'!$B$13:$H$164,7,FALSE))","v":""},null,null,null,null,null,null,0]
[31,null,{"$f":"IF(E140=\"\",\"\",VLOOKUP(E140,'ePrijava in Navodila'!$B$13:$H$164,2,FALSE) & \" \" & VLOOKUP(E140,'ePrijava in Navodila'!$B$13:$H$164,3,FALSE))","v":""},{"$f":"IF(E140=\"\",\"\",VLOOKUP(E140,'ePrijava in Navodila'!$B$13:$H$164,5,FALSE))","v":""},null,{"$f":"IF(E140=\"\",\"\",VLOOKUP(E140,'ePrijava in Navodila'!$B$13:$H$164,7,FALSE))","v":""},null,null,null,null,null,null,0]
[32,null,{"$f":"IF(E141=\"\",\"\",VLOOKUP(E141,'ePrijava in Navodila'!$B$13:$H$164,2,FALSE) & \" \" & VLOOKUP(E141,'ePrijava in Navodila'!$B$13:$H$164,3,FALSE))","v":""},{"$f":"IF(E141=\"\",\"\",VLOOKUP(E141,'ePrijava in Navodila'!$B$13:$H$164,5,FALSE))","v":""},null,{"$f":"IF(E141=\"\",\"\",VLOOKUP(E141,'ePrijava in Navodila'!$B$13:$H$164,7,FALSE))","v":""},null,null,null,null,null,null,0]
[33,null,{"$f":"IF(E142=\"\",\"\",VLOOKUP(E142,'ePrijava in Navodila'!$B$13:$H$164,2,FALSE) & \" \" & VLOOKUP(E142,'ePrijava in Navodila'!$B$13:$H$164,3,FALSE))","v":""},{"$f":"IF(E142=\"\",\"\",VLOOKUP(E142,'ePrijava in Navodila'!$B$13:$H$164,5,FALSE))","v":""},null,{"$f":"IF(E142=\"\",\"\",VLOOKUP(E142,'ePrijava in Navodila'!$B$13:$H$164,7,FALSE))","v":""},null,null,null,null,null,null,0]
[34,null,{"$f":"IF(E143=\"\",\"\",VLOOKUP(E143,'ePrijava in Navodila'!$B$13:$H$164,2,FALSE) & \" \" & VLOOKUP(E143,'ePrijava in Navodila'!$B$13:$H$164,3,FALSE))","v":""},{"$f":"IF(E143=\"\",\"\",VLOOKUP(E143,'ePrijava in Navodila'!$B$13:$H$164,5,FALSE))","v":""},null,{"$f":"IF(E143=\"\",\"\",VLOOKUP(E143,'ePrijava in Navodila'!$B$13:$H$164,7,FALSE))","v":""},null,null,null,null,null,null,0]
[35,null,{"$f":"IF(E144=\"\",\"\",VLOOKUP(E144,'ePrijava in Navodila'!$B$13:$H$164,2,FALSE) & \" \" & VLOOKUP(E144,'ePrijava in Navodila'!$B$13:$H$164,3,FALSE))","v":""},{"$f":"IF(E144=\"\",\"\",VLOOKUP(E144,'ePrijava in Navodila'!$B$13:$H$164,5,FALSE))","v":""},null,{"$f":"IF(E144=\"\",\"\",VLOOKUP(E144,'ePrijava in Navodila'!$B$13:$H$164,7,FALSE))","v":""},null,null,null,null,null,null,0]
[36,null,{"$f":"IF(E145=\"\",\"\",VLOOKUP(E145,'ePrijava in Navodila'!$B$13:$H$164,2,FALSE) & \" \" & VLOOKUP(E145,'ePrijava in Navodila'!$B$13:$H$164,3,FALSE))","v":""},{"$f":"IF(E145=\"\",\"\",VLOOKUP(E145,'ePrijava in Navodila'!$B$13:$H$164,5,FALSE))","v":""},null,{"$f":"IF(E145=\"\",\"\",VLOOKUP(E145,'ePrijava in Navodila'!$B$13:$H$164,7,FALSE))","v":""},null,null,null,null,null,null,0]
[37,null,{"$f":"IF(E146=\"\",\"\",VLOOKUP(E146,'ePrijava in Navodila'!$B$13:$H$164,2,FALSE) & \" \" & VLOOKUP(E146,'ePrijava in Navodila'!$B$13:$H$164,3,FALSE))","v":""},{"$f":"IF(E146=\"\",\"\",VLOOKUP(E146,'ePrijava in Navodila'!$B$13:$H$164,5,FALSE))","v":""},null,{"$f":"IF(E146=\"\",\"\",VLOOKUP(E146,'ePrijava in Navodila'!$B$13:$H$164,7,FALSE))","v":""},null,null,null,null,null,null,0]
[38,null,{"$f":"IF(E147=\"\",\"\",VLOOKUP(E147,'ePrijava in Navodila'!$B$13:$H$164,2,FALSE) & \" \" & VLOOKUP(E147,'ePrijava in Navodila'!$B$13:$H$164,3,FALSE))","v":""},{"$f":"IF(E147=\"\",\"\",VLOOKUP(E147,'ePrijava in Navodila'!$B$13:$H$164,5,FALSE))","v":""},null,{"$f":"IF(E147=\"\",\"\",VLOOKUP(E147,'ePrijava in Navodila'!$B$13:$H$164,7,FALSE))","v":""},null,null,null,null,null,null,0]
[39,null,{"$f":"IF(E148=\"\",\"\",VLOOKUP(E148,'ePrijava in Navodila'!$B$13:$H$164,2,FALSE) & \" \" & VLOOKUP(E148,'ePrijava in Navodila'!$B$13:$H$164,3,FALSE))","v":""},{"$f":"IF(E148=\"\",\"\",VLOOKUP(E148,'ePrijava in Navodila'!$B$13:$H$164,5,FALSE))","v":""},null,{"$f":"IF(E148=\"\",\"\",VLOOKUP(E148,'ePrijava in Navodila'!$B$13:$H$164,7,FALSE))","v":""},null,null,null,null,null,null,0]
[40,null,{"$f":"IF(E149=\"\",\"\",VLOOKUP(E149,'ePrijava in Navodila'!$B$13:$H$164,2,FALSE) & \" \" & VLOOKUP(E149,'ePrijava in Navodila'!$B$13:$H$164,3,FALSE))","v":""},{"$f":"IF(E149=\"\",\"\",VLOOKUP(E149,'ePrijava in Navodila'!$B$13:$H$164,5,FALSE))","v":""},null,{"$f":"IF(E149=\"\",\"\",VLOOKUP(E149,'ePrijava in Navodila'!$B$13:$H$164,7,FALSE))","v":""},null,null,null,null,null,null,0]

{"sheet":"Pravilnik","index":7,"n_rows":164,"n_cols":3,"rows_kept":164,"cut":false,"hidden":false,"merged":[[138,0,138,15],[12,0,12,15],[122,0,122,14],[126,0,126,13],[127,0,127,11],[129,0,129,12],[19,0,19,17],[24,0,24,17],[39,0,39,15],[58,0,58,15],[64,0,64,15],[69,0,69,14]]}
["Na podlagi 28. člena Statuta Strelske zveze Slovenije je Predsedstvo SZS na svoji 35. seji, dne"]
["05.  09. 2024, sprejelo"]
[]
[]
[]
["Pravilnik o tekmovanju za Pokal prijateljstva SZS"]
[]
[]
["1.     SPLOŠNE DOLOČBE"]
[]
[]
["1.  člen"]
["Pravilnik o tekmovanju za Pokal prijateljstva Strelske zveze Slovenije (v nadaljevanju: Pravilnik) ureja tekmovanja v državni ligi s serijsko zračno puško za kategorije U11 (mlajše deklice in mlajši dečki), U13 (deklice in dečki) in U15 (starejše deklice in starejši dečki) ter z zračno pištolo z naslonom za kategorije U11 (mlajše deklice in mlajši dečki), U13 (deklice in dečki)."]
[]
["Tekmovanje je v pristojnosti, regijskih koordinatorjev, regijske komisije oziroma regijske zveze in se izvaja po regijah, točkuje pa na državnem nivoju, kjer se rezultati združijo."]
[]
["V Pravilniku se uporabljeni izrazi za tekmovalce, zapisani v moški slovnični obliki, uporabljajo za ženske in moške."]
[]
["2.  člen"]
["V tekmovanju za Pokal prijateljstva Strelske zveze Slovenije (v nadaljevanju: Pokal) nastopajo ekipe in posamezniki članic Strelske zveze Slovenije (v nadaljevanju: SZS) s poravnano članarino za tekoče leto, katerih tekmovalci so registrirani v skladu s Pravilnikom o registraciji tekmovalcev v SZS."]
[]
["Članice SZS morajo za svoje tekmovalce pred nastopom natisniti štartne številke, ki so za tekočo sezono objavljene na spletni strani SZS in jih morajo tekmovalci v času tekmovanja nositi na hrbtu."]
["Starost in identiteto tekmovalca lahko pred začetkom nastopa sodnik preveri s pregledom identifikacijske strelske izkaznice oziroma osebnega dokumenta s fotografijo."]
[]
["Neregistriranega tekmovalca se sme izjemoma zavesti v bilten tekmovanja z začasno BIB številko, ki se prične s številko regije, kategorijo in zaporedno številko nastopajočega (npr. 2U1501, kjer pomeni 2 - regija, U15 - starostna kategorija in 01 - zaporedna številka). Neregistriranemu tekmovalcu sta dovoljena največ dva zaporedna nastopa. Takšen tekmovalec mora imeti tekmovalno licenco do naslednjega kroga tekmovanja (tretji zaporedni krog oz. pred zadnjim 6. krogom), sicer se mu rezultati v skupnem točkovanju brišejo. Kljub morebitni registraciji izven tega obdobja se predhodno doseženi rezultati ne priznajo. V zadnjem 6. krogu tekmovanje brez tekmovalne licence ni mogoče."]
[]
["2.   STAROSTNE KATEGORIJE"]
[]
["3.   člen"]
["Tekmujejo tekmovalci posamezno in ekipno, ki so razdeljeni v tri starostne kategorije:"]
[]
["-       V kategoriji U11 (mlajše deklice in mlajši dečki) lahko nastopajo tekmovalci, ki ki dopolnijo 10 let in v letu zaključka lige dopolnijo največ 11 let,"]
["-       V kategoriji U13 (deklice in dečki) lahko nastopajo tekmovalci, ki dopolnijo 10 let in v letu zaključka lige dopolnijo največ 13 let,"]
["-       V kategoriji U15 (starejše deklice in starejši dečki) lahko nastopajo tekmovalci, ki dopolnijo 13 let in v letu zaključka lige dopolnijo največ 15 let, tekmovalci nastopajo brez naslona."]
[]
["Kategoriji U11 (mlajše deklice in mlajši dečki) in U13 (deklice in dečki) nastopata z naslonom. Ekipe v kategorijah so tričlanske in so lahko mešane po spolu."]
["4.   člen"]
["Tekmovalec v Pokalu med sezono ne more prestopiti iz ene v drugo starostno kategorijo."]
[]
["Tekmovalcem, ki nastopajo v tekmovanju za Pokal, ni dovoljeno vzporedno tekmovati v državni ligi mladih, smejo pa med potekom lige iz tekmovanja za Pokal prestopiti v državno ligo mladih. Po prestopu vrnitev v tekmovanje za Pokal ni več mogoča."]
[]
["Članice o nameri prestopa obvestijo pristojno regijsko komisijo, KPPS in Komisarja DL.Pri prestopu se dosežene točke v Pokalu ne prenesejo v državno ligo mladih."]
[]
["3.  DOLOČILA ZA IZVEDBO POKALA"]
[]
["5.  člen"]
["Pokal ima šest (6) krogov, katerih termini izvedbe so določeni s koledarjem tekmovanj SZS. Tekmovanje se v regijah izvede do vključno petka pred datumom državne lige mladih."]
[]
["Organizatorja določenega kroga izbere regijska tekmovalna komisija oziroma regijski koordinator."]
[]
["Za posamezni krog se v regiji lahko tekmovanje izvede na več streliščih, pogoj pa je, da sta prisotni najmanj dve članici zveze."]
[]
["Za sodelovanje v Pokalu ni pristopnine. V duhu izvedbe tekme izmenično pri vsakem sodelujočem društvu se startnine ne pobirajo."]
[]
[]
["6.  člen"]
["Tekmovalci streljajo s serijsko zračno puško in zračno pištolo dvajset (20) tekmovalnih strelov."]
[]
["Glede serijskih zračnih pušk, naslona za zračno pištolo in serijsko puško, opreme, tarč, časov, razvrščanja in asistiranja veljajo nekatera posebna določila, opisana v Prilogi 2 Pravilnika o državnih prvenstvih RS."]
[]
["Vsaka članica SZS lahko nastopi v vsaki starostni skupini z eno (1) ekipo in neomejenim številom posameznikov."]
[]
[]
["7.  člen"]
["V skladu s sprejetim koledarjem SZS in izbranim izvajalcem posameznega kroga tekmovanja, članice zveze iz regije po elektronski pošti prijavijo svoje tekmovalce najmanj pet dni pred tekmovanjem. Izvajalec tekmovanja na podlagi prejetih prijav pripravi razpored tekmovanja in ga po elektronski pošti pošlje članicam udeleženkam."]
[]
[]
["8.  člen"]
[]
["Organizator posameznega kroga čimprej po izvedenem tekmovanju posreduje rezultate po elektronski pošti na naslov rezultatiszs@gmail.com in sicer na excelovem obrazcu, ki ga pripravi SZS."]
[]
["Komisar tekmovalnih sistemov SZS rezultate iz vseh regij združi, točkuje in posreduje za objavo skrbniku spletnih strani SZS."]
[]
["Rezultati iz regij se posredujejo v tednu tekme, najkasneje do sobote do 11. ure, sicer se smatra, da tekmovanje ni bilo izvedeno."]
[]
["Rezultati poslani po tem terminu bodo upoštevani v skupnih rezultatih, vendar bo organizator denarno kaznovan v skladu z kazenskimi določili."]
[]
["9.  člen"]
[]
["Vodstvo regije oz. regijske zveze zagotovi, da je na tekmovanju prisoten sodnik z veljavno sodniško licenco."]
[]
["Organizator mora na tekmovanju zagotoviti pravilnike ISSF in ta Pravilnik."]
[]
[]
["4.  TOČKOVANJE EKIP IN POSAMEZNIKOV"]
[]
["10.  člen"]
["Poleg ekipnega se vodi tudi vrstni red posameznikov ločeno po spolu. Uvrstitev ekip in posameznikov se točkuje v skladu z določili tega Pravilnika."]
[]
["11.  člen"]
["Točke se v vsakem krogu tekmovanja ekipam in posameznikom dodelijo na podlagi doseženega števila krogov po naslednjem točkovniku:"]
[]
[]
["mesto","točke posamezno","točke ekipno"]
["1.",30,20]
["2.",26,17]
["3.",24,14]
["4.",22,12]
["5.",21,11]
["6.",20,10]
["7.",19,9]
["8.",18,8]
["9.",17,7]
["10.",16,6]
["11.",15,5]
["12.",14,4]
["13.",13,3]
["14.",12,2]
["15.",11,1]
["16.",10]
["17.",9]
["18.",8]
["19.",7]
["20.",6]
["21.",5]
["22.",4]
["23.",3]
["24.",2]
["25.",1]
[]
["V kolikor izenačenega rezultata posameznega kroga zaradi manjkajočega podatka ni moč razrešiti se tekmovalcu-cem ali ekipi dodeli enako, višje število točk."]
[]
["V kolikor nastopi več kot petnajst (15) ekip, vse naslednje uvrščene ekipe prejmejo po eno (1) tekmovalno točko."]
[]
["12.  člen"]
[]
["Komisar državnih lig točkovno ovrednoti rezultate in sestavi lestvice skupnega vrstnega reda, ki jih SZS objavi na svoji spletni strani."]
["Končni vrstni red ekip se določi na podlagi seštevka vseh doseženih točk, dobljenih na posameznih krogih. Ob enakem številu točk je višje uvrščena ekipa z višjim seštevkom vseh doseženih krogov. Če je tudi ta enak, pa odloča večje število prejetih točk na zadnjem krogu."]
[]
["Za končno razvrstitev posameznikov se upošteva seštevek n-1 najboljših točkovnih rezultatov, pri čemer »n« pomeni število krogov tekmovanja v sezoni. Pri enakem številu točk je višje uvrščen tekmovalec z višjim številom neupoštevanih točk. Če tudi tako ne pride do odločitve, se višje uvrsti tekmovalec z višjim povprečnim rezultatom vseh tekmovalnih nastopov v tekoči sezoni."]
[]
[]
["5.  PRIZNANJA"]
[]
["13. člen"]
[]
["V posameznem krogu tekmovanja se najboljšim posameznikom in ekipam ne podeljuje priznanj."]
[]
["Za skupno uvrstitev SZS podeli medalje najboljšim trem posameznikom posamezne discipline v vsaki kategoriji in pokal prvim trem ekipam za skupno uvrstitev v posamezni disciplini in posamezni starostni kategoriji."]
[]
["Razglasitev rezultatov in skupna podelitev se opravi ob prvi priložnosti po končanju vseh krogov lige. Pokale in medalje lahko prevzame tudi vodstvo članic zveze, ki so ta priznanja osvojili."]
[]
[]
["6.   KAZENSKE DOLOČBE"]
[]
["14. člen"]
["Denarne kazni se izrečejo v naslednjih primerih:"]
["a)                      Organizatorja, ki rezultatov tekmovanja ne pošlje v skladu z 8. členom Pravilnika se kaznuje z denarno kaznijo 50,00 EUR."]
[]
["7.    PREHODNE IN KONČNE DOLOČBE"]
[]
["15.  člen"]
["Za ostale primere, ki s tem Pravilnikom niso posebej urejeni, veljajo predpisi ISSF oziroma sklepi pooblaščenih organov SZS."]
[]
["16.  člen"]
["Določila tega pravilnika pojasnjuje Predsedstvo SZS."]
[]
["17.  člen"]
["Pravilnik začne veljati z dnem sprejema na seji Predsedstva SZS."]
["S sprejetjem Pravilnika preneha veljati Pravilnik o tekmovanju za Pokal prijateljstva SZS štev. 241- 23 z dne 10.08.2023."]
[]
[]
[]
["Predsednik SZS: Ljubo Germič l.r."]

{"sheet":"sodniki","index":8,"n_rows":288,"n_cols":1,"rows_kept":288,"cut":false,"hidden":true,"merged":[]}
["Stolpec1"]
["GOLOB Peter,  MS,  A 5779"]
["FERENČAK  Robert,  MS,  A 5156"]
["VALANT Elvira,  MS,   A 4199"]
["ADLEŠIČ Jernej,  MS,  B 8081"]
["FEVŽER Martin,  MS,  B 8062"]
["GOLOB Irena,  MS,  B 8086"]
["GÖNC Simeon,  MS,  B 8084"]
["GORJUP  Andreja,  MS,  A 5780"]
["HORVAT Tadej,  MS,  B 8085"]
["KELENC  Janez,  MS,  B 8087"]
["MAJERLE Anton,  MS,   B 3283"]
["MAJHENIČ  Anton Jože,  MS,  A 3284"]
["MIKOLIČ Alojz,  MS,   B 3285"]
["POTRČ Mojca,  MS,  B 8088"]
["RITOŠA Giuliano,  MS,  A 5157"]
["STAJNKO Igor,  MS,  B 8089"]
["STRAKUŠEK Oto,  MS,  A 5781"]
["STRNAD Adrijana,  MS,  P02056"]
["ŠTERMAN Renato,  MS,  B 5158"]
["TRUP Janez,  MS,   B 2771"]
["VOČANEC Stiven,  MS,  B 8083"]
["AHEJ Dušan,  S,  P03027"]
["ARNUŠ Radivoj,  S,  P02120"]
["BABAČA Edbin,  S,  P03053"]
["BABAČA Ernest Eman,  S,  P03054"]
["BABAČA Melvin,  S,  P03055"]
["BALAŠKO Štefan,  DS,  P01931"]
["BALAŽIC Darko,  S,  P03001"]
["BANFI Primož,  S,  P03012"]
["BARBIRIČ Ivan ,  S,  P03028"]
["BELE Mirko,  RS,  P02050"]
["BENČINA Sonja,  RS,  P02090"]
["BENKOVIČ Tomaž,  RS,  P03016"]
["BERDNIK Andreja,  RS,  P02064"]
["BERDNIK Mark,  S,  P03019"]
["BERLAK Janko,  RS,  P00084"]
["BERNOT Anže,  S,  P03056"]
["BEVK Branimir,  RS,  P02091"]
["BOGDAN Rudi,  S,  P03018"]
["BOGDANOVIĆ Vlado,  S,  P03046"]
["BOLA UJČIČ Denis,  DS,  P03084"]
["BOROVNIK Tomaž,  S,  P03041"]
["BOŽIČ Janko,  RS,  P02086"]
["BOŽIČ Matej,  DS,  P01971"]
["BRESKVAR Ema,  S,  P03069"]
["BRUNŠEK Andrej,  RS,  P00118"]
["CANDARE Sabrina,  S,  P03080"]
["CAR Franc,  RS,  P03015"]
["CEHNER Boris,  S,  P03025"]
["CICMANOVIČ Zimet Ivo,  S,  P02072"]
["CIGLAR Tomaž,  RS,  P02130"]
["CUGELJ Franc,  DS,  P00100"]
["ČAKARDIĆ Jurij,  DS,  P00143"]
["ČERNI Jernej,  RS,  P01861"]
["ČERNI Mitja,  DS,  P01860"]
["ČERNI Štefan,  RS,  P01858"]
["ČERNIC Matej,  RS,  P00078"]
["ČESNIK Gregor,  S,  P03065"]
["ČIZMAZIJA Maks,  S,  P03005"]
["ČUČKO Aljaž,  RS,  P02102"]
["DOGŠA Jan,  S,  P03011"]
["DOLŠINA Mitja ,  S,  P03077"]
["DOTTO Nino,  S,  P03013"]
["DRAŠKOVIČ Božidar,  RS,  P02140"]
["DVANAJŠČEK Dare,  RS,  P01891"]
["FAJDIGA Petra,  RS,  P03083"]
["FIJAUŽ Peter,  RS,  P02121"]
["FRAGIACOMO Branka,  RS,  P02112"]
["FRANČESKI Tadej,  S,  P03085"]
["FRANK Aljoša,  DS,  P00132"]
["FRANK Martin,  S,  P03086"]
["FRAS Bojan,  S,  P03024"]
["FROLICH Stanislav,  RS,  P02145"]
["GAJŠEK Alojz,  S,  P03091"]
["GAJŠEK Štefan,  S,  P03094"]
["GLAVAN Žiga,  S,  P03061"]
["GOJKOŠEK Žan,  RS,  P02073"]
["GOLOB Andreja,  DS,  P02007"]
["GOLOB Enea,  DS,  P02017"]
["GOLOB Peter ml,  DS,  P02011"]
["GONDA Rok,  S,  P03039"]
["GORIŠEK Boris,  RS,  P02043"]
["GRADIŠER Nejc,  S,  P03022"]
["GRANDIČ Dejan,  DS,  P00133"]
["GRIL Boštjan,  RS,  P00063"]
["GRLEC Drago,  RS,  P00287"]
["GRMEK Klemen,  S,  P03066"]
["GRUDNIK Aleksander,  S,  P03042"]
["HABJANIČ Matjaž,  RS,  P00045"]
["HAFNER Gorazd,  S,  P03100"]
["HAJŠEK Mirko,  S,  P03090"]
["HARI Milan,  S,  P03099"]
["HERLAH Roman,  DS,  P00121"]
["HORVAT Tina,  S,  P03071"]
["HRIBAR Marjan,  S,  P03064"]
["HROVAT Primož,  RS,  P02100"]
["HUDALES Martin,  RS,  P01851"]
["HUDOKLIN Srečko,  RS,  P02048"]
["IVANC Rok,  RS,  P02054"]
["JADEK Daniel,  S,  P03096"]
["JAKIČ Janez,  S,  P03074"]
["JANC Aleš Mitja,  RS,  P02085"]
["JANEŽ Herman,  DS,  P00073"]
["JARNI Domen,  S,  P03002"]
["JAZBEC Damijan,  DS,  P02104"]
["JAZBINŠEK Jernej,  DS,  P00061"]
["JELEN Marko,  DS,  P01836"]
["JENKO Peter,  RS,  P02046"]
["JERIČ Boštjan,  RS,  P02131"]
["JEZERŠEK Pavel,  RS,  P02144"]
["JOHANSSON Stellan,  RS,  P02109"]
["JUKIČ Marko,  S,  P03067"]
["JURKOVIČ Mihael,  DS,  P00083"]
["JURMAN Slavko,  S,  P03038"]
["KAJTNA Bojan,  S,  P03037"]
["KALIN Marjan,  RS,  P02044"]
["KALIN Zoja,  S,  P03034"]
["KANDARE Erik,  S,  P03079"]
["KAPLAN Janez,  RS,  P02037"]
["KAPLAN Jože,  S,  P02036"]
["KARDELJ KRESAL Andraž,  S,  P03072"]
["KARDOŠ Branko,  RS,  P02068"]
["KELENC Žan,  DS,  P02003"]
["KEP Stanka,  RS,  P02029"]
["KERLATEC Aljaž,  S,  P03057"]
["KLOPČIČ Damijan,  RS,  P02107"]
["KLOPČIČ Nejc,  RS,  P02105"]
["KMETEC Gregor,  DS,  P02008"]
["KNEZ Beno,  DS,  P00047"]
["KNEŽEVIČ Uroš,  RS,  P01939"]
["KOLAR Anton,  RS,  P02063"]
["KOLMAN Mojca,  S,  P03076"]
["KONJEVIĆ Miloš,  RS,  P02108"]
["KOPINJA Jože,  DS,  P02006"]
["KOREN Tim,  S,  P03007"]
["KORITNIK Gregor,  S,  P03049"]
["KOS Draga,  DS,  P00066"]
["KOSI Mladen,  DS,  P01962"]
["KOSTANJEVEC  Zlatko,  DS,  P00055"]
["KOŠIR Aleš,  DS,  P01871"]
["KOŠIR Branko,  DS,  P00174"]
["KOŠIR Timotej,  RS,  P02083"]
["KOVAČ Blaž,  S,  P03101"]
["KOVAČ Ladislav,  S,  P03050"]
["KOVAČ Uroš,  RS,  P02045"]
["KOVČAN Bogdan,  S,  P03030"]
["KRALJ HRIBERŠEK Sara,  RS,  P02089"]
["KRIVEC Matic,  RS,  P02101"]
["KRIŽANIČ Toni,  DS,  P00034"]
["KUČIČ Krištof,  DS,  P01977"]
["KUFNER Valerija,  RS,  P02042"]
["KUHAR Gregor,  RS,  P02118"]
["KUZMIČ Eva,  S,  P03063"]
["LAMPREHT  Bojan,  DS,  P00160"]
["LAZAR Diego,  RS,  P02066"]
["LESAR Anton,  DS,  P01964"]
["LESKOVAR Iztok,  RS,  P03021"]
["LOGAR Zala,  S,  P03043"]
["LOVENJAK Štefan,  S,  P03098"]
["LUBEJ Anton,  S,  P00062"]
["LUKIĆ Luka,  S,  P03058"]
["LUNDER Roman,  RS,  P02028"]
["MAČEK Saška ,  S,  P03035"]
["MAHMUTOVIĆ Lejla,  S,  P03052"]
["MAJERLE Miha,  RS,  P02099"]
["MAKADI Katalin,  S,  P03078"]
["MAKARI Igor,  DS,  P02004"]
["MARKELJ Franci,  RS,  P01909"]
["MARKELJ Vesna,  RS,  P02081"]
["MAROT Matic,  RS,  P02041"]
["MATEK Dejan,  S,  P03031"]
["MATEK Nik,  S,  P03033"]
["MAUČEC  Jože,  RS,  P01933"]
["MAUČEC Avguštin,  S,  P03003"]
["MAUČEC Gregor,  DS,  P01935"]
["MAUČEC Uroš,  S,  P03006"]
["MEKŠE Urban,  S,  P03032"]
["MELE Vesna,  DS,  P01927"]
["MEMON Martin,  S,  P03087"]
["MENCINGER Robert,  DS,  P00120"]
["MERDANOVIĆ Elvis,  S,  P03036"]
["MOHORKO Matevž,  DS,  P00080"]
["MOHORKO Uroš,  DS,  P02009"]
["MUGERLE Alenka,  DS,  P02027"]
["MUSIĆ Predrag,  S,  P03104"]
["MUŠIČ Eva,  S,  P03059"]
["NABERGOJ Gašper,  DS,  P00862"]
["NAGY Robert,  RS,  P02002"]
["NANUT Brina,  S,  P03088"]
["NOSE Matej,  RS,  P02039"]
["OCVIRK Marjan,  RS,  P02040"]
["OGNJENOVIČ Mirko,  DS,  P02158"]
["OSRAJNIK Janez,  RS,  P02060"]
["PAVLIČ Jasmina,  S,  P03103"]
["PAVLIČ Tomaž,  S,  P03040"]
["PAVLIN Darko,  DS,  P00053"]
["PEČAR Benjamin,  S,  P03089"]
["PEČEČNIK Filip,  S,  P03075"]
["PERNAT Aleš,  S,  P03020"]
["PETEK Boštjan,  S,  P03008"]
["PETEK Branko,  S,  P03073"]
["PETROVIĆ Dragoslav,  S,  P03081"]
["PODGORŠEK Ivan,  S,  P03093"]
["PODLESNIK Blaž,  S,  P03068"]
["PODLESNIK Stanko,  DS,  P00069"]
["POLAJNKO Gregor,  S,  P03009"]
["POTRČ Simon,  RS,  P02057"]
["PRELEC Romana,  DS,  P02023"]
["PRELEC Tomaž,  DS,  P01887"]
["PRIVŠEK Cvetko,  RS,  P02142"]
["PROGAR Franc,  DS,  P00101"]
["PŠAJD Ludvik,  DS,  P00051"]
["RADOSAVLJEVIĆ Peter,  S,  P03082"]
["RANFL Igor,  RS,  P02103"]
["RAŠULA Marko,  S,  P03070"]
["REPIČ Rožle,  RS,  P01870"]
["REPOVŽ Boris,  RS,  P02136"]
["RIBIČ Jože,  DS,  P00090"]
["ROZINA Brigita,  RS,  P01879"]
["ROŽIČ Branko,  RS,  P00170"]
["RUDOLF Benjamina,  DS,  P01910"]
["RUS Milan,  RS,  P02047"]
["SAVIOZZI Renato,  S,  P03029"]
["SEČEN Ernest,  DS,  P00089"]
["SENČAR Rudolf,  S,  P03047"]
["SENČIČ Oskar,  S,  P03026"]
["SERŠA Pavel,  RS,  P02020"]
["SERŠEN Primož,  S,  P03004"]
["SIMIČ George,  DS,  P01934"]
["SKUBIC Uroš,  S,  P03102"]
["SLADIČ Polonca,  DS,  P02159"]
["SLANIČ Davorin,  DS,  P01890"]
["SLANŠEK Bogdan,  RS,  P02141"]
["SLATINEK Viktor,  RS,  P01835"]
["SLEPEC Boštjan,  S,  P03014"]
["SOVDAT Edi,  DS,  P00159"]
["SREŠ Sonja,  DS,  P01980"]
["STANIČ Andrej,  RS,  P00041"]
["STOJAN Martin,  S,  P03095"]
["STOŠIČ Maša,  S,  P03023"]
["STOŠIČ Mile,  DS,  P02012"]
["STRAKUŠEK  Vesna,  DS,  P00115"]
["STRAKUŠEK Hana,  S,  P03045"]
["STRAKUŠEK Martin,  DS,  P00596"]
["STROPNIK Dejan,  DS,  P00128"]
["SULJIČ Sabina,  RS,  P02088"]
["SVETELŠEK Marko,  S,  P03092"]
["ŠINKO Irena,  RS,  P01866"]
["ŠIRONIK Domen,  RS,  P02074"]
["ŠOPER Bojan,  RS,  P02134"]
["ŠOPER Janez,  RS,  P02135"]
["ŠTAMAN Vasja,  DS,  P01963"]
["ŠTIFTAR Jurij,  DS,  P00171"]
["TATLIČ Nermin ,  S,  P03048"]
["TEKAVČIČ Andraž,  DS,  P00052"]
["TKALEC Peter,  RS,  P02143"]
["TOMAŽIČ Žan,  S,  P03010"]
["UDOVIČ Gorazd,  DS,  P00086"]
["UGRIN David,  DS,  P00141"]
["UHAN Blaž,  RS,  P02052"]
["UHAN Nejc,  RS,  P02049"]
["UNTERLEHNER Ivan,  S,  P03017"]
["URH Vladimir,  RS,  P02033"]
["VALANT Igor,  DS,  P00076"]
["VALANT Tilen,  DS,  P00064"]
["VERBANČIČ Denis,  RS,  P00622"]
["VERNIK Darko,  DS,  P00046"]
["VERNIK Milan,  DS,  P00082"]
["VIDMAR Karli,  DS,  P02065"]
["VIDMAR Samo Alain,  RS,  P02053"]
["VIDMAR Stanko,  RS,  P02092"]
["VINKO Kristjan,  S,  P03062"]
["VOGRINČIČ Bianka,  RS,  P02001"]
["VOGRINEC Alojz,  DS,  P00035"]
["VRABIČ Tomaž,  DS,  P00065"]
["VRHUNC Luka,  RS,  P02098"]
["VUK Tilen,  RS,  P02076"]
["ZORE Anže,  DS,  P01867"]
["ZORE Franc,  RS,  P01968"]
["ZUPANC Drago,  S,  P03051"]
["ZUPANČIČ Miran,  DS,  P00103"]
["ŽALIK Avgust,  RS,  P01932"]
["ŽAVSKI Stanislav,  S,  P03097"]
["ŽIBRET Klara,  S,  P03044"]
["ŽLEBNIK Damjan,  S,  P03060"]
["ŽNIDARIČ Nuša,  RS,  P02079"]
["VIDMAR Boštjan,  RS,  P02062"]

{"sheet":"clanice","index":9,"n_rows":119,"n_cols":1,"rows_kept":119,"cut":false,"hidden":true,"merged":[]}
["Izberite iz seznama"]
["Strelsko društvo SLOVENSKE KONJICE, Slovenske Konjice"]
["Strelsko društvo DOLIČ, Mislinja"]
["Strelsko društvo LJUBO ŠERCER, Ljubljana"]
["Klub za praktično streljanje BURJA Bač, Pivka"]
["Strelski klub BREŽICE, Brežice"]
["Strelsko društvo JOŽETA MIHEVCA IDRIJA, Idrija"]
["Strelski klub IZOLA, Izola"]
["Strelska družina KAMNIK, Kamnik"]
["Strelsko društvo TRIGLAV JAVORNIK - KOROŠKA BELA, Koroška Bela"]
["Strelska družina ANKARAN, Ankaran"]
["Strelsko društvo praktičnega streljanja SLOVENSKA BISTRICA, Slovenska Bistrica"]
["Občinska strelska zveza Kočevje, Kočevje"]
["Strelsko društvo PREDOSLJE, Kranj"]
["Strelski klub DEVETKA, Maribor"]
["Strelski klub RIBNICA, Ribnica"]
["Strelsko društvo LESKOVEC, Leskovec"]
["Strelsko društvo DUŠAN POŽENEL REČICA PRI LAŠKEM, Rečica pri Laškem"]
["Strelsko društvo FENIX, Maribor"]
["Strelsko društvo CELJSKA ČETA Mala Breza"]
["Strelsko društvo CELJE, Celje"]
["Strelsko društvo ŠMARTNO-LITIJA, Litija"]
["Strelsko društvo TELEKOM, Ljubljana"]
["Strelsko društvo TABOR-JEŽICA, Ljubljana"]
["Strelsko društvo POETOVIO,  Ptuj"]
["Strelsko društvo OLIMPIJA, Ljubljana"]
["Strelsko društvo trap ŠTEFAN KOVAČ MURSKA SOBOTA, Murska Sobota"]
["Strelsko društvo Rudar Presika, Ljutomer"]
["Strelsko društvo GORJANCI, Novo Mesto"]
["Strelski klub MORIS - KOČEVSKA REKA - KOČEVJE, Kočevska Reka"]
["Strelsko društvo trap ORMOŽ, Ormož"]
["Strelski klub MARIBOR, Maribor"]
["Strelsko društvo MESTO LJUTOMER, Ljutomer"]
["Strelsko društvo \"KOLOMAN FLISAR\" TIŠINA, Tišina"]
["Športno strelsko društvo MURSKA SOBOTA, Murska Sobota"]
["Strelsko društvo Trap Kungota, Kungota"]
["Strelsko društvo KOBRA LAŠKO, Laško"]
["Strelsko društvo ŠTEFAN KOVAČ TURNIŠČE, Turnišče"]
["Strelsko društvo ELEKTRO MARIBOR, Maribor"]
["Strelsko društvo FRANC LEŠNIK VUK HOTINJA VAS, Hotinja vas"]
["Strelsko društvo I. POHORSKI BATALJON RUŠE, Ruše"]
["Strelski klub KUNŠPERK, Bistrica ob Sotli"]
["Strelsko društvo JOŽE KERENČIČ MIKLAVŽ, Miklavž"]
["Strelsko društvo Fram"]
["Strelsko društvo SVEČINA, Zgornja Kungota"]
["Cerkniško društvo strelk in strelcev,  Cerknica"]
["Strelsko društvo SALONIT ANHOVO, Deskle"]
["Strelsko društvo KOVINAR ORMOŽ, Ormož"]
["Strelsko društvo \"SREDIŠČE\" SREDIŠČE OB DRAVI, Središče ob Dravi"]
["Strelsko društvo TOVARNE SLADKORJA ORMOŽ, Ormož"]
["Strelsko društvo IX. KORPUSA PIRAN, Piran"]
["Strelsko društvo PORTOROŽ, Portorož"]
["Strelsko društvo POSTOJNA, Postojna"]
["Združenje slovenskih častnikov Trbovlje"]
["Strelski klub PTUJ, Ptuj"]
["Strelsko društvo RADOVLJICA, Radovljica"]
["Občinsko združenje slovenskih častnikov Hrastnik, Hrastnik"]
["Strelsko društvo SOIT, Medvode"]
["Strelsko društvo IMPOL SLOVENSKA BISTRICA, Slovenska Bistrica"]
["Društvo za taktično streljanje Laško"]
["Lovska zveza Koper"]
["Strelsko društvo KALIBER, Fokovci"]
["Strelsko društvo MAROK SEVNICA, Sevnica"]
["Športno društvo ČRENŠOVCI, Črenšovci"]
["Strelski športni klub TOLMIN, Tolmin"]
["Strelsko društvo 1956 TRBOVLJE, Trbovlje"]
["ŠPORTNO REKREATIVNO DRUŠTVO BREZA,  Straža"]
["Strelsko društvo MROŽ VELENJE, Velenje"]
["Strelsko društvo \"JEZERO\" DOBROVNIK, Dobrovnik"]
["Strelsko društvo VRHNIKA, Vrhnika"]
["Strelsko društvo DOMŽALE, Domžale"]
["Strelsko društvo VREMŠČICA VREMSKI BRITOF, Famlje"]
["Športno strelski klub COAL PETIŠOVCI, Petišovci"]
["Strelsko društvo TRZIN, Trzin"]
["ŠPORTNO STRELSKO DRUŠTVO BURJA, Vipava"]
["Strelsko društvo KISOVEC, Zagorje"]
["Strelsko društvo LIBOJE, Petrovče"]
["Strelsko društvo PROARMIS"]
["Športno društvo Pohorski odred Maribor"]
["Območno združenje Slovenskih Častnikov Jesenice-Kranjska Gora"]
["Strelsko društvo ŠKOFJA LOKA, Škofja Loka"]
["Športno strelsko društvo RADGONA, Gornja Radgona"]
["Strelsko društvo JANKO JURKOVIČ VIDEM, Sveti Jurij ob Ščavnici"]
["Strelsko društvo GROSUPLJE, Grosuplje"]
["Strelsko društvo KOVINAR ŠTORE, Štore"]
["Strelsko društvo GANČANI, Beltinci"]
["Strelsko društvo KOVINOPLASTIKA LOŽ, Stari trg pri Ložu"]
["Strelsko društvo JOŽE KOVAČIČ ŠENTVID PRI STIČNI, Šentvid pri Stični"]
["Strelsko društvo SONJA VESEL IVANČNA GORICA, Ivančna Gorica"]
["Strelsko društvo RUDNIK HRASTNIK, Hrastnik"]
["Strelsko društvo POHORSKI BATALJON OPLOTNICA"]
["Strelsko društvo 4. JUNIJ ILIRSKA BISTRICA, Ilirska Bistrica"]
["Strelsko društvo PREDDVOR, Preddvor"]
["Strelsko društvo LENDAVA, Lendava"]
["Strelsko društvo TREBNJE, Trebnje"]
["Strelsko društvo GRANIČAR  Cankova"]
["Strelsko društvo KIDRIČEVO, Kidričevo"]
["Strelska družina VELKA, Zgornja Velka"]
["Strelsko društvo SAGITTARIUS, Novo mesto"]
["Strelsko društvo SEBEBORCI, Martanjci"]
["Strelsko društvo JURŠINCI, Juršinci"]
["Trap klub ILIRSKA BISTRICA, Ilirska Bistrica"]
["Strelsko društvo SVOBODA SEŽANA, Sežana"]
["Trap klub BRDA, Goriška Brda"]
["\"Trap\" strelski klub ZLD GORICA, Nova Gorica"]
["Strelsko društvo Radlje od Dravi"]
["Strelsko društvo ŽALEC, Žalec"]
["Strelsko društvo \"PANOVEC\", Nova Gorica"]
["Strelsko društvo OKROGAR SKVARČA, Zagorje ob Savi"]
["Strelsko društvo RUDAR GLOBOKO, Globoko"]
["Strelsko društvo GORENJA VAS, Gorenja vas"]
["Strelsko društvo \"KATJA\" TOMAŽ, Sveti Tomaž"]
["Strelsko društvo Lotrič ŽELEZNIKI, Železniki"]
["Športno društvo ZPE, Ljubljana"]
["Strelsko društvo POLICIST, Maribor"]
["Strelsko društvo SLOVENJ GRADEC, Slovenj Gradec"]
["Strelsko društvo BUKOVEC DOBREPOLJE, Videm-Dobrepolje"]
["Strelsko društvo POHORJE VITANJE, Vitanje"]
["Strelsko društvo VETERAN MARIBOR, Maribor"]